BEGIN:VCALENDAR
VERSION:2.0
PRODID:icalendar-ruby
CALSCALE:GREGORIAN
BEGIN:VTIMEZONE
TZID:America/New_York
BEGIN:DAYLIGHT
DTSTART:20260308T030000
TZOFFSETFROM:-0500
TZOFFSETTO:-0400
RRULE:FREQ=YEARLY;BYDAY=2SU;BYMONTH=3
TZNAME:EDT
END:DAYLIGHT
BEGIN:STANDARD
DTSTART:20261101T010000
TZOFFSETFROM:-0400
TZOFFSETTO:-0500
RRULE:FREQ=YEARLY;BYDAY=1SU;BYMONTH=11
TZNAME:EST
END:STANDARD
END:VTIMEZONE
BEGIN:VEVENT
DTSTAMP:20260419T180914Z
UID:afe3de83-2955-4cec-a2c8-d52e533900f1
DTSTART;VALUE=DATE:20260421
DTEND;VALUE=DATE:20260422
DESCRIPTION:
LOCATION:
SUMMARY:State Testing: 5th Grade Science Part 1 
END:VEVENT
BEGIN:VEVENT
DTSTAMP:20260419T180914Z
UID:4abb6424-4559-44dc-b27f-173ccbb13ef6
DTSTART;VALUE=DATE:20260422
DTEND;VALUE=DATE:20260423
DESCRIPTION:
LOCATION:
SUMMARY:State Testing: 5th Grade Science Part 2
END:VEVENT
BEGIN:VEVENT
DTSTAMP:20260419T180914Z
UID:63060061-013d-4b9f-8de9-042e92b3d0e4
DTSTART;VALUE=DATE:20260424
DTEND;VALUE=DATE:20260425
DESCRIPTION:
LOCATION:
SUMMARY:2 Hour Delay
END:VEVENT
BEGIN:VEVENT
DTSTAMP:20260419T180914Z
UID:86d46752-598e-4fcf-8ccc-2d0de5a52663
DTSTART:20260430T170000
DTEND:20260430T200000
DESCRIPTION:
LOCATION:
SUMMARY:PTO: Mom/Son Skating Event at USA Skating Rink
END:VEVENT
BEGIN:VEVENT
DTSTAMP:20260419T180914Z
UID:a8ae292a-27e6-41bd-b6a6-efb30d701476
DTSTART:20260501T141500
DTEND:20260501T144500
DESCRIPTION:
LOCATION:
SUMMARY:Third Grade Music Program
END:VEVENT
BEGIN:VEVENT
DTSTAMP:20260419T180914Z
UID:dfd3aa75-3b60-4530-a298-e36878d3fc40
DTSTART:20260508T141500
DTEND:20260508T144500
DESCRIPTION:
LOCATION:
SUMMARY:Fifth & Sixth Grade Band Concert
END:VEVENT
BEGIN:VEVENT
DTSTAMP:20260419T180914Z
UID:d07513af-cb93-4ae4-bcce-24afac391670
DTSTART:20260513T180000
DTEND:20260513T183000
DESCRIPTION:
LOCATION:
SUMMARY:PTO Meeting - Elementary Cafeteria
END:VEVENT
BEGIN:VEVENT
DTSTAMP:20260419T180914Z
UID:8eddc885-a554-4694-bd83-f7dd47cf8cf1
DTSTART:20260515T141500
DTEND:20260515T144500
DESCRIPTION:
LOCATION:
SUMMARY:Fifth & Sixth Grade Choir Concert
END:VEVENT
BEGIN:VEVENT
DTSTAMP:20260419T180914Z
UID:8f477294-b7b0-490b-b00f-c8f3a5dd165a
DTSTART;VALUE=DATE:20260521
DTEND;VALUE=DATE:20260522
DESCRIPTION:
LOCATION:
SUMMARY:Last Day of School
END:VEVENT
BEGIN:VEVENT
DTSTAMP:20260419T180914Z
UID:3a667567-5c42-40cb-a960-9add9dcaa08e
DTSTART:20260813T170000
DTEND:20260813T190000
DESCRIPTION:
LOCATION:
SUMMARY:Open House: Kindergarten-Sixth Grade
END:VEVENT
BEGIN:VEVENT
DTSTAMP:20260419T180914Z
UID:9f46839f-6b55-4cda-b452-73368bdfc617
DTSTART:20260813T170000
DTEND:20260813T190000
DESCRIPTION:
LOCATION:
SUMMARY:Student School Pictures: Gymnasium 
END:VEVENT
BEGIN:VEVENT
DTSTAMP:20260419T180914Z
UID:eb6b7d67-8060-4e24-81f1-8c9beec174ca
DTSTART:20260814T083000
DTEND:20260814T150000
DESCRIPTION:
LOCATION:
SUMMARY:Student School Pictures: Gymnasium 
END:VEVENT
BEGIN:VEVENT
DTSTAMP:20260419T180914Z
UID:7d229562-4c8e-41f1-857e-d3a5c00cf02d
DTSTART:20260814T090000
DTEND:20260814T093000
DESCRIPTION:
LOCATION:
SUMMARY:Preschool Orientation: AM Students
END:VEVENT
BEGIN:VEVENT
DTSTAMP:20260419T180914Z
UID:736b377e-9429-49e3-8c82-1b0f65ee3f47
DTSTART:20260814T130000
DTEND:20260814T133000
DESCRIPTION:
LOCATION:
SUMMARY:Preschool Orientation: PM Students
END:VEVENT
BEGIN:VEVENT
DTSTAMP:20260419T180914Z
UID:5327604e-3a9a-4f32-a0d9-cfaad8cb0b46
DTSTART;VALUE=DATE:20260818
DTEND;VALUE=DATE:20260819
DESCRIPTION:
LOCATION:
SUMMARY:First Day Of School
END:VEVENT
BEGIN:VEVENT
DTSTAMP:20260419T180914Z
UID:a814740b-f625-4830-8732-72e8cc35c3f4
DTSTART;VALUE=DATE:20260907
DTEND;VALUE=DATE:20260908
DESCRIPTION:
LOCATION:
SUMMARY:No School - Labor Day
END:VEVENT
BEGIN:VEVENT
DTSTAMP:20260419T180914Z
UID:ed212366-5b7b-4720-ab39-843178a65ab1
DTSTART;VALUE=DATE:20260918
DTEND;VALUE=DATE:20260919
DESCRIPTION:
LOCATION:
SUMMARY:Two Hour Early Release for Students
END:VEVENT
BEGIN:VEVENT
DTSTAMP:20260419T180914Z
UID:fffb3536-9e60-4e1b-bae8-93b6306e7209
DTSTART;VALUE=DATE:20260928
DTEND;VALUE=DATE:20260929
DESCRIPTION:
LOCATION:
SUMMARY:Picture Retake Day
END:VEVENT
BEGIN:VEVENT
DTSTAMP:20260419T180914Z
UID:2905ec53-500b-43e2-a4f2-f09dd8293a18
DTSTART;VALUE=DATE:20261019
DTEND;VALUE=DATE:20261020
DESCRIPTION:
LOCATION:
SUMMARY:No School 
END:VEVENT
BEGIN:VEVENT
DTSTAMP:20260419T180914Z
UID:20f0a05d-a5c9-4ead-b72a-23c7b592abec
DTSTART;VALUE=DATE:20261026
DTEND;VALUE=DATE:20261027
DESCRIPTION:
LOCATION:
SUMMARY:Two Hour Late Arrival for Students
END:VEVENT
BEGIN:VEVENT
DTSTAMP:20260419T180914Z
UID:d61c78e1-4bb6-40f1-8e37-be5633d84415
DTSTART;VALUE=DATE:20261123
DTEND;VALUE=DATE:20261124
DESCRIPTION:
LOCATION:
SUMMARY:No School - Teacher PD
END:VEVENT
BEGIN:VEVENT
DTSTAMP:20260419T180914Z
UID:69398faa-869b-4d29-b315-ae7b1965aaa5
DTSTART;VALUE=DATE:20261124
DTEND;VALUE=DATE:20261125
DESCRIPTION:
LOCATION:
SUMMARY:No School - Teacher PD
END:VEVENT
BEGIN:VEVENT
DTSTAMP:20260419T180914Z
UID:19e3aee8-ffd9-4466-98ee-fd0e8cd2048b
DTSTART;VALUE=DATE:20261125
DTEND;VALUE=DATE:20261126
DESCRIPTION:
LOCATION:
SUMMARY:No School - Thanksgiving Break
END:VEVENT
BEGIN:VEVENT
DTSTAMP:20260419T180914Z
UID:733738b2-0c33-45f3-b0ef-cadb24af2817
DTSTART;VALUE=DATE:20261126
DTEND;VALUE=DATE:20261127
DESCRIPTION:
LOCATION:
SUMMARY:No School - Thanksgiving Break
END:VEVENT
BEGIN:VEVENT
DTSTAMP:20260419T180914Z
UID:67e0897d-eb2d-491b-86d1-911aa258b413
DTSTART;VALUE=DATE:20261127
DTEND;VALUE=DATE:20261128
DESCRIPTION:
LOCATION:
SUMMARY:No School - Thanksgiving Break
END:VEVENT
BEGIN:VEVENT
DTSTAMP:20260419T180914Z
UID:a628b6ef-ac91-46cb-984d-3785add524e8
DTSTART;VALUE=DATE:20261218
DTEND;VALUE=DATE:20261219
DESCRIPTION:
LOCATION:
SUMMARY:Two Hour Early Release for Students
END:VEVENT
BEGIN:VEVENT
DTSTAMP:20260419T180914Z
UID:4df30686-121d-4e4c-b7e8-13b5e952f559
DTSTART;VALUE=DATE:20261221
DTEND;VALUE=DATE:20261222
DESCRIPTION:
LOCATION:
SUMMARY:No School - Winter Break
END:VEVENT
BEGIN:VEVENT
DTSTAMP:20260419T180914Z
UID:46371760-7aa2-4e1f-8a8e-8114299fa39b
DTSTART;VALUE=DATE:20261222
DTEND;VALUE=DATE:20261223
DESCRIPTION:
LOCATION:
SUMMARY:No School - Winter Break
END:VEVENT
BEGIN:VEVENT
DTSTAMP:20260419T180914Z
UID:57ca7574-8337-476f-8264-89075eb19c97
DTSTART;VALUE=DATE:20261223
DTEND;VALUE=DATE:20261224
DESCRIPTION:
LOCATION:
SUMMARY:No School - Winter Break
END:VEVENT
BEGIN:VEVENT
DTSTAMP:20260419T180914Z
UID:0def79dc-b6de-4c44-b9e0-9834dee018e0
DTSTART;VALUE=DATE:20261224
DTEND;VALUE=DATE:20261225
DESCRIPTION:
LOCATION:
SUMMARY:No School - Winter Break
END:VEVENT
BEGIN:VEVENT
DTSTAMP:20260419T180914Z
UID:fe8fad6f-1460-4575-9182-f7662bfb446d
DTSTART;VALUE=DATE:20261225
DTEND;VALUE=DATE:20261226
DESCRIPTION:
LOCATION:
SUMMARY:No School - Winter Break
END:VEVENT
BEGIN:VEVENT
DTSTAMP:20260419T180914Z
UID:a127735d-cdad-4ab5-94d7-97d36571aa72
DTSTART;VALUE=DATE:20261228
DTEND;VALUE=DATE:20261229
DESCRIPTION:
LOCATION:
SUMMARY:No School - Winter Break
END:VEVENT
BEGIN:VEVENT
DTSTAMP:20260419T180914Z
UID:cb76fac9-5996-41c3-8fb5-df57546be75d
DTSTART;VALUE=DATE:20261229
DTEND;VALUE=DATE:20261230
DESCRIPTION:
LOCATION:
SUMMARY:No School - Winter Break
END:VEVENT
BEGIN:VEVENT
DTSTAMP:20260419T180914Z
UID:7a6a6f01-88ee-48b8-8e16-9f63585a7d91
DTSTART;VALUE=DATE:20261230
DTEND;VALUE=DATE:20261231
DESCRIPTION:
LOCATION:
SUMMARY:No School - Winter Break
END:VEVENT
BEGIN:VEVENT
DTSTAMP:20260419T180914Z
UID:3ec1868a-e0c2-4742-a190-8a95e224b195
DTSTART;VALUE=DATE:20261231
DTEND;VALUE=DATE:20270101
DESCRIPTION:
LOCATION:
SUMMARY:No School - Winter Break
END:VEVENT
BEGIN:VEVENT
DTSTAMP:20260419T180914Z
UID:f6c879f7-e9d3-4607-9209-1ab4f8be96e5
DTSTART;VALUE=DATE:20270101
DTEND;VALUE=DATE:20270102
DESCRIPTION:
LOCATION:
SUMMARY:No School - Winter Break
END:VEVENT
BEGIN:VEVENT
DTSTAMP:20260419T180914Z
UID:a10c3279-26c7-4a9a-bc5f-a29e2069981b
DTSTART;VALUE=DATE:20270115
DTEND;VALUE=DATE:20270116
DESCRIPTION:
LOCATION:
SUMMARY:No School - Teacher PD
END:VEVENT
BEGIN:VEVENT
DTSTAMP:20260419T180914Z
UID:716b19a1-a079-4a32-a523-8c08b5b99dc8
DTSTART;VALUE=DATE:20270118
DTEND;VALUE=DATE:20270119
DESCRIPTION:
LOCATION:
SUMMARY:No School - MLK Jr. Day
END:VEVENT
BEGIN:VEVENT
DTSTAMP:20260419T180914Z
UID:d75b5c48-4e2a-4585-9d30-9f78a35f76be
DTSTART;VALUE=DATE:20270212
DTEND;VALUE=DATE:20270213
DESCRIPTION:
LOCATION:
SUMMARY:No School - Teacher PD
END:VEVENT
BEGIN:VEVENT
DTSTAMP:20260419T180914Z
UID:f5a22af1-f424-4588-a685-de95c4c4f212
DTSTART;VALUE=DATE:20270215
DTEND;VALUE=DATE:20270216
DESCRIPTION:
LOCATION:
SUMMARY:No School - Presidents' Day
END:VEVENT
BEGIN:VEVENT
DTSTAMP:20260419T180914Z
UID:c4bc4790-eef5-4940-a5ff-fe6dcca819ca
DTSTART;VALUE=DATE:20270222
DTEND;VALUE=DATE:20270223
DESCRIPTION:
LOCATION:
SUMMARY:Two Hour Late Arrival for Students
END:VEVENT
BEGIN:VEVENT
DTSTAMP:20260419T180914Z
UID:4be67391-71ad-4f28-aa66-9cb67e9e8008
DTSTART;VALUE=DATE:20270311
DTEND;VALUE=DATE:20270312
DESCRIPTION:
LOCATION:
SUMMARY:Spring Picture Day
END:VEVENT
BEGIN:VEVENT
DTSTAMP:20260419T180914Z
UID:a94403de-936b-4b69-8b17-da2ece9ddf56
DTSTART;VALUE=DATE:20270322
DTEND;VALUE=DATE:20270323
DESCRIPTION:
LOCATION:
SUMMARY:No School - Spring Break
END:VEVENT
BEGIN:VEVENT
DTSTAMP:20260419T180914Z
UID:dda8b1c6-f7bb-432b-b2e2-701d84a8923a
DTSTART;VALUE=DATE:20270323
DTEND;VALUE=DATE:20270324
DESCRIPTION:
LOCATION:
SUMMARY:No School - Spring Break
END:VEVENT
BEGIN:VEVENT
DTSTAMP:20260419T180914Z
UID:23021a53-4e8e-4298-8c48-a42373aeda2f
DTSTART;VALUE=DATE:20270324
DTEND;VALUE=DATE:20270325
DESCRIPTION:
LOCATION:
SUMMARY:No School - Spring Break
END:VEVENT
BEGIN:VEVENT
DTSTAMP:20260419T180914Z
UID:5df4a55b-bab2-4c49-83e7-361c0370f8e6
DTSTART;VALUE=DATE:20270325
DTEND;VALUE=DATE:20270326
DESCRIPTION:
LOCATION:
SUMMARY:No School - Spring Break
END:VEVENT
BEGIN:VEVENT
DTSTAMP:20260419T180914Z
UID:67ee4283-b5a4-4996-ac16-3715438175f5
DTSTART;VALUE=DATE:20270326
DTEND;VALUE=DATE:20270327
DESCRIPTION:
LOCATION:
SUMMARY:No School - Spring Break
END:VEVENT
BEGIN:VEVENT
DTSTAMP:20260419T180914Z
UID:9d91ebce-14bf-41dc-ac88-3896e2fc81f6
DTSTART;VALUE=DATE:20270423
DTEND;VALUE=DATE:20270424
DESCRIPTION:
LOCATION:
SUMMARY:Two Hour Late Arrival for Students
END:VEVENT
BEGIN:VEVENT
DTSTAMP:20260419T180914Z
UID:25e4eed2-474e-46b0-ba1e-7cba4e79527e
DTSTART;VALUE=DATE:20270521
DTEND;VALUE=DATE:20270522
DESCRIPTION:
LOCATION:
SUMMARY:Last Day of School
END:VEVENT
END:VCALENDAR
