BEGIN:VCALENDAR
VERSION:2.0
PRODID:icalendar-ruby
CALSCALE:GREGORIAN
BEGIN:VTIMEZONE
TZID:America/New_York
BEGIN:DAYLIGHT
DTSTART:20260308T030000
TZOFFSETFROM:-0500
TZOFFSETTO:-0400
RRULE:FREQ=YEARLY;BYDAY=2SU;BYMONTH=3
TZNAME:EDT
END:DAYLIGHT
BEGIN:STANDARD
DTSTART:20261101T010000
TZOFFSETFROM:-0400
TZOFFSETTO:-0500
RRULE:FREQ=YEARLY;BYDAY=1SU;BYMONTH=11
TZNAME:EST
END:STANDARD
END:VTIMEZONE
BEGIN:VEVENT
DTSTAMP:20260419T131936Z
UID:235831a6-fe37-445a-a547-40d32b6c5d34
DTSTART;VALUE=DATE:20260421
DTEND;VALUE=DATE:20260422
DESCRIPTION:
LOCATION:
SUMMARY:8th Grade Science\, American History\, and Government State Testing
END:VEVENT
BEGIN:VEVENT
DTSTAMP:20260419T131936Z
UID:031a751d-1a2d-4d5a-bd6c-4216a172c5bc
DTSTART;VALUE=DATE:20260423
DTEND;VALUE=DATE:20260424
DESCRIPTION:
LOCATION:
SUMMARY:8th Grade Science\, American History\, and Government State Testing
END:VEVENT
BEGIN:VEVENT
DTSTAMP:20260419T131936Z
UID:773ec0c6-7631-4157-af9f-7e5a20c4961e
DTSTART;VALUE=DATE:20260423
DTEND;VALUE=DATE:20260424
DESCRIPTION:
LOCATION:
SUMMARY:HS Jan VanGorder Banquet
END:VEVENT
BEGIN:VEVENT
DTSTAMP:20260419T131936Z
UID:faff46aa-c557-4f85-b55f-5ae2cfa5f03f
DTSTART;VALUE=DATE:20260424
DTEND;VALUE=DATE:20260425
DESCRIPTION:
LOCATION:
SUMMARY:Two Hour Late Arrival for Students
END:VEVENT
BEGIN:VEVENT
DTSTAMP:20260419T131936Z
UID:5e6f479b-e5a4-4658-a341-112532032046
DTSTART;VALUE=DATE:20260425
DTEND;VALUE=DATE:20260426
DESCRIPTION:
LOCATION:
SUMMARY:Prom
END:VEVENT
BEGIN:VEVENT
DTSTAMP:20260419T131936Z
UID:2b59e739-bfd0-4e63-89e1-879bcb33a53e
DTSTART;VALUE=DATE:20260428
DTEND;VALUE=DATE:20260429
DESCRIPTION:
LOCATION:
SUMMARY:Algebra 1 and Geometry State Testing
END:VEVENT
BEGIN:VEVENT
DTSTAMP:20260419T131936Z
UID:7b119e4f-a46b-4b39-9d4f-61eacf8503a5
DTSTART;VALUE=DATE:20260430
DTEND;VALUE=DATE:20260501
DESCRIPTION:
LOCATION:
SUMMARY:Algebra 1 and Geometry State Testing
END:VEVENT
BEGIN:VEVENT
DTSTAMP:20260419T131936Z
UID:ac8311df-9396-4d46-907d-c2cc9f81aebf
DTSTART;VALUE=DATE:20260508
DTEND;VALUE=DATE:20260509
DESCRIPTION:
LOCATION:
SUMMARY:CBC Cup
END:VEVENT
BEGIN:VEVENT
DTSTAMP:20260419T131936Z
UID:f8804d95-669c-4fc6-8b65-1d80bfc15049
DTSTART:20260508T074500
DTEND:20260508T093000
DESCRIPTION:
LOCATION:
SUMMARY:JH Blue Ribbon Breakfast and Awards (7:45 AM)
END:VEVENT
BEGIN:VEVENT
DTSTAMP:20260419T131936Z
UID:94738893-175b-401e-a65e-f89a76ad5d41
DTSTART:20260515T080000
DTEND:20260515T090000
DESCRIPTION:
LOCATION:
SUMMARY:HS Awards  (8:00 AM)
END:VEVENT
BEGIN:VEVENT
DTSTAMP:20260419T131936Z
UID:cf8299a6-bdbf-4fdb-bf9c-ead228267ffd
DTSTART:20260515T090000
DTEND:20260515T141500
DESCRIPTION:
LOCATION:
SUMMARY:HS PBIS Day (9:00 AM)
END:VEVENT
BEGIN:VEVENT
DTSTAMP:20260419T131936Z
UID:2fe87d57-87af-4e6d-9700-cb56350dfd40
DTSTART:20260515T090000
DTEND:20260515T141500
DESCRIPTION:
LOCATION:
SUMMARY:JH Quarterly Rewards (9:00 AM)
END:VEVENT
BEGIN:VEVENT
DTSTAMP:20260419T131936Z
UID:4ba281c3-95e8-482b-95b1-35df94d002d2
DTSTART;VALUE=DATE:20260521
DTEND;VALUE=DATE:20260522
DESCRIPTION:
LOCATION:
SUMMARY:Students' Last Day of School
END:VEVENT
BEGIN:VEVENT
DTSTAMP:20260419T131936Z
UID:8ca61eba-95f5-4ab0-8bb7-3888d2ac2f64
DTSTART:20260529T090000
DTEND:20260529T120000
DESCRIPTION:
LOCATION:
SUMMARY:Senior Breakfast (9:00 AM) and Graduation Practice
END:VEVENT
BEGIN:VEVENT
DTSTAMP:20260419T131936Z
UID:583cbcb2-43d9-4e99-a0e7-a0f33ea47632
DTSTART:20260529T190000
DTEND:20260529T203000
DESCRIPTION:
LOCATION:
SUMMARY:Graduation (7:00 PM)
END:VEVENT
END:VCALENDAR
