BEGIN:VCALENDAR
VERSION:2.0
PRODID:icalendar-ruby
CALSCALE:GREGORIAN
BEGIN:VTIMEZONE
TZID:America/New_York
BEGIN:DAYLIGHT
DTSTART:20260308T030000
TZOFFSETFROM:-0500
TZOFFSETTO:-0400
RRULE:FREQ=YEARLY;BYDAY=2SU;BYMONTH=3
TZNAME:EDT
END:DAYLIGHT
BEGIN:STANDARD
DTSTART:20261101T010000
TZOFFSETFROM:-0400
TZOFFSETTO:-0500
RRULE:FREQ=YEARLY;BYDAY=1SU;BYMONTH=11
TZNAME:EST
END:STANDARD
END:VTIMEZONE
BEGIN:VEVENT
DTSTAMP:20260421T162812Z
UID:db0a499a-ee2e-46c7-ae23-2581f64e1ac3
DTSTART:20260421T153000
DTEND:20260421T163000
DESCRIPTION:
LOCATION:
SUMMARY:National Honor Society Meeting
END:VEVENT
BEGIN:VEVENT
DTSTAMP:20260421T162812Z
UID:99c30460-28e7-4825-b346-f6a73a9138bc
DTSTART:20260421T170000
DTEND:20260421T200000
DESCRIPTION:
LOCATION:
SUMMARY:Tennis  @ Clinton
END:VEVENT
BEGIN:VEVENT
DTSTAMP:20260421T162812Z
UID:141bedca-d194-4f18-9d2b-eea0dd68d577
DTSTART:20260421T173000
DTEND:20260421T203000
DESCRIPTION:
LOCATION:
SUMMARY:Girls Soccer @ NHS vs. Keenan
END:VEVENT
BEGIN:VEVENT
DTSTAMP:20260421T162812Z
UID:66058d6e-7f85-4c3a-93ef-206d6edea273
DTSTART:20260421T191500
DTEND:20260421T201500
DESCRIPTION:
LOCATION:
SUMMARY:Boys Soccer @ NHS vs. Keenan
END:VEVENT
BEGIN:VEVENT
DTSTAMP:20260421T162812Z
UID:9da523c6-a1c3-47bd-bbf4-d7741a45d21f
DTSTART:20260422T170000
DTEND:20260422T200000
DESCRIPTION:
LOCATION:
SUMMARY:Tennis @ MCHS  vs. ALA
END:VEVENT
BEGIN:VEVENT
DTSTAMP:20260421T162812Z
UID:be7c64a3-ff69-408d-b202-6b31173c12e6
DTSTART:20260422T173000
DTEND:20260422T203000
DESCRIPTION:
LOCATION:
SUMMARY:Girls Soccer @ NHS vs. Emerald
END:VEVENT
BEGIN:VEVENT
DTSTAMP:20260421T162812Z
UID:40138795-32e0-442e-ae2d-10587ccef88d
DTSTART:20260422T180000
DTEND:20260422T190000
DESCRIPTION:
LOCATION:
SUMMARY:Varsity Baseball @ Fox Creek
END:VEVENT
BEGIN:VEVENT
DTSTAMP:20260421T162812Z
UID:b4f64f24-053b-44fd-b603-3f68c224e526
DTSTART:20260422T190000
DTEND:20260422T203000
DESCRIPTION:
LOCATION:
SUMMARY:Softball @ Fox Creek
END:VEVENT
BEGIN:VEVENT
DTSTAMP:20260421T162812Z
UID:758f90f6-5b20-4cb0-bbf7-b7e50ab70d2a
DTSTART:20260423T083000
DTEND:20260423T110500
DESCRIPTION:
LOCATION:
SUMMARY:Human Library Career Event in Library
END:VEVENT
BEGIN:VEVENT
DTSTAMP:20260421T162812Z
UID:daf4851b-563a-418d-9638-2bab5e702300
DTSTART:20260423T170000
DTEND:20260423T180000
DESCRIPTION:
LOCATION:
SUMMARY:JV Baseball @ Whitmire
END:VEVENT
BEGIN:VEVENT
DTSTAMP:20260421T162812Z
UID:22408c6a-31e6-48b0-b1b1-f6470c4d6a30
DTSTART:20260423T190000
DTEND:20260423T200000
DESCRIPTION:
LOCATION:
SUMMARY:Varsity Baseball @Whitmire
END:VEVENT
BEGIN:VEVENT
DTSTAMP:20260421T162812Z
UID:fe9c270e-03db-4e95-976e-e286dcfd9576
DTSTART:20260424T173000
DTEND:20260424T203000
DESCRIPTION:
LOCATION:
SUMMARY:Boys Soccer @ NHS vs. Swansea
END:VEVENT
BEGIN:VEVENT
DTSTAMP:20260421T162812Z
UID:1f6f9669-bc3e-4045-9f0d-7b443425957b
DTSTART:20260424T173000
DTEND:20260424T203000
DESCRIPTION:
LOCATION:
SUMMARY:Girls Soccer @ Swansea
END:VEVENT
BEGIN:VEVENT
DTSTAMP:20260421T162812Z
UID:ef1f3702-7b83-455b-b243-f46436a457be
DTSTART:20260425T170000
DTEND:20260425T180000
DESCRIPTION:
LOCATION:
SUMMARY:Track @ Swansea
END:VEVENT
BEGIN:VEVENT
DTSTAMP:20260421T162812Z
UID:0af58225-cf07-471e-bfe9-1ee97f20eeb8
DTSTART:20260425T180000
DTEND:20260425T220000
DESCRIPTION:
LOCATION:
SUMMARY:NHS Prom "Arabian Nights"
END:VEVENT
BEGIN:VEVENT
DTSTAMP:20260421T162812Z
UID:969ba370-8912-4576-ac38-89ede28e0e27
DTSTART:20260427T173000
DTEND:20260427T203000
DESCRIPTION:
LOCATION:
SUMMARY:Boys Soccer @ Swansea
END:VEVENT
BEGIN:VEVENT
DTSTAMP:20260421T162812Z
UID:688a7d1a-3ab6-45da-b45f-0867d99a2ffa
DTSTART:20260427T173000
DTEND:20260427T203000
DESCRIPTION:
LOCATION:
SUMMARY:Girls Soccer @NHS vs. Fox Creek
END:VEVENT
BEGIN:VEVENT
DTSTAMP:20260421T162812Z
UID:c642adec-8831-43c2-adff-8fc24bf0e1b2
DTSTART:20260427T180000
DTEND:20260427T190000
DESCRIPTION:
LOCATION:
SUMMARY:National Honor Society Induction in Auditorium 
END:VEVENT
BEGIN:VEVENT
DTSTAMP:20260421T162812Z
UID:4b5a0589-6273-4d57-a383-2c46336c5212
DTSTART:20260428T153000
DTEND:20260428T163000
DESCRIPTION:
LOCATION:
SUMMARY:Beta Club
END:VEVENT
BEGIN:VEVENT
DTSTAMP:20260421T162812Z
UID:6357cf37-44b5-407a-8d30-53980759f1b0
DTSTART:20260428T180000
DTEND:20260428T190000
DESCRIPTION:
LOCATION:
SUMMARY:Girls Soccer @ NHS vs. Chester
END:VEVENT
BEGIN:VEVENT
DTSTAMP:20260421T162812Z
UID:12b53dfa-6529-4721-81e0-581617d37605
DTSTART:20260428T180000
DTEND:20260428T190000
DESCRIPTION:
LOCATION:
SUMMARY:Varsity Baseball @NHS vs. Keenan
END:VEVENT
BEGIN:VEVENT
DTSTAMP:20260421T162812Z
UID:4eae0378-edb7-4c3f-a94e-d876fb01c42c
DTSTART:20260429T130000
DTEND:20260429T140000
DESCRIPTION:
LOCATION:
SUMMARY:8th Grade Tours
END:VEVENT
BEGIN:VEVENT
DTSTAMP:20260421T162812Z
UID:375cae4b-493c-49b9-ad8d-5fc098231fab
DTSTART:20260429T173000
DTEND:20260429T203000
DESCRIPTION:
LOCATION:
SUMMARY:Boys Soccer @ Chapin
END:VEVENT
BEGIN:VEVENT
DTSTAMP:20260421T162812Z
UID:3c6ae161-c4a7-4936-bc19-66e6b6b04d49
DTSTART:20260430T180000
DTEND:20260430T190000
DESCRIPTION:
LOCATION:
SUMMARY:Varsity Baseball @ NHS vs. Swansea
END:VEVENT
BEGIN:VEVENT
DTSTAMP:20260421T162812Z
UID:67611d9b-90e4-41d5-b79d-874aba59eaf4
DTSTART:20260430T183000
DTEND:20260430T193000
DESCRIPTION:
LOCATION:
SUMMARY:Theatre Production in Auditorium 
END:VEVENT
BEGIN:VEVENT
DTSTAMP:20260421T162812Z
UID:d2ab7354-02d1-478b-bdd1-101885348bd3
DTSTART:20260430T190000
DTEND:20260430T203000
DESCRIPTION:
LOCATION:
SUMMARY:Softball @ NHS vs. Swansea
END:VEVENT
BEGIN:VEVENT
DTSTAMP:20260421T162812Z
UID:bdd44271-e9a4-460c-a4ac-af2ed7ac99a1
DTSTART;VALUE=DATE:20260501
DTEND;VALUE=DATE:20260502
DESCRIPTION:
LOCATION:
SUMMARY:Senior Slideshow Pictures Due
END:VEVENT
BEGIN:VEVENT
DTSTAMP:20260421T162812Z
UID:803d2020-0dd4-4325-a531-0ccbdb35dae1
DTSTART:20260501T113000
DTEND:20260501T123000
DESCRIPTION:
LOCATION:
SUMMARY:Unified Prom in Gym
END:VEVENT
BEGIN:VEVENT
DTSTAMP:20260421T162812Z
UID:d0d9106d-9f92-4a76-b28f-b2afb7ebdc63
DTSTART:20260501T173000
DTEND:20260501T203000
DESCRIPTION:
LOCATION:
SUMMARY:Boys Soccer @ Saluda
END:VEVENT
BEGIN:VEVENT
DTSTAMP:20260421T162812Z
UID:db9ba313-689b-4468-af2e-005b0b3f1f37
DTSTART;VALUE=DATE:20260504
DTEND;VALUE=DATE:20260505
DESCRIPTION:
LOCATION:
SUMMARY:Biology AP Exam
END:VEVENT
BEGIN:VEVENT
DTSTAMP:20260421T162812Z
UID:17112825-f918-4dc5-8d6a-844a3151ddac
DTSTART:20260504T080000
DTEND:20260504T090000
DESCRIPTION:
LOCATION:
SUMMARY:All Library Books Are Due!  No books will be checked out on or afte
 r this date.
END:VEVENT
BEGIN:VEVENT
DTSTAMP:20260421T162812Z
UID:d9c8edd9-f05c-44ba-ba88-fe3f5cc5a01d
DTSTART:20260504T154500
DTEND:20260507T173000
DESCRIPTION:
LOCATION:
SUMMARY:Newberry Football Spring Practice Dates
END:VEVENT
BEGIN:VEVENT
DTSTAMP:20260421T162812Z
UID:e88efdd0-6f11-4d75-ab29-67f5f2882d35
DTSTART;VALUE=DATE:20260505
DTEND;VALUE=DATE:20260506
DESCRIPTION:
LOCATION:
SUMMARY:Human Geography AP Exam
END:VEVENT
BEGIN:VEVENT
DTSTAMP:20260421T162812Z
UID:b227da3e-0c61-4545-8b78-577a345483a6
DTSTART:20260505T153000
DTEND:20260505T163000
DESCRIPTION:
LOCATION:
SUMMARY:National Honor Society Meeting
END:VEVENT
BEGIN:VEVENT
DTSTAMP:20260421T162812Z
UID:2ac7dd90-f153-4ff4-9d09-c28e30f92229
DTSTART;VALUE=DATE:20260507
DTEND;VALUE=DATE:20260508
DESCRIPTION:
LOCATION:
SUMMARY:English 2 Writing EOC
END:VEVENT
BEGIN:VEVENT
DTSTAMP:20260421T162812Z
UID:95d32c5d-8616-48e9-831b-2ef9f4f49c3d
DTSTART;VALUE=DATE:20260507
DTEND;VALUE=DATE:20260508
DESCRIPTION:
LOCATION:
SUMMARY:Statistics AP Exam
END:VEVENT
BEGIN:VEVENT
DTSTAMP:20260421T162812Z
UID:b7a3160e-7f78-49cf-a58e-4f897c308c31
DTSTART;VALUE=DATE:20260508
DTEND;VALUE=DATE:20260509
DESCRIPTION:
LOCATION:
SUMMARY:US History AP Exam
END:VEVENT
BEGIN:VEVENT
DTSTAMP:20260421T162812Z
UID:7efb2c71-9b2f-4118-89dd-f4301d09f53a
DTSTART:20260508T080000
DTEND:20260508T090000
DESCRIPTION:<p><span><strong>Students may be allowed to use their device ov
 er the summer if they have met each of the following criteria: </strong><
 /span></p><ul>\n<li><p><span>Paid $25 2025-2026 Technology fee on or befor
 e May 8.</span></p></li>\n<li><p><span>Have no outstanding technology-rela
 ted invoices or damages - check with media specialist or bookkeeper</span>
 </p></li>\n<li><p><span>Have read and understand the 1:1 Handbook and Acce
 ptable Use Policy located on the district website</span></p></li>\n<li><p>
 <span>Been responsible in their use of district technology</span></p></li>
 \n</ul>
LOCATION:
SUMMARY:Opt to Keep Laptop Form Deadline
END:VEVENT
BEGIN:VEVENT
DTSTAMP:20260421T162812Z
UID:2fc39666-f27a-42d4-94f7-cb15d88d6d39
DTSTART;VALUE=DATE:20260511
DTEND;VALUE=DATE:20260512
DESCRIPTION:
LOCATION:
SUMMARY:Calculus AB AP Exam
END:VEVENT
BEGIN:VEVENT
DTSTAMP:20260421T162812Z
UID:5d8e4816-f966-4bcf-8b9c-36be08352cd7
DTSTART;VALUE=DATE:20260511
DTEND;VALUE=DATE:20260512
DESCRIPTION:
LOCATION:
SUMMARY:English 2 Reading EOC
END:VEVENT
BEGIN:VEVENT
DTSTAMP:20260421T162812Z
UID:a4ffedf7-11fa-4034-ba8e-34908bfbd3ee
DTSTART:20260511T154500
DTEND:20260514T173000
DESCRIPTION:
LOCATION:
SUMMARY:Newberry Football Spring Practice Dates
END:VEVENT
BEGIN:VEVENT
DTSTAMP:20260421T162812Z
UID:41a2836e-9681-4b09-afdd-6348027a6678
DTSTART;VALUE=DATE:20260512
DTEND;VALUE=DATE:20260513
DESCRIPTION:
LOCATION:
SUMMARY:US History EOC
END:VEVENT
BEGIN:VEVENT
DTSTAMP:20260421T162812Z
UID:9fe90fba-a17a-4237-a661-5bfe13e30b59
DTSTART:20260512T153000
DTEND:20260512T163000
DESCRIPTION:
LOCATION:
SUMMARY:Beta Club
END:VEVENT
BEGIN:VEVENT
DTSTAMP:20260421T162812Z
UID:9e543a8e-4b76-4460-af11-a0d56422d1e8
DTSTART:20260512T180000
DTEND:20260512T190000
DESCRIPTION:
LOCATION:
SUMMARY:Senior Night In Auditorium 
END:VEVENT
BEGIN:VEVENT
DTSTAMP:20260421T162812Z
UID:017645ef-d293-4bed-bc9d-67f4c37d6936
DTSTART;VALUE=DATE:20260513
DTEND;VALUE=DATE:20260514
DESCRIPTION:
LOCATION:
SUMMARY:Biology 1 EOC
END:VEVENT
BEGIN:VEVENT
DTSTAMP:20260421T162812Z
UID:a64cf9ca-8c42-4122-b2f5-c081d2c43694
DTSTART;VALUE=DATE:20260513
DTEND;VALUE=DATE:20260514
DESCRIPTION:
LOCATION:
SUMMARY:English Language & Composition AP Exam
END:VEVENT
BEGIN:VEVENT
DTSTAMP:20260421T162812Z
UID:9df16c47-5bb9-4663-a215-152373ddc710
DTSTART;VALUE=DATE:20260514
DTEND;VALUE=DATE:20260515
DESCRIPTION:
LOCATION:
SUMMARY:Algebra I EOC
END:VEVENT
BEGIN:VEVENT
DTSTAMP:20260421T162812Z
UID:7c62dfee-2ce3-4eec-a1cc-4c18f8c34f98
DTSTART:20260514T180000
DTEND:20260514T190000
DESCRIPTION:
LOCATION:
SUMMARY:Athletic Banquet in Gym
END:VEVENT
BEGIN:VEVENT
DTSTAMP:20260421T162812Z
UID:1fefa5c8-6c78-4847-9eb2-0aaf7d017f87
DTSTART;VALUE=DATE:20260515
DTEND;VALUE=DATE:20260516
DESCRIPTION:
LOCATION:
SUMMARY:Environmental Science AP Exam
END:VEVENT
BEGIN:VEVENT
DTSTAMP:20260421T162812Z
UID:88a3a247-45c2-4d1f-a768-aa07998a2b8c
DTSTART;VALUE=DATE:20260515
DTEND;VALUE=DATE:20260516
DESCRIPTION:
LOCATION:
SUMMARY:Senior Device Turn-In Deadline
END:VEVENT
BEGIN:VEVENT
DTSTAMP:20260421T162812Z
UID:4d777e6b-7249-40f6-90f6-0f5c52d3dfaf
DTSTART;VALUE=DATE:20260515
DTEND;VALUE=DATE:20260516
DESCRIPTION:
LOCATION:
SUMMARY:Senior Fees Deadline- Pay Mrs. Compton in office
END:VEVENT
BEGIN:VEVENT
DTSTAMP:20260421T162812Z
UID:259dc00a-3b80-4169-b7ae-d1bcd6fd0d75
DTSTART;VALUE=DATE:20260519
DTEND;VALUE=DATE:20260520
DESCRIPTION:
LOCATION:
SUMMARY:Exams: 1st and 3rd Block 
END:VEVENT
BEGIN:VEVENT
DTSTAMP:20260421T162812Z
UID:1762876b-08f9-4641-ba4e-249fb72e4553
DTSTART;VALUE=DATE:20260519
DTEND;VALUE=DATE:20260520
DESCRIPTION:
LOCATION:
SUMMARY:Exams: 1st and 3rd Block 
END:VEVENT
BEGIN:VEVENT
DTSTAMP:20260421T162812Z
UID:a992bf3c-0588-4f13-be9a-605d4263fb06
DTSTART:20260519T131500
DTEND:20260519T140000
DESCRIPTION:<p>Visit our future Bulldogs at the elementary school you atten
 ded! </p><p>May 19th at 1:30 PM- <strong>Arrive at 1:15 PM &amp\; Wear you
 r cap and gown.</strong></p><p>Didn't attend a Newberry area elementary sc
 hool? Join a friend at their school! From start to finish\, we're in this 
 together!</p><p>Boundary Street Elementary</p><p>Gallman Elementary</p><p>
 Newberry Elementary</p><p>Reuben Elementary</p><p></p>
LOCATION:
SUMMARY:Senior Class of 2026 Elementary Senior Walk- Newberry Area
END:VEVENT
BEGIN:VEVENT
DTSTAMP:20260421T162812Z
UID:f5ef8647-82cd-47ac-b7be-27340957c7a7
DTSTART:20260519T153000
DTEND:20260519T163000
DESCRIPTION:
LOCATION:
SUMMARY:National Honor Society Meeting
END:VEVENT
BEGIN:VEVENT
DTSTAMP:20260421T162812Z
UID:2377c94d-08d6-4eab-8cd8-49579cfa93c0
DTSTART;VALUE=DATE:20260520
DTEND;VALUE=DATE:20260521
DESCRIPTION:
LOCATION:
SUMMARY:Exams: 2nd and 4th Block
END:VEVENT
BEGIN:VEVENT
DTSTAMP:20260421T162812Z
UID:5e7f9189-4037-4ab0-a835-0c8347676030
DTSTART;VALUE=DATE:20260520
DTEND;VALUE=DATE:20260521
DESCRIPTION:
LOCATION:
SUMMARY:Exams: 2nd and 4th Block
END:VEVENT
BEGIN:VEVENT
DTSTAMP:20260421T162812Z
UID:e1be0b38-9910-4c61-a392-12d57d7a2cea
DTSTART:20260520T080000
DTEND:20260520T153000
DESCRIPTION:
LOCATION:
SUMMARY:Underclassmen Device Turn in Deadline
END:VEVENT
BEGIN:VEVENT
DTSTAMP:20260421T162812Z
UID:af87ba77-457d-41a7-a715-1f8bbc459cbd
DTSTART:20260520T094500
DTEND:20260520T224500
DESCRIPTION:
LOCATION:
SUMMARY:Graduation Practice
END:VEVENT
BEGIN:VEVENT
DTSTAMP:20260421T162812Z
UID:c9bcc455-db6c-4916-8b99-b07f0de89b0d
DTSTART;VALUE=DATE:20260521
DTEND;VALUE=DATE:20260523
DESCRIPTION:
LOCATION:
SUMMARY:Half Day for Students
END:VEVENT
BEGIN:VEVENT
DTSTAMP:20260421T162812Z
UID:3e6fd125-8351-4018-83ae-9cdafab35510
DTSTART;VALUE=DATE:20260521
DTEND;VALUE=DATE:20260523
DESCRIPTION:
LOCATION:
SUMMARY:Half Day for Students
END:VEVENT
BEGIN:VEVENT
DTSTAMP:20260421T162812Z
UID:1808f3c1-8194-48f1-83cd-727f2476fe69
DTSTART:20260521T080000
DTEND:20260521T093000
DESCRIPTION:
LOCATION:
SUMMARY:NHS Graduation/Commencement Exercises: Seniors arrive by 7:00 AM
END:VEVENT
BEGIN:VEVENT
DTSTAMP:20260421T162812Z
UID:e2dec28c-670f-4128-ab12-834958482a91
DTSTART;VALUE=DATE:20260522
DTEND;VALUE=DATE:20260523
DESCRIPTION:
LOCATION:
SUMMARY:Last Day of School- End of 4th 9 weeks
END:VEVENT
BEGIN:VEVENT
DTSTAMP:20260421T162812Z
UID:ec3750d5-1dd0-4c3b-a43e-51c35c3dd5f2
DTSTART;VALUE=DATE:20260525
DTEND;VALUE=DATE:20260526
DESCRIPTION:
LOCATION:
SUMMARY:Memorial Day Holiday-Schools/Offices Closed
END:VEVENT
BEGIN:VEVENT
DTSTAMP:20260421T162812Z
UID:ede6fa78-8dc1-45a8-a02a-e3c07b60778a
DTSTART;VALUE=DATE:20260729
DTEND;VALUE=DATE:20260801
DESCRIPTION:
LOCATION:
SUMMARY:Teacher Professional Development/ Planning
END:VEVENT
BEGIN:VEVENT
DTSTAMP:20260421T162812Z
UID:3bf5efd9-9c7b-4ad7-a01f-e19cf3ceae28
DTSTART;VALUE=DATE:20260803
DTEND;VALUE=DATE:20260805
DESCRIPTION:
LOCATION:
SUMMARY:Teacher Professional Development/ Planning
END:VEVENT
BEGIN:VEVENT
DTSTAMP:20260421T162812Z
UID:f37c5dd0-6020-4408-973d-386b544472bb
DTSTART;VALUE=DATE:20260805
DTEND;VALUE=DATE:20260806
DESCRIPTION:
LOCATION:
SUMMARY:First Day of School
END:VEVENT
BEGIN:VEVENT
DTSTAMP:20260421T162812Z
UID:6249eb95-3f30-42ae-8e70-9ec2efbf56ba
DTSTART;VALUE=DATE:20260904
DTEND;VALUE=DATE:20260905
DESCRIPTION:
LOCATION:
SUMMARY:Teacher Professional Development/Work Day
END:VEVENT
BEGIN:VEVENT
DTSTAMP:20260421T162812Z
UID:21a2e586-3eb4-43ab-9e4c-32b2d17ccf04
DTSTART;VALUE=DATE:20260907
DTEND;VALUE=DATE:20260908
DESCRIPTION:
LOCATION:
SUMMARY:Labor Day Holiday: Schools/Offices Closed
END:VEVENT
BEGIN:VEVENT
DTSTAMP:20260421T162812Z
UID:79a4194a-d826-437e-a511-f0550b8dc4f5
DTSTART:20260921T110000
DTEND:20260921T234000
DESCRIPTION:
LOCATION:
SUMMARY:Senior Premier- *Order online at www.RhodesGraduation.com 
END:VEVENT
BEGIN:VEVENT
DTSTAMP:20260421T162812Z
UID:363a5a49-5d36-492d-b585-6afebd7d0f11
DTSTART:20260923T180000
DTEND:20260923T190000
DESCRIPTION:
LOCATION:
SUMMARY:Ring Ceremony
END:VEVENT
BEGIN:VEVENT
DTSTAMP:20260421T162812Z
UID:4f12a7f1-2af0-467c-9f6e-8e5a44e14db4
DTSTART;VALUE=DATE:20261001
DTEND;VALUE=DATE:20261002
DESCRIPTION:
LOCATION:
SUMMARY:Senior Graduation Order Deadline
END:VEVENT
BEGIN:VEVENT
DTSTAMP:20260421T162812Z
UID:81b931c0-7077-4fc7-8d60-631d5bfa3080
DTSTART;VALUE=DATE:20261008
DTEND;VALUE=DATE:20261009
DESCRIPTION:
LOCATION:
SUMMARY:Last day of 1st Nine Weeks
END:VEVENT
BEGIN:VEVENT
DTSTAMP:20260421T162812Z
UID:47c7af1c-326a-4193-9b28-a01adf1c200d
DTSTART;VALUE=DATE:20261009
DTEND;VALUE=DATE:20261010
DESCRIPTION:
LOCATION:
SUMMARY:Teacher Professional Development/Work Day
END:VEVENT
BEGIN:VEVENT
DTSTAMP:20260421T162812Z
UID:463ea578-5944-480a-b2bf-a02a03678390
DTSTART:20261015T110000
DTEND:20261015T130000
DESCRIPTION:
LOCATION:
SUMMARY:Senior Day (Pick up celebration items) 
END:VEVENT
BEGIN:VEVENT
DTSTAMP:20260421T162812Z
UID:c3309c03-e1a4-448c-be04-01a1617dc4e6
DTSTART;VALUE=DATE:20261102
DTEND;VALUE=DATE:20261103
DESCRIPTION:
LOCATION:
SUMMARY:Make-Up Day #1: 240-Day Employees Work Day
END:VEVENT
BEGIN:VEVENT
DTSTAMP:20260421T162812Z
UID:755a4341-0a54-4207-a0c9-ec4d5a0d2b7d
DTSTART;VALUE=DATE:20261103
DTEND;VALUE=DATE:20261104
DESCRIPTION:
LOCATION:
SUMMARY:Election Day: Schools/Offices Closed
END:VEVENT
BEGIN:VEVENT
DTSTAMP:20260421T162812Z
UID:ccbccaf7-256c-4a0e-8170-624537aacabf
DTSTART;VALUE=DATE:20261125
DTEND;VALUE=DATE:20261128
DESCRIPTION:
LOCATION:
SUMMARY:Thanksgiving Holiday: Schools/Offices Closed
END:VEVENT
BEGIN:VEVENT
DTSTAMP:20260421T162812Z
UID:e39bef10-90f0-481a-aaeb-dc7505fc915e
DTSTART;VALUE=DATE:20261218
DTEND;VALUE=DATE:20261219
DESCRIPTION:
LOCATION:
SUMMARY:Half Day for Students: Last Day of 1st Semester
END:VEVENT
BEGIN:VEVENT
DTSTAMP:20260421T162812Z
UID:0a2c221f-8230-4ae1-9d02-c3a3024cba32
DTSTART;VALUE=DATE:20261221
DTEND;VALUE=DATE:20270101
DESCRIPTION:
LOCATION:
SUMMARY:Winter Break: Schools/Offices Closed
END:VEVENT
BEGIN:VEVENT
DTSTAMP:20260421T162812Z
UID:46f6eb69-bd37-441c-b6e7-e29337241ff2
DTSTART;VALUE=DATE:20270101
DTEND;VALUE=DATE:20270105
DESCRIPTION:
LOCATION:
SUMMARY:Winter Break: Schools/Offices Closed
END:VEVENT
BEGIN:VEVENT
DTSTAMP:20260421T162812Z
UID:617e6b62-b93b-4f92-815b-f1d1c8a11d57
DTSTART;VALUE=DATE:20270118
DTEND;VALUE=DATE:20270119
DESCRIPTION:
LOCATION:
SUMMARY:Dr. Martin Luther King Jr. Holiday: Schools/Offices Closed
END:VEVENT
BEGIN:VEVENT
DTSTAMP:20260421T162812Z
UID:2b5485c5-140e-4e2b-8c3c-85ba5e4e6a14
DTSTART;VALUE=DATE:20270215
DTEND;VALUE=DATE:20270216
DESCRIPTION:
LOCATION:
SUMMARY:President's Day Holiday: Schools/Offices Closed
END:VEVENT
BEGIN:VEVENT
DTSTAMP:20260421T162812Z
UID:d02a70b7-828d-48b7-9ae9-23903e04613c
DTSTART:20270222T110000
DTEND:20270222T113500
DESCRIPTION:
LOCATION:
SUMMARY:Sophomore Ring Presentation   *Order online at www.RhodesGraduation
 .com 
END:VEVENT
BEGIN:VEVENT
DTSTAMP:20260421T162812Z
UID:e9cac176-0325-41c2-a646-0354af9ccabe
DTSTART:20270301T110000
DTEND:20270301T130000
DESCRIPTION:
LOCATION:
SUMMARY: Senior Cap and Gown Delivery Day 
END:VEVENT
BEGIN:VEVENT
DTSTAMP:20260421T162812Z
UID:5867e1af-5930-4ac6-81c0-6c681038308b
DTSTART;VALUE=DATE:20270304
DTEND;VALUE=DATE:20270305
DESCRIPTION:
LOCATION:
SUMMARY:Sophomore Ring Order Deadline 
END:VEVENT
BEGIN:VEVENT
DTSTAMP:20260421T162812Z
UID:6a805fe1-90b1-4f80-ae86-f49a7b162238
DTSTART;VALUE=DATE:20270312
DTEND;VALUE=DATE:20270313
DESCRIPTION:
LOCATION:
SUMMARY:Last Day of 3rd Nine Weeks
END:VEVENT
BEGIN:VEVENT
DTSTAMP:20260421T162812Z
UID:895714fb-d031-4fa6-bab1-e1412cc1a55c
DTSTART;VALUE=DATE:20270326
DTEND;VALUE=DATE:20270327
DESCRIPTION:
LOCATION:
SUMMARY:Make-Up Day #2: 240 Day Employees Work Day
END:VEVENT
BEGIN:VEVENT
DTSTAMP:20260421T162812Z
UID:d64a2831-6454-4c02-a9c6-142bd24501d4
DTSTART;VALUE=DATE:20270329
DTEND;VALUE=DATE:20270403
DESCRIPTION:
LOCATION:
SUMMARY:Spring Break: Schools/Offices Closed
END:VEVENT
BEGIN:VEVENT
DTSTAMP:20260421T162812Z
UID:d041e283-2941-47b3-a180-494b3476d01d
DTSTART;VALUE=DATE:20270419
DTEND;VALUE=DATE:20270420
DESCRIPTION:
LOCATION:
SUMMARY:Make-Up Day #3: 240-Day Employee Work Day
END:VEVENT
BEGIN:VEVENT
DTSTAMP:20260421T162812Z
UID:59cb8f8a-87b4-49a2-93f7-77ffc5f54ef6
DTSTART;VALUE=DATE:20270524
DTEND;VALUE=DATE:20270526
DESCRIPTION:
LOCATION:
SUMMARY:Half  Day for Students
END:VEVENT
BEGIN:VEVENT
DTSTAMP:20260421T162812Z
UID:e5f5efc3-26e9-49e8-93e5-039cbabcb955
DTSTART;VALUE=DATE:20270525
DTEND;VALUE=DATE:20270526
DESCRIPTION:
LOCATION:
SUMMARY:Last Day of School for Students
END:VEVENT
BEGIN:VEVENT
DTSTAMP:20260421T162812Z
UID:4fa82c8b-ea0f-43bb-b80e-23191290faff
DTSTART;VALUE=DATE:20270526
DTEND;VALUE=DATE:20270527
DESCRIPTION:
LOCATION:
SUMMARY:Teacher Professional Development/Work Day
END:VEVENT
END:VCALENDAR
