BEGIN:VCALENDAR
VERSION:2.0
PRODID:icalendar-ruby
CALSCALE:GREGORIAN
BEGIN:VTIMEZONE
TZID:America/New_York
BEGIN:DAYLIGHT
DTSTART:20260308T030000
TZOFFSETFROM:-0500
TZOFFSETTO:-0400
RRULE:FREQ=YEARLY;BYDAY=2SU;BYMONTH=3
TZNAME:EDT
END:DAYLIGHT
BEGIN:STANDARD
DTSTART:20261101T010000
TZOFFSETFROM:-0400
TZOFFSETTO:-0500
RRULE:FREQ=YEARLY;BYDAY=1SU;BYMONTH=11
TZNAME:EST
END:STANDARD
END:VTIMEZONE
BEGIN:VEVENT
DTSTAMP:20260425T123040Z
UID:d6db0152-0a7b-4ea0-b1f3-881bf146cb57
DTSTART;VALUE=DATE:20260427
DTEND;VALUE=DATE:20260428
DESCRIPTION:
LOCATION:
SUMMARY:YCS Teacher Workday
END:VEVENT
BEGIN:VEVENT
DTSTAMP:20260425T123040Z
UID:1aec2f9b-b4d8-4afc-9362-b6070a6bcf52
DTSTART:20260508T120000
DTEND:20260508T143000
DESCRIPTION:
LOCATION:
SUMMARY:YEC Awards Day
END:VEVENT
BEGIN:VEVENT
DTSTAMP:20260425T123040Z
UID:552b5adb-bcd0-4535-8237-41291a2a4bca
DTSTART;VALUE=DATE:20260511
DTEND;VALUE=DATE:20260512
DESCRIPTION:
LOCATION:
SUMMARY:Last day of college classes for SCC
END:VEVENT
BEGIN:VEVENT
DTSTAMP:20260425T123040Z
UID:25ae4064-b377-4ea2-970f-eadf80ccf827
DTSTART:20260515T180000
DTEND:20260515T193000
DESCRIPTION:<p>Union Grove Baptist Church</p>
LOCATION:2401 Nebo Rd\, Yadkinville\, NC 27055\, USA
SUMMARY:YEC Graduation
END:VEVENT
BEGIN:VEVENT
DTSTAMP:20260425T123040Z
UID:ba39258d-430c-4599-bf78-d8b1f2db26ed
DTSTART;VALUE=DATE:20260518
DTEND;VALUE=DATE:20260523
DESCRIPTION:
LOCATION:
SUMMARY:HIGH SCHOOL EXAM WEEK
END:VEVENT
END:VCALENDAR
