BEGIN:VCALENDAR
VERSION:2.0
PRODID:icalendar-ruby
CALSCALE:GREGORIAN
BEGIN:VTIMEZONE
TZID:America/New_York
BEGIN:DAYLIGHT
DTSTART:20260308T030000
TZOFFSETFROM:-0500
TZOFFSETTO:-0400
RRULE:FREQ=YEARLY;BYDAY=2SU;BYMONTH=3
TZNAME:EDT
END:DAYLIGHT
BEGIN:STANDARD
DTSTART:20261101T010000
TZOFFSETFROM:-0400
TZOFFSETTO:-0500
RRULE:FREQ=YEARLY;BYDAY=1SU;BYMONTH=11
TZNAME:EST
END:STANDARD
END:VTIMEZONE
BEGIN:VEVENT
DTSTAMP:20260426T032456Z
UID:05a29030-69ee-45ac-9518-1dfad9b82115
DTSTART;VALUE=DATE:20260427
DTEND;VALUE=DATE:20260428
DESCRIPTION:
LOCATION:
SUMMARY:Tennis playoffs at Maiden
END:VEVENT
BEGIN:VEVENT
DTSTAMP:20260426T032456Z
UID:84192579-b48d-4c33-a431-7d41c80f4faa
DTSTART;VALUE=DATE:20260427
DTEND;VALUE=DATE:20260428
DESCRIPTION:
LOCATION:
SUMMARY:Baseball Conference Tournament
END:VEVENT
BEGIN:VEVENT
DTSTAMP:20260426T032456Z
UID:a9d4a2fb-5df8-494a-9494-91ed43996877
DTSTART;VALUE=DATE:20260427
DTEND;VALUE=DATE:20260502
DESCRIPTION:
LOCATION:
SUMMARY:Softball Conf Tournament at Surry Central
END:VEVENT
BEGIN:VEVENT
DTSTAMP:20260426T032456Z
UID:cd74a386-cf8a-4eaa-8afe-70ea954210a7
DTSTART;VALUE=DATE:20260428
DTEND;VALUE=DATE:20260429
DESCRIPTION:
LOCATION:
SUMMARY:Baseball Conference Tournament at West Stokes
END:VEVENT
BEGIN:VEVENT
DTSTAMP:20260426T032456Z
UID:85361034-be34-47e5-864f-606e1ad80811
DTSTART;VALUE=DATE:20260428
DTEND;VALUE=DATE:20260429
DESCRIPTION:
LOCATION:
SUMMARY:Women’s Soccer at East Surry 6:00
END:VEVENT
BEGIN:VEVENT
DTSTAMP:20260426T032456Z
UID:f4196087-4f92-4811-a18a-7ef2d3716444
DTSTART;VALUE=DATE:20260429
DTEND;VALUE=DATE:20260430
DESCRIPTION:
LOCATION:
SUMMARY:Track Conference at FHS 11:00
END:VEVENT
BEGIN:VEVENT
DTSTAMP:20260426T032456Z
UID:3e75237f-68d0-4e06-8680-3decfa86736a
DTSTART;VALUE=DATE:20260430
DTEND;VALUE=DATE:20260501
DESCRIPTION:
LOCATION:
SUMMARY:Baseball Conference Tournament at West Stokes
END:VEVENT
BEGIN:VEVENT
DTSTAMP:20260426T032456Z
UID:c021d64c-eb42-4789-9d33-d8bf5d7f06f0
DTSTART;VALUE=DATE:20260501
DTEND;VALUE=DATE:20260502
DESCRIPTION:
LOCATION:
SUMMARY:Women’s Soccer vs North Surry 6:00
END:VEVENT
BEGIN:VEVENT
DTSTAMP:20260426T032456Z
UID:0ac5df16-6ef0-4bdb-8dfa-9f8613e05db7
DTSTART;VALUE=DATE:20260505
DTEND;VALUE=DATE:20260506
DESCRIPTION:
LOCATION:
SUMMARY:Women’s Soccer at West Stokes 6:00
END:VEVENT
BEGIN:VEVENT
DTSTAMP:20260426T032456Z
UID:79e6999b-1663-4524-a75b-4db29f493314
DTSTART:20260505T073000
DTEND:20260505T120000
DESCRIPTION:
LOCATION:
SUMMARY:Chemistry AP Exam AM
END:VEVENT
BEGIN:VEVENT
DTSTAMP:20260426T032456Z
UID:9fd9a9b4-1f26-4428-a1db-cc42080b519f
DTSTART;VALUE=DATE:20260506
DTEND;VALUE=DATE:20260507
DESCRIPTION:
LOCATION:
SUMMARY:Women’s Soccer vs Ashe 6:00
END:VEVENT
BEGIN:VEVENT
DTSTAMP:20260426T032456Z
UID:14abeda8-f94e-43e6-9269-8b842f70970c
DTSTART;VALUE=DATE:20260507
DTEND;VALUE=DATE:20260508
DESCRIPTION:
LOCATION:
SUMMARY:AP World History Exam
END:VEVENT
BEGIN:VEVENT
DTSTAMP:20260426T032456Z
UID:980a083f-88aa-4c12-9aae-a4fee6812a11
DTSTART;VALUE=DATE:20260508
DTEND;VALUE=DATE:20260509
DESCRIPTION:
LOCATION:
SUMMARY:AP US History Exam
END:VEVENT
BEGIN:VEVENT
DTSTAMP:20260426T032456Z
UID:0ee03d9b-5e85-452f-be3a-9e122c8210e7
DTSTART:20260511T190000
DTEND:20260511T200000
DESCRIPTION:
LOCATION:Enon Baptist Church\, 1124 Flint Hill Rd\, East Bend\, NC 27018\, 
 USA
SUMMARY:FHS Chorus Concert
END:VEVENT
BEGIN:VEVENT
DTSTAMP:20260426T032456Z
UID:46875fb2-40b4-4ab3-9aec-6dfa0583969b
DTSTART:20260512T103000
DTEND:20260512T143000
DESCRIPTION:
LOCATION:Enon Baptist Church\, 1124 Flint Hill Rd\, East Bend\, NC 27018\, 
 USA
SUMMARY:Awards Day / Senior Walks
END:VEVENT
BEGIN:VEVENT
DTSTAMP:20260426T032456Z
UID:1c1a33a8-f74d-4e06-9e17-c0f4539dd0e2
DTSTART;VALUE=DATE:20260513
DTEND;VALUE=DATE:20260514
DESCRIPTION:
LOCATION:
SUMMARY:Chromebook Takeups
END:VEVENT
BEGIN:VEVENT
DTSTAMP:20260426T032456Z
UID:4fad5d02-395b-41aa-84e1-ed87bbde3992
DTSTART;VALUE=DATE:20260515
DTEND;VALUE=DATE:20260516
DESCRIPTION:
LOCATION:
SUMMARY:Yearbook Dedication
END:VEVENT
BEGIN:VEVENT
DTSTAMP:20260426T032456Z
UID:4d4f9250-b968-4ffe-9c18-f10c2f901554
DTSTART;VALUE=DATE:20260518
DTEND;VALUE=DATE:20260523
DESCRIPTION:
LOCATION:
SUMMARY:Spring EOCs
END:VEVENT
BEGIN:VEVENT
DTSTAMP:20260426T032456Z
UID:819ef509-61fe-4e18-a6b7-8e6f833bf6f8
DTSTART;VALUE=DATE:20260528
DTEND;VALUE=DATE:20260530
DESCRIPTION:
LOCATION:
SUMMARY:Bb/Sb Camp
END:VEVENT
BEGIN:VEVENT
DTSTAMP:20260426T032456Z
UID:a2d37e6f-9560-412d-b0cb-7f4b37b7ac8b
DTSTART;VALUE=DATE:20260618
DTEND;VALUE=DATE:20260620
DESCRIPTION:
LOCATION:
SUMMARY:Basketball Camp
END:VEVENT
BEGIN:VEVENT
DTSTAMP:20260426T032456Z
UID:f0bf84c8-9d25-4de5-b2bc-7a42bdcfe699
DTSTART;VALUE=DATE:20260720
DTEND;VALUE=DATE:20260723
DESCRIPTION:
LOCATION:
SUMMARY:NCCA Coaching Clinic
END:VEVENT
END:VCALENDAR
