BEGIN:VCALENDAR
VERSION:2.0
PRODID:icalendar-ruby
CALSCALE:GREGORIAN
BEGIN:VTIMEZONE
TZID:America/Chicago
BEGIN:DAYLIGHT
DTSTART:20260308T030000
TZOFFSETFROM:-0600
TZOFFSETTO:-0500
RRULE:FREQ=YEARLY;BYDAY=2SU;BYMONTH=3
TZNAME:CDT
END:DAYLIGHT
BEGIN:STANDARD
DTSTART:20261101T010000
TZOFFSETFROM:-0500
TZOFFSETTO:-0600
RRULE:FREQ=YEARLY;BYDAY=1SU;BYMONTH=11
TZNAME:CST
END:STANDARD
END:VTIMEZONE
BEGIN:VEVENT
DTSTAMP:20260421T104544Z
UID:05af0275-9f10-4559-a2a4-2264c2908013
DTSTART;VALUE=DATE:20260428
DTEND;VALUE=DATE:20260429
DESCRIPTION:<p>April is Childhood Abuse Prevention Month </p><p>On April 2
 8\, we are partnering with the Wabash County Health Department and AOK Net
 work to wear blue in support of children who have experienced abuse and to
  raise awareness of prevention. </p>
LOCATION:
SUMMARY:Wear BLUE for Childhood Abuse Prevention Month 💙 
END:VEVENT
BEGIN:VEVENT
DTSTAMP:20260421T104544Z
UID:8d7f8119-275b-47e4-8780-eac304d00a65
DTSTART:20260518T170000
DTEND:20260518T180000
DESCRIPTION:
LOCATION:1300 N Walnut St\, Mt Carmel\, IL 62863\, USA
SUMMARY:School Board Meeting
END:VEVENT
BEGIN:VEVENT
DTSTAMP:20260421T104544Z
UID:8411d872-6270-435c-8ee6-944858237783
DTSTART;VALUE=DATE:20260525
DTEND;VALUE=DATE:20260526
DESCRIPTION:
LOCATION:
SUMMARY:Memorial Day (No School)
END:VEVENT
BEGIN:VEVENT
DTSTAMP:20260421T104544Z
UID:e66daff3-1ee9-4206-9c7c-4643addf4baf
DTSTART;VALUE=DATE:20260527
DTEND;VALUE=DATE:20260528
DESCRIPTION:
LOCATION:
SUMMARY:Last Day of School (2-hr Early Dismissal) (If no Emergency Days Use
 d)
END:VEVENT
BEGIN:VEVENT
DTSTAMP:20260421T104544Z
UID:8e703b09-96bb-454a-97e4-3873ff4ca1c2
DTSTART:20260615T100000
DTEND:20260615T110000
DESCRIPTION:
LOCATION:1300 N Walnut St\, Mt Carmel\, IL 62863\, USA
SUMMARY:School Board Meeting
END:VEVENT
BEGIN:VEVENT
DTSTAMP:20260421T104544Z
UID:f06620fc-f7e1-4dd2-831c-debdfa2e7fdd
DTSTART;VALUE=DATE:20260812
DTEND;VALUE=DATE:20260813
DESCRIPTION:
LOCATION:
SUMMARY:TI Day (No School for Students)
END:VEVENT
BEGIN:VEVENT
DTSTAMP:20260421T104544Z
UID:dc1d7954-a20d-4cfb-bb24-8895a8e503bb
DTSTART;VALUE=DATE:20260813
DTEND;VALUE=DATE:20260814
DESCRIPTION:
LOCATION:
SUMMARY:TI Day (No School for Students)
END:VEVENT
BEGIN:VEVENT
DTSTAMP:20260421T104544Z
UID:19394db1-3c6e-4095-9df0-f5b32cf21dfa
DTSTART;VALUE=DATE:20260814
DTEND;VALUE=DATE:20260815
DESCRIPTION:
LOCATION:
SUMMARY:First Day of School for Students
END:VEVENT
BEGIN:VEVENT
DTSTAMP:20260421T104544Z
UID:c25b849a-0374-4b17-a512-df17cfb88353
DTSTART;VALUE=DATE:20260904
DTEND;VALUE=DATE:20260905
DESCRIPTION:
LOCATION:
SUMMARY:School Improvement Day (3-hr Early Dismissal)
END:VEVENT
BEGIN:VEVENT
DTSTAMP:20260421T104544Z
UID:aeec963f-30a9-4e3d-873c-28c377ddea5e
DTSTART;VALUE=DATE:20260907
DTEND;VALUE=DATE:20260908
DESCRIPTION:
LOCATION:
SUMMARY:LABOR DAY (No School)
END:VEVENT
BEGIN:VEVENT
DTSTAMP:20260421T104544Z
UID:83e5cce1-a00e-49e2-a3fc-6c492eb92be6
DTSTART;VALUE=DATE:20261009
DTEND;VALUE=DATE:20261010
DESCRIPTION:
LOCATION:
SUMMARY:No School
END:VEVENT
BEGIN:VEVENT
DTSTAMP:20260421T104544Z
UID:67521241-dcb3-4de7-868a-9aac5a7ca8d4
DTSTART;VALUE=DATE:20261012
DTEND;VALUE=DATE:20261013
DESCRIPTION:
LOCATION:
SUMMARY:Columbus Day (No School)
END:VEVENT
BEGIN:VEVENT
DTSTAMP:20260421T104544Z
UID:8153ae7a-1122-4537-bdfe-0a444ad2d4a9
DTSTART:20261022T160000
DTEND:20261022T190000
DESCRIPTION:
LOCATION:
SUMMARY:Parent/Teacher Conference
END:VEVENT
BEGIN:VEVENT
DTSTAMP:20260421T104544Z
UID:9a48bf84-528b-4e44-b749-509062a395f6
DTSTART:20261027T160000
DTEND:20261027T190000
DESCRIPTION:
LOCATION:
SUMMARY:Parent/Teacher Conference
END:VEVENT
BEGIN:VEVENT
DTSTAMP:20260421T104544Z
UID:2a32b1d3-8a60-496d-a1b1-12167822840a
DTSTART;VALUE=DATE:20261030
DTEND;VALUE=DATE:20261031
DESCRIPTION:
LOCATION:
SUMMARY:No School due to Parent/Teacher Conference Days
END:VEVENT
BEGIN:VEVENT
DTSTAMP:20260421T104544Z
UID:b2c819e7-9e93-4ae6-87eb-c446757180dd
DTSTART;VALUE=DATE:20261124
DTEND;VALUE=DATE:20261125
DESCRIPTION:
LOCATION:
SUMMARY:2-Hour Early Out
END:VEVENT
BEGIN:VEVENT
DTSTAMP:20260421T104544Z
UID:a29d14ec-7259-4d88-8279-c45c75fd1611
DTSTART;VALUE=DATE:20261125
DTEND;VALUE=DATE:20261126
DESCRIPTION:
LOCATION:
SUMMARY:FALL BREAK (No School)
END:VEVENT
BEGIN:VEVENT
DTSTAMP:20260421T104544Z
UID:54c703f0-6d12-4865-86a3-f3837071c82e
DTSTART;VALUE=DATE:20261126
DTEND;VALUE=DATE:20261127
DESCRIPTION:
LOCATION:
SUMMARY:Thanksgiving Holiday (No School)
END:VEVENT
BEGIN:VEVENT
DTSTAMP:20260421T104544Z
UID:8879bdda-ef48-4d4e-b60d-663fc3e355aa
DTSTART;VALUE=DATE:20261127
DTEND;VALUE=DATE:20261128
DESCRIPTION:
LOCATION:
SUMMARY:FALL BREAK (No School)
END:VEVENT
BEGIN:VEVENT
DTSTAMP:20260421T104544Z
UID:b2cea0ff-e3c7-4679-985d-96a10499f5bd
DTSTART;VALUE=DATE:20261130
DTEND;VALUE=DATE:20261201
DESCRIPTION:
LOCATION:
SUMMARY:Classes Resume for Students
END:VEVENT
BEGIN:VEVENT
DTSTAMP:20260421T104544Z
UID:521eb94d-0c45-4a80-a339-148d3fd88316
DTSTART;VALUE=DATE:20261218
DTEND;VALUE=DATE:20261219
DESCRIPTION:
LOCATION:
SUMMARY:Christmas Holiday Begins at Close of School (2-Hour Early Out)
END:VEVENT
BEGIN:VEVENT
DTSTAMP:20260421T104544Z
UID:349583b6-10d1-4956-b730-9c58af0c144c
DTSTART:20261221T080000
DTEND:20270101T150000
DESCRIPTION:
LOCATION:
SUMMARY:Winter Break
END:VEVENT
BEGIN:VEVENT
DTSTAMP:20260421T104544Z
UID:10ee8b84-1eb0-4397-942a-b5f53ba2a970
DTSTART;VALUE=DATE:20270104
DTEND;VALUE=DATE:20270105
DESCRIPTION:
LOCATION:
SUMMARY:TI Day (No School for Students)
END:VEVENT
BEGIN:VEVENT
DTSTAMP:20260421T104544Z
UID:74069aab-57aa-433a-adaf-3ecb2ef88972
DTSTART;VALUE=DATE:20270105
DTEND;VALUE=DATE:20270106
DESCRIPTION:
LOCATION:
SUMMARY:Classes Resume for Students
END:VEVENT
BEGIN:VEVENT
DTSTAMP:20260421T104544Z
UID:f57ad716-e31c-459b-80d2-a3d868ba8e4c
DTSTART;VALUE=DATE:20270118
DTEND;VALUE=DATE:20270119
DESCRIPTION:
LOCATION:
SUMMARY:Martin Luther King's Birthday (No School)
END:VEVENT
BEGIN:VEVENT
DTSTAMP:20260421T104544Z
UID:335ee05c-3f9c-42f8-acbc-2dabad085115
DTSTART;VALUE=DATE:20270212
DTEND;VALUE=DATE:20270213
DESCRIPTION:
LOCATION:
SUMMARY:School Improvement Day (3-hr Early Dismissal)
END:VEVENT
BEGIN:VEVENT
DTSTAMP:20260421T104544Z
UID:d6a2495f-d590-4b99-9f70-64d5d4b7bda1
DTSTART;VALUE=DATE:20270215
DTEND;VALUE=DATE:20270216
DESCRIPTION:
LOCATION:
SUMMARY:President's Day (No School)
END:VEVENT
BEGIN:VEVENT
DTSTAMP:20260421T104544Z
UID:376a56ca-54e0-4bde-99ec-0fb1808b625f
DTSTART:20270318T160000
DTEND:20270318T190000
DESCRIPTION:
LOCATION:
SUMMARY:Parent/Teacher Conference
END:VEVENT
BEGIN:VEVENT
DTSTAMP:20260421T104544Z
UID:0bc61048-45c8-44fb-bca4-8223c48aebcf
DTSTART:20270323T160000
DTEND:20270323T190000
DESCRIPTION:
LOCATION:
SUMMARY:Parent/Teacher Conference
END:VEVENT
BEGIN:VEVENT
DTSTAMP:20260421T104544Z
UID:984e5b6f-6498-4012-b55e-bd18688e93ba
DTSTART;VALUE=DATE:20270325
DTEND;VALUE=DATE:20270326
DESCRIPTION:
LOCATION:
SUMMARY:Spring Break begins at end of school day (2-Hour Early Out)
END:VEVENT
BEGIN:VEVENT
DTSTAMP:20260421T104544Z
UID:3a5c5a6a-3043-4626-aa25-9bf91875384a
DTSTART;VALUE=DATE:20270326
DTEND;VALUE=DATE:20270327
DESCRIPTION:
LOCATION:
SUMMARY:No School due to Parent/Teacher Conference Days
END:VEVENT
BEGIN:VEVENT
DTSTAMP:20260421T104544Z
UID:e8adc79e-6052-4a86-9ee4-d387760e2a60
DTSTART:20270329T080000
DTEND:20270402T150000
DESCRIPTION:
LOCATION:
SUMMARY:Spring Break (No School)
END:VEVENT
BEGIN:VEVENT
DTSTAMP:20260421T104544Z
UID:b9c5338e-3fdd-4463-83c7-222ce908b2f0
DTSTART;VALUE=DATE:20270405
DTEND;VALUE=DATE:20270406
DESCRIPTION:
LOCATION:
SUMMARY:Classes Resume for Students
END:VEVENT
BEGIN:VEVENT
DTSTAMP:20260421T104544Z
UID:32a7f854-577a-4b3d-8deb-a24910aa45e0
DTSTART;VALUE=DATE:20270520
DTEND;VALUE=DATE:20270521
DESCRIPTION:
LOCATION:
SUMMARY:Last Day of School If No Emergency Days Used (2-Hour Early Dismissa
 l)
END:VEVENT
BEGIN:VEVENT
DTSTAMP:20260421T104544Z
UID:d4c67bf4-c116-4140-b420-21c3241e4cb9
DTSTART;VALUE=DATE:20270521
DTEND;VALUE=DATE:20270522
DESCRIPTION:
LOCATION:
SUMMARY:TI Day (No School for Students)
END:VEVENT
BEGIN:VEVENT
DTSTAMP:20260421T104544Z
UID:fa92f75b-966a-4383-b359-b8b03a6ba0f0
DTSTART;VALUE=DATE:20270531
DTEND;VALUE=DATE:20270601
DESCRIPTION:
LOCATION:
SUMMARY:Memorial Day
END:VEVENT
END:VCALENDAR
