BEGIN:VCALENDAR
VERSION:2.0
PRODID:icalendar-ruby
CALSCALE:GREGORIAN
BEGIN:VTIMEZONE
TZID:America/Los_Angeles
BEGIN:DAYLIGHT
DTSTART:20260308T030000
TZOFFSETFROM:-0800
TZOFFSETTO:-0700
RRULE:FREQ=YEARLY;BYDAY=2SU;BYMONTH=3
TZNAME:PDT
END:DAYLIGHT
BEGIN:STANDARD
DTSTART:20261101T010000
TZOFFSETFROM:-0700
TZOFFSETTO:-0800
RRULE:FREQ=YEARLY;BYDAY=1SU;BYMONTH=11
TZNAME:PST
END:STANDARD
END:VTIMEZONE
BEGIN:VEVENT
DTSTAMP:20260423T101049Z
UID:e06065f3-a170-4b1a-bf5d-2aae3e7a73bf
DTSTART:20260423T173000
DTEND:20260423T190000
DESCRIPTION:
LOCATION:
SUMMARY:ME Kindergarten Round Up
END:VEVENT
BEGIN:VEVENT
DTSTAMP:20260423T101049Z
UID:f17bf2b3-9384-42d0-a837-fc0c4f08e7ba
DTSTART:20260427T173000
DTEND:20260427T183000
DESCRIPTION:
LOCATION:
SUMMARY:School Board Meeting
END:VEVENT
BEGIN:VEVENT
DTSTAMP:20260423T101049Z
UID:66693323-ef42-4068-aa6d-0e2fcf8f7acc
DTSTART:20260511T190000
DTEND:20260511T200000
DESCRIPTION:
LOCATION:
SUMMARY:School Board Meeting
END:VEVENT
BEGIN:VEVENT
DTSTAMP:20260423T101049Z
UID:829ca02d-c5f1-42eb-ad08-2d253bad951d
DTSTART;VALUE=DATE:20260525
DTEND;VALUE=DATE:20260526
DESCRIPTION:
LOCATION:
SUMMARY:NO SCHOOL - Memorial Day
END:VEVENT
BEGIN:VEVENT
DTSTAMP:20260423T101049Z
UID:ad48d392-69de-41fa-bc7b-eef25ff17634
DTSTART:20260526T173000
DTEND:20260526T183000
DESCRIPTION:
LOCATION:
SUMMARY:School Board Meeting
END:VEVENT
BEGIN:VEVENT
DTSTAMP:20260423T101049Z
UID:e8198657-fba0-46e4-b2b8-db8bd870a0d1
DTSTART:20260604T180000
DTEND:20260604T190000
DESCRIPTION:
LOCATION:
SUMMARY:PJHS Graduation
END:VEVENT
BEGIN:VEVENT
DTSTAMP:20260423T101049Z
UID:0fac45fb-e110-4504-a88c-660437a8e578
DTSTART;VALUE=DATE:20260605
DTEND;VALUE=DATE:20260606
DESCRIPTION:
LOCATION:
SUMMARY:EARLY RELEASE - Last Day of School
END:VEVENT
BEGIN:VEVENT
DTSTAMP:20260423T101049Z
UID:5b97444f-73ac-40ef-9294-3ccbc5e53820
DTSTART:20260605T190000
DTEND:20260605T200000
DESCRIPTION:
LOCATION:
SUMMARY:CHS Graduation
END:VEVENT
BEGIN:VEVENT
DTSTAMP:20260423T101049Z
UID:f992647c-60e5-4923-9d56-7fad09158bfb
DTSTART;VALUE=DATE:20260608
DTEND;VALUE=DATE:20260609
DESCRIPTION:
LOCATION:
SUMMARY:Optional Staff Inservice
END:VEVENT
BEGIN:VEVENT
DTSTAMP:20260423T101049Z
UID:5137ff0e-e110-4d6a-9d85-9b2ecc680113
DTSTART:20260608T190000
DTEND:20260608T200000
DESCRIPTION:
LOCATION:
SUMMARY:School Board Meeting
END:VEVENT
BEGIN:VEVENT
DTSTAMP:20260423T101049Z
UID:0ac271c9-80aa-4d7e-987b-16aa43ca3f57
DTSTART:20260622T190000
DTEND:20260622T200000
DESCRIPTION:
LOCATION:
SUMMARY:School Board Meeting
END:VEVENT
BEGIN:VEVENT
DTSTAMP:20260423T101049Z
UID:bea9bbd4-44a4-4e46-a2b0-467c60b864af
DTSTART:20260713T190000
DTEND:20260713T200000
DESCRIPTION:
LOCATION:
SUMMARY:School Board Meeting
END:VEVENT
BEGIN:VEVENT
DTSTAMP:20260423T101049Z
UID:d4f7d635-73fb-4f39-8808-955404a1717f
DTSTART:20260727T190000
DTEND:20260727T200000
DESCRIPTION:
LOCATION:
SUMMARY:School Board Meeting
END:VEVENT
BEGIN:VEVENT
DTSTAMP:20260423T101049Z
UID:1cb4969f-ff9b-4e33-a789-84a46d5cc0c4
DTSTART:20260810T190000
DTEND:20260810T200000
DESCRIPTION:
LOCATION:
SUMMARY:School Board Meeting
END:VEVENT
BEGIN:VEVENT
DTSTAMP:20260423T101049Z
UID:37409176-cde9-45a5-a253-37638e878973
DTSTART;VALUE=DATE:20260818
DTEND;VALUE=DATE:20260819
DESCRIPTION:
LOCATION:
SUMMARY:School Offices Open
END:VEVENT
BEGIN:VEVENT
DTSTAMP:20260423T101049Z
UID:8ec6e339-1140-4479-8201-1ddd4369c062
DTSTART;VALUE=DATE:20260824
DTEND;VALUE=DATE:20260825
DESCRIPTION:
LOCATION:
SUMMARY:Required Staff Inservice
END:VEVENT
BEGIN:VEVENT
DTSTAMP:20260423T101049Z
UID:9e4e3f03-4c1b-4f13-9371-fdd96bfda5de
DTSTART:20260824T190000
DTEND:20260824T200000
DESCRIPTION:
LOCATION:
SUMMARY:School Board Meeting
END:VEVENT
BEGIN:VEVENT
DTSTAMP:20260423T101049Z
UID:985f0c22-2365-4f1e-be54-67fb638db0f6
DTSTART;VALUE=DATE:20260825
DTEND;VALUE=DATE:20260826
DESCRIPTION:
LOCATION:
SUMMARY:Required Staff Inservice
END:VEVENT
BEGIN:VEVENT
DTSTAMP:20260423T101049Z
UID:a0733190-48e9-46cb-ac27-d20877bc0bc9
DTSTART;VALUE=DATE:20260826
DTEND;VALUE=DATE:20260827
DESCRIPTION:
LOCATION:
SUMMARY:Required Staff Inservice
END:VEVENT
BEGIN:VEVENT
DTSTAMP:20260423T101049Z
UID:f934ece9-3916-4a4f-9afa-efffa409a859
DTSTART;VALUE=DATE:20260827
DTEND;VALUE=DATE:20260828
DESCRIPTION:
LOCATION:
SUMMARY:Optional Staff Inservice
END:VEVENT
BEGIN:VEVENT
DTSTAMP:20260423T101049Z
UID:aa52d4d8-b066-49ec-8298-e2c692f42e03
DTSTART;VALUE=DATE:20260831
DTEND;VALUE=DATE:20260901
DESCRIPTION:
LOCATION:
SUMMARY:First Day of School 1st-6th\, 7th\, 9th
END:VEVENT
BEGIN:VEVENT
DTSTAMP:20260423T101049Z
UID:a0c866bb-e178-4aec-a5cb-e9dd8a8baaca
DTSTART;VALUE=DATE:20260901
DTEND;VALUE=DATE:20260902
DESCRIPTION:
LOCATION:
SUMMARY:First Day of School 8th\, 10th-12th
END:VEVENT
BEGIN:VEVENT
DTSTAMP:20260423T101049Z
UID:a7492ce6-b599-487f-ba30-20a007c11059
DTSTART;VALUE=DATE:20260907
DTEND;VALUE=DATE:20260908
DESCRIPTION:
LOCATION:
SUMMARY:NO SCHOOL - LABOR DAY
END:VEVENT
BEGIN:VEVENT
DTSTAMP:20260423T101049Z
UID:8c601c48-a36e-4143-a213-1e1937868cae
DTSTART:20260914T190000
DTEND:20260914T200000
DESCRIPTION:
LOCATION:
SUMMARY:School Board Meeting
END:VEVENT
BEGIN:VEVENT
DTSTAMP:20260423T101049Z
UID:8127b7db-3412-4525-8fbb-dc79ebce278a
DTSTART:20260928T190000
DTEND:20260928T200000
DESCRIPTION:
LOCATION:
SUMMARY:School Board Meeting
END:VEVENT
BEGIN:VEVENT
DTSTAMP:20260423T101049Z
UID:7f3c6e26-2704-4346-8c6f-5ff296eb9b7a
DTSTART:20261012T173000
DTEND:20261012T183000
DESCRIPTION:
LOCATION:
SUMMARY:School Board Meeting
END:VEVENT
BEGIN:VEVENT
DTSTAMP:20260423T101049Z
UID:b9db4bef-74c3-48bd-999f-bb42aa594d74
DTSTART:20261026T173000
DTEND:20261026T183000
DESCRIPTION:
LOCATION:
SUMMARY:School Board Meeting
END:VEVENT
BEGIN:VEVENT
DTSTAMP:20260423T101049Z
UID:766b8141-3e44-40f0-8d89-382694eee7f2
DTSTART;VALUE=DATE:20261028
DTEND;VALUE=DATE:20261029
DESCRIPTION:
LOCATION:
SUMMARY:EARLY RELEASE - STUDENT CONFERENCES
END:VEVENT
BEGIN:VEVENT
DTSTAMP:20260423T101049Z
UID:18b8dec7-bf03-4c66-8b81-690cccf55be6
DTSTART;VALUE=DATE:20261029
DTEND;VALUE=DATE:20261030
DESCRIPTION:
LOCATION:
SUMMARY:NO SCHOOL - STUDENT CONFERENCES
END:VEVENT
BEGIN:VEVENT
DTSTAMP:20260423T101049Z
UID:73e14b58-6777-46e0-9e4a-a78a02145236
DTSTART;VALUE=DATE:20261030
DTEND;VALUE=DATE:20261031
DESCRIPTION:
LOCATION:
SUMMARY:NO SCHOOL
END:VEVENT
BEGIN:VEVENT
DTSTAMP:20260423T101049Z
UID:9ae3aa2c-a6e9-4538-921b-2b82c1b7c65f
DTSTART;VALUE=DATE:20261102
DTEND;VALUE=DATE:20261103
DESCRIPTION:
LOCATION:
SUMMARY:NO SCHOOL - REQUIRED STAFF INSERVICE
END:VEVENT
BEGIN:VEVENT
DTSTAMP:20260423T101049Z
UID:63292c54-4a41-4474-bc7c-51b8f37e5452
DTSTART:20261109T173000
DTEND:20261109T183000
DESCRIPTION:
LOCATION:
SUMMARY:School Board Meeting
END:VEVENT
BEGIN:VEVENT
DTSTAMP:20260423T101049Z
UID:e06d82f7-d887-4409-bc04-9660738de375
DTSTART;VALUE=DATE:20261111
DTEND;VALUE=DATE:20261112
DESCRIPTION:
LOCATION:
SUMMARY:NO SCHOOL - VETERANS DAY
END:VEVENT
BEGIN:VEVENT
DTSTAMP:20260423T101049Z
UID:a6fdffdc-1daf-49b2-9899-e67495f51c52
DTSTART:20261123T173000
DTEND:20261123T183000
DESCRIPTION:
LOCATION:
SUMMARY:School Board Meeting
END:VEVENT
BEGIN:VEVENT
DTSTAMP:20260423T101049Z
UID:04ec3d25-6966-4e24-b91e-af613ec6f442
DTSTART;VALUE=DATE:20261125
DTEND;VALUE=DATE:20261126
DESCRIPTION:
LOCATION:
SUMMARY:EARLY RELEASE - THANKSGIVING BREAK
END:VEVENT
BEGIN:VEVENT
DTSTAMP:20260423T101049Z
UID:440a08c8-c1ad-41a5-ba62-e18e4cb9c75d
DTSTART;VALUE=DATE:20261126
DTEND;VALUE=DATE:20261128
DESCRIPTION:
LOCATION:
SUMMARY:NO SCHOOL - THANKSGIVING BREAK
END:VEVENT
BEGIN:VEVENT
DTSTAMP:20260423T101049Z
UID:74f2f653-f5f4-470a-93cb-e491d907f263
DTSTART;VALUE=DATE:20261221
DTEND;VALUE=DATE:20270102
DESCRIPTION:
LOCATION:
SUMMARY:NO SCHOOL - CHRISTMAS BREAK
END:VEVENT
BEGIN:VEVENT
DTSTAMP:20260423T101049Z
UID:71e479c4-d120-4d81-9cf3-21a934edb9a2
DTSTART;VALUE=DATE:20270118
DTEND;VALUE=DATE:20270119
DESCRIPTION:
LOCATION:
SUMMARY:NO SCHOOL - MLK JR DAY
END:VEVENT
BEGIN:VEVENT
DTSTAMP:20260423T101049Z
UID:b0f28f1a-46b6-444c-b818-e3626026ec2c
DTSTART;VALUE=DATE:20270122
DTEND;VALUE=DATE:20270123
DESCRIPTION:
LOCATION:
SUMMARY:EARLY RELEASE - GRADE PREPARATION
END:VEVENT
BEGIN:VEVENT
DTSTAMP:20260423T101049Z
UID:f1e16f09-28d7-415c-9d56-7e918d3b9717
DTSTART;VALUE=DATE:20270125
DTEND;VALUE=DATE:20270126
DESCRIPTION:
LOCATION:
SUMMARY:NO SCHOOL - REQUIRED STAFF INSERVICE
END:VEVENT
BEGIN:VEVENT
DTSTAMP:20260423T101049Z
UID:a181eff2-51e9-44a3-bbd2-6df57b519697
DTSTART;VALUE=DATE:20270215
DTEND;VALUE=DATE:20270216
DESCRIPTION:
LOCATION:
SUMMARY:NO SCHOOL - PRESIDENTS' DAY
END:VEVENT
BEGIN:VEVENT
DTSTAMP:20260423T101049Z
UID:e6848fc6-1536-4f48-a9b7-e061932f0620
DTSTART;VALUE=DATE:20270331
DTEND;VALUE=DATE:20270401
DESCRIPTION:
LOCATION:
SUMMARY:EARLY RELEASE - STUDENT CONFERENCES
END:VEVENT
BEGIN:VEVENT
DTSTAMP:20260423T101049Z
UID:7c3c4a5b-7b48-4207-92ae-6497ec1a4792
DTSTART;VALUE=DATE:20270401
DTEND;VALUE=DATE:20270402
DESCRIPTION:
LOCATION:
SUMMARY:NO SCHOOL - STUDENT CONFERENCES
END:VEVENT
BEGIN:VEVENT
DTSTAMP:20260423T101049Z
UID:0e9b0f8f-cca4-42a5-9641-c7041fbc63f0
DTSTART;VALUE=DATE:20270402
DTEND;VALUE=DATE:20270403
DESCRIPTION:
LOCATION:
SUMMARY:NO SCHOOL
END:VEVENT
BEGIN:VEVENT
DTSTAMP:20260423T101049Z
UID:dc3601f6-f8d9-4ab8-94c6-32388d930a99
DTSTART;VALUE=DATE:20270405
DTEND;VALUE=DATE:20270410
DESCRIPTION:
LOCATION:
SUMMARY:NO SCHOOL - SPRING BREAK
END:VEVENT
BEGIN:VEVENT
DTSTAMP:20260423T101049Z
UID:9f27bda7-e2a4-4d12-9a55-3c949cb087ae
DTSTART;VALUE=DATE:20270412
DTEND;VALUE=DATE:20270413
DESCRIPTION:
LOCATION:
SUMMARY:NO SCHOOL - REQUIRED STAFF INSERVICE
END:VEVENT
BEGIN:VEVENT
DTSTAMP:20260423T101049Z
UID:227e74c5-74bc-46ac-8f71-2c737ad7f0ac
DTSTART;VALUE=DATE:20270531
DTEND;VALUE=DATE:20270601
DESCRIPTION:
LOCATION:
SUMMARY:NO SCHOOL - MEMORIAL DAY
END:VEVENT
BEGIN:VEVENT
DTSTAMP:20260423T101049Z
UID:2701d746-0baa-4d4b-a590-a10960bb7f49
DTSTART:20270603T180000
DTEND:20270603T190000
DESCRIPTION:
LOCATION:
SUMMARY:PJHS Graduation
END:VEVENT
BEGIN:VEVENT
DTSTAMP:20260423T101049Z
UID:90dfbf4a-b865-40aa-a823-4d7f891f1e57
DTSTART:20270604T190000
DTEND:20270604T200000
DESCRIPTION:
LOCATION:
SUMMARY:CHS Graduation
END:VEVENT
BEGIN:VEVENT
DTSTAMP:20260423T101049Z
UID:5121a116-d6a8-441e-812d-502c8f18030f
DTSTART;VALUE=DATE:20270611
DTEND;VALUE=DATE:20270612
DESCRIPTION:
LOCATION:
SUMMARY:EARLY RELEASE - LAST DAY OF SCHOOL
END:VEVENT
BEGIN:VEVENT
DTSTAMP:20260423T101049Z
UID:08bb9ac2-e59c-48f2-af6f-a5654fa7cc5d
DTSTART;VALUE=DATE:20270614
DTEND;VALUE=DATE:20270615
DESCRIPTION:
LOCATION:
SUMMARY:OPTIONAL STAFF INSERVICE
END:VEVENT
END:VCALENDAR
