BEGIN:VCALENDAR
VERSION:2.0
PRODID:icalendar-ruby
CALSCALE:GREGORIAN
BEGIN:VTIMEZONE
TZID:America/Denver
BEGIN:DAYLIGHT
DTSTART:20260308T030000
TZOFFSETFROM:-0700
TZOFFSETTO:-0600
RRULE:FREQ=YEARLY;BYDAY=2SU;BYMONTH=3
TZNAME:MDT
END:DAYLIGHT
BEGIN:STANDARD
DTSTART:20261101T010000
TZOFFSETFROM:-0600
TZOFFSETTO:-0700
RRULE:FREQ=YEARLY;BYDAY=1SU;BYMONTH=11
TZNAME:MST
END:STANDARD
END:VTIMEZONE
BEGIN:VEVENT
DTSTAMP:20260422T032853Z
UID:8d455d3d-5e8b-40ed-a588-b3392fe1f0bd
DTSTART;VALUE=DATE:20260423
DTEND;VALUE=DATE:20260424
DESCRIPTION:
LOCATION:
SUMMARY:8th Grade ELA State Assessment
END:VEVENT
BEGIN:VEVENT
DTSTAMP:20260422T032853Z
UID:a51638ab-13e5-4ed3-9f19-c3e6b14e3f43
DTSTART;VALUE=DATE:20260428
DTEND;VALUE=DATE:20260501
DESCRIPTION:
LOCATION:
SUMMARY:6th & 7th Grade State Assessments
END:VEVENT
BEGIN:VEVENT
DTSTAMP:20260422T032853Z
UID:700d8257-38b0-4027-9624-088654d57920
DTSTART:20260506T130000
DTEND:20260506T130000
DESCRIPTION:
LOCATION:
SUMMARY:Early Release
END:VEVENT
BEGIN:VEVENT
DTSTAMP:20260422T032853Z
UID:d811a8e1-4ed6-4948-924d-c6b63b9cc26a
DTSTART:20260512T133000
DTEND:20260512T140000
DESCRIPTION:
LOCATION:
SUMMARY:Fire Drill 
END:VEVENT
BEGIN:VEVENT
DTSTAMP:20260422T032853Z
UID:ceb7a3b9-df10-45d4-ae9e-9427a5489d1c
DTSTART;VALUE=DATE:20260528
DTEND;VALUE=DATE:20260529
DESCRIPTION:
LOCATION:
SUMMARY:6th Grade Fishing Derby
END:VEVENT
BEGIN:VEVENT
DTSTAMP:20260422T032853Z
UID:eb32e59c-5fc1-46db-a311-3bac690b0e69
DTSTART:20260529T081500
DTEND:20260529T130000
DESCRIPTION:
LOCATION:
SUMMARY:Last Day of School- Early Release
END:VEVENT
END:VCALENDAR
