BEGIN:VCALENDAR
VERSION:2.0
PRODID:icalendar-ruby
CALSCALE:GREGORIAN
BEGIN:VTIMEZONE
TZID:America/New_York
BEGIN:DAYLIGHT
DTSTART:20260308T030000
TZOFFSETFROM:-0500
TZOFFSETTO:-0400
RRULE:FREQ=YEARLY;BYDAY=2SU;BYMONTH=3
TZNAME:EDT
END:DAYLIGHT
BEGIN:STANDARD
DTSTART:20261101T010000
TZOFFSETFROM:-0400
TZOFFSETTO:-0500
RRULE:FREQ=YEARLY;BYDAY=1SU;BYMONTH=11
TZNAME:EST
END:STANDARD
END:VTIMEZONE
BEGIN:VEVENT
DTSTAMP:20260421T084924Z
UID:d1321f1c-6a9c-4ef9-96f0-3096ab0befd6
DTSTART:20260428T190000
DTEND:20260428T210000
DESCRIPTION:<p>IJHS Spring Chorus and Orchestra Concert</p><p>Report time f
 or students: 6:30PM</p><p>Concert start time:&nbsp\; 7:00PM</p><p>Live Str
 eam Link:&nbsp\;&nbsp\;<a target="_blank" rel="noopener noreferrer nofollo
 w" href="https://www.youtube.com/watch?v=gTVVK27hwQs">https://www.youtube.
 com/watch?v=gTVVK27hwQs</a></p>
LOCATION:245 N 5th St\, Indiana\, PA 15701\, USA
SUMMARY:IJHS Spring Chorus and Orchestra Concert
END:VEVENT
BEGIN:VEVENT
DTSTAMP:20260421T084924Z
UID:2ecc4b11-bb98-4e3a-b735-1e9d440c4d0a
DTSTART:20260505T190000
DTEND:20260505T210000
DESCRIPTION:<p>IJHS Spring Band and Jazz Concert</p><p>Report time for stud
 ents: 6:30PM</p><p>Concert start time:&nbsp\; 7:00PM</p><p>Live Stream Lin
 k:&nbsp\;&nbsp\;<a target="_blank" rel="noopener noreferrer nofollow" href
 ="https://www.youtube.com/watch?v=iFmZnrupm_c">https://www.youtube.com/wat
 ch?v=iFmZnrupm_c</a></p>
LOCATION:245 N 5th St\, Indiana\, PA 15701\, USA
SUMMARY:IJHS Spring Band and Jazz Concert
END:VEVENT
BEGIN:VEVENT
DTSTAMP:20260421T084924Z
UID:7f69865c-491d-4a9d-9d27-70c4678dc4ce
DTSTART:20260511T173000
DTEND:20260511T190000
DESCRIPTION:<a href="http://meet.google.com/ipq-ffbh-sjq">Please click here
  to join the meeting.</a><br>Please click here to view the agenda.
LOCATION:
SUMMARY:Committee Work Session
END:VEVENT
BEGIN:VEVENT
DTSTAMP:20260421T084924Z
UID:ae09e9ff-154e-4c07-9721-8fe479c37de5
DTSTART:20260511T193000
DTEND:20260511T210000
DESCRIPTION:<a href="http://meet.google.com/huz-ahms-kpt">Please click here
  to join the meeting.</a><br>Please click here to view the agenda.
LOCATION:
SUMMARY:School Board Meeting
END:VEVENT
BEGIN:VEVENT
DTSTAMP:20260421T084924Z
UID:fcfae35c-d173-4d47-9d22-a10d92b507bd
DTSTART:20260515T083000
DTEND:20260515T140000
DESCRIPTION:<p>Southwest Combat Bot Competition</p><p>Start time:&nbsp\; 8:
 30AM</p><p>Live Stream Link:&nbsp\;&nbsp\;<a target="_blank" rel="noopener
  noreferrer nofollow" href="https://www.youtube.com/watch?v=iSqDcG0jgyI">h
 ttps://www.youtube.com/watch?v=iSqDcG0jgyI</a></p>
LOCATION:245 N 5th St\, Indiana\, PA 15701\, USA
SUMMARY:Southwest Combat Bot Competition
END:VEVENT
BEGIN:VEVENT
DTSTAMP:20260421T084924Z
UID:61e3bfac-2b9b-4552-8132-676757ea5db9
DTSTART:20260608T173000
DTEND:20260608T190000
DESCRIPTION:Please click here to view the agenda.\nPlease click here to joi
 n the meeting.
LOCATION:
SUMMARY:Committee Work Session
END:VEVENT
BEGIN:VEVENT
DTSTAMP:20260421T084924Z
UID:8722c762-2d76-4319-a059-97c6171f47ad
DTSTART:20260608T193000
DTEND:20260608T210000
DESCRIPTION:\nPlease click here to view the agenda.\nPlease click here to j
 oin the meeting.
LOCATION:
SUMMARY:School Board Meeting
END:VEVENT
BEGIN:VEVENT
DTSTAMP:20260421T084924Z
UID:17b6d9bf-9f9d-4e7d-a5a3-d96d382c0047
DTSTART:20260615T173000
DTEND:20260615T190000
DESCRIPTION:\nPlease click here to view the agenda.\nPlease click here to j
 oin the meeting.
LOCATION:
SUMMARY:Committee Work Session (if needed)
END:VEVENT
BEGIN:VEVENT
DTSTAMP:20260421T084924Z
UID:916f67f3-4338-497f-96ee-ca1c97ff4260
DTSTART:20260622T173000
DTEND:20260622T190000
DESCRIPTION:\nPlease click here to view the agenda.\nPlease click here to j
 oin the meeting.
LOCATION:
SUMMARY:Committee Work Session
END:VEVENT
BEGIN:VEVENT
DTSTAMP:20260421T084924Z
UID:765eaa9b-c27f-47fc-8b31-9eb5e5de52ba
DTSTART:20260622T193000
DTEND:20260622T210000
DESCRIPTION:\nPlease click here to view the agenda.\nPlease click here to j
 oin the meeting.
LOCATION:
SUMMARY:School Board Meeting
END:VEVENT
BEGIN:VEVENT
DTSTAMP:20260421T084924Z
UID:e3f7ffe1-aca2-4a26-9cb8-4b944708c14d
DTSTART:20260713T193000
DTEND:20260713T210000
DESCRIPTION:\nPlease click here to view the agenda.\nPlease click here to j
 oin the meeting.
LOCATION:
SUMMARY:School Board Meeting
END:VEVENT
BEGIN:VEVENT
DTSTAMP:20260421T084924Z
UID:2af83a4b-74e2-4bf4-87d5-2c84ca5c5899
DTSTART:20260810T173000
DTEND:20260810T190000
DESCRIPTION:\nPlease click here to view the agenda.\nPlease click here to j
 oin the meeting.
LOCATION:
SUMMARY:Committee Work Session
END:VEVENT
BEGIN:VEVENT
DTSTAMP:20260421T084924Z
UID:b6b4d069-b368-4dfe-a698-b129f296316c
DTSTART:20260810T193000
DTEND:20260810T210000
DESCRIPTION:\nPlease click here to view the agenda.\nPlease click here to j
 oin the meeting.
LOCATION:
SUMMARY:School Board Meeting
END:VEVENT
BEGIN:VEVENT
DTSTAMP:20260421T084924Z
UID:62e58be5-00bd-4a1a-8c7c-874621ea859e
DTSTART:20260817T173000
DTEND:20260817T183000
DESCRIPTION:\nPlease click here to view the agenda.\nPlease click here to j
 oin the meeting.
LOCATION:
SUMMARY:Committee Work Session (if needed)
END:VEVENT
BEGIN:VEVENT
DTSTAMP:20260421T084924Z
UID:13fb1063-ebdf-4730-b48a-6c36af145675
DTSTART:20260824T173000
DTEND:20260824T190000
DESCRIPTION:\nPlease click here to view the agenda.\nPlease click here to j
 oin the meeting.
LOCATION:
SUMMARY:Committee Work Session
END:VEVENT
BEGIN:VEVENT
DTSTAMP:20260421T084924Z
UID:11353b9a-4147-49c8-9a99-95f04effd4d7
DTSTART:20260824T193000
DTEND:20260824T210000
DESCRIPTION:\nPlease click here to view the agenda.\nPlease click here to j
 oin the meeting.
LOCATION:
SUMMARY:School Board Meeting
END:VEVENT
BEGIN:VEVENT
DTSTAMP:20260421T084924Z
UID:3a198444-c185-4551-8d38-861d8e395c04
DTSTART:20260914T173000
DTEND:20260914T190000
DESCRIPTION:\nPlease click here to view the agenda.\nPlease click here to j
 oin the meeting.
LOCATION:
SUMMARY:Committee Work Session
END:VEVENT
BEGIN:VEVENT
DTSTAMP:20260421T084924Z
UID:f705d49e-8de1-4ee9-9627-895567588162
DTSTART:20260914T193000
DTEND:20260914T210000
DESCRIPTION:\nPlease click here to view the agenda.\nPlease click here to j
 oin the meeting.
LOCATION:
SUMMARY:Committee Work Session
END:VEVENT
BEGIN:VEVENT
DTSTAMP:20260421T084924Z
UID:36477b33-75f9-494a-9980-b41ac1bb1235
DTSTART:20260921T173000
DTEND:20260921T183000
DESCRIPTION:\nPlease click here to view the agenda.\nPlease click here to j
 oin the meeting.
LOCATION:
SUMMARY:Committee Work Session - if needed
END:VEVENT
BEGIN:VEVENT
DTSTAMP:20260421T084924Z
UID:a5c9f625-6522-40e7-be6b-6d04b801a203
DTSTART:20260928T173000
DTEND:20260928T190000
DESCRIPTION:\nPlease click here to view the agenda.\nPlease click here to j
 oin the meeting.
LOCATION:
SUMMARY:Committee Work Session
END:VEVENT
BEGIN:VEVENT
DTSTAMP:20260421T084924Z
UID:a709983d-b24a-4610-a346-115161b0117f
DTSTART:20260928T193000
DTEND:20260928T210000
DESCRIPTION:\nPlease click here to view the agenda.\nPlease click here to j
 oin the meeting.
LOCATION:
SUMMARY:School Board Meeting
END:VEVENT
BEGIN:VEVENT
DTSTAMP:20260421T084924Z
UID:638478af-78ea-4213-8c61-8252b03e3ab0
DTSTART:20261012T173000
DTEND:20261012T190000
DESCRIPTION:\nPlease click here to view the agenda.\nPlease click here to j
 oin the meeting.
LOCATION:
SUMMARY:Committee Work Session
END:VEVENT
BEGIN:VEVENT
DTSTAMP:20260421T084924Z
UID:5cd68003-ac59-4c27-a43a-6ffbee315841
DTSTART:20261012T193000
DTEND:20261012T210000
DESCRIPTION:\nPlease click here to view the agenda.\nPlease click here to j
 oin the meeting.
LOCATION:
SUMMARY:School Board Meeting
END:VEVENT
BEGIN:VEVENT
DTSTAMP:20260421T084924Z
UID:0917e4d4-7a7a-4332-a138-95a59342929f
DTSTART:20261019T173000
DTEND:20261019T190000
DESCRIPTION:\nPlease click here to view the agenda.\nPlease click here to j
 oin the meeting.
LOCATION:
SUMMARY:Committee Work Session - if needed
END:VEVENT
BEGIN:VEVENT
DTSTAMP:20260421T084924Z
UID:ba438517-c437-433d-a572-af5f20364ac6
DTSTART:20261026T173000
DTEND:20261026T190000
DESCRIPTION:\nPlease click here to view the agenda.\nPlease click here to j
 oin the meeting.
LOCATION:
SUMMARY:Committee Work Session
END:VEVENT
BEGIN:VEVENT
DTSTAMP:20260421T084924Z
UID:808969cd-de92-42e2-b7bd-cdac48856ffc
DTSTART:20261116T173000
DTEND:20261116T190000
DESCRIPTION:\nPlease click here to view the agenda.\nPlease click here to j
 oin the meeting.
LOCATION:
SUMMARY:Committee Work Session
END:VEVENT
BEGIN:VEVENT
DTSTAMP:20260421T084924Z
UID:a0abdece-d4af-4595-bb37-ce9241e2fd44
DTSTART:20261116T193000
DTEND:20261116T210000
DESCRIPTION:\nPlease click here to view the agenda.\nPlease click here to j
 oin the meeting.
LOCATION:
SUMMARY:School Board Meeting
END:VEVENT
BEGIN:VEVENT
DTSTAMP:20260421T084924Z
UID:1f6f411f-83f0-449d-b494-3084f0630e6c
DTSTART:20261207T180000
DTEND:20261207T200000
DESCRIPTION:\nPlease click here to view the agenda.\nPlease click here to j
 oin the meeting.
LOCATION:
SUMMARY:School board Meeting
END:VEVENT
END:VCALENDAR
