BEGIN:VCALENDAR
VERSION:2.0
PRODID:icalendar-ruby
CALSCALE:GREGORIAN
BEGIN:VTIMEZONE
TZID:America/Chicago
BEGIN:DAYLIGHT
DTSTART:20260308T030000
TZOFFSETFROM:-0600
TZOFFSETTO:-0500
RRULE:FREQ=YEARLY;BYDAY=2SU;BYMONTH=3
TZNAME:CDT
END:DAYLIGHT
BEGIN:STANDARD
DTSTART:20261101T010000
TZOFFSETFROM:-0500
TZOFFSETTO:-0600
RRULE:FREQ=YEARLY;BYDAY=1SU;BYMONTH=11
TZNAME:CST
END:STANDARD
END:VTIMEZONE
BEGIN:VEVENT
DTSTAMP:20260423T051725Z
UID:88feb9b4-992c-459a-8d6e-5171a56b9af5
DTSTART;VALUE=DATE:20260508
DTEND;VALUE=DATE:20260509
DESCRIPTION:
LOCATION:
SUMMARY:Holiday ( Students Out of School )
END:VEVENT
BEGIN:VEVENT
DTSTAMP:20260423T051725Z
UID:3b881370-fb6d-4f37-841d-257425a1f05c
DTSTART;VALUE=DATE:20260528
DTEND;VALUE=DATE:20260529
DESCRIPTION:
LOCATION:
SUMMARY:Graduation 
END:VEVENT
BEGIN:VEVENT
DTSTAMP:20260423T051725Z
UID:1d3f40c6-9e6b-4084-8991-61270fd6a486
DTSTART;VALUE=DATE:20260528
DTEND;VALUE=DATE:20260529
DESCRIPTION:
LOCATION:
SUMMARY:Last Day of School 
END:VEVENT
BEGIN:VEVENT
DTSTAMP:20260423T051725Z
UID:6ee54dc2-c9e3-428a-ab4d-99b52ab5763a
DTSTART:20261203T103000
DTEND:20261203T113000
DESCRIPTION:
LOCATION:
SUMMARY:Fannindel Tournament
END:VEVENT
BEGIN:VEVENT
DTSTAMP:20260423T051725Z
UID:15072f4b-2214-4dd3-b86e-472593039159
DTSTART;VALUE=DATE:20261204
DTEND;VALUE=DATE:20261205
DESCRIPTION:
LOCATION:
SUMMARY:Fannindel Tournament
END:VEVENT
BEGIN:VEVENT
DTSTAMP:20260423T051725Z
UID:fc8b1772-4241-4099-aa29-48386ca2cb91
DTSTART:20261205T100000
DTEND:20261205T110000
DESCRIPTION:
LOCATION:
SUMMARY:Fannindel Tournament 
END:VEVENT
BEGIN:VEVENT
DTSTAMP:20260423T051725Z
UID:11ab5d88-5163-4393-8b9d-c0ad46aaae7a
DTSTART;VALUE=DATE:20261208
DTEND;VALUE=DATE:20261209
DESCRIPTION:
LOCATION:
SUMMARY:Boys and Girls @ Cumby 
END:VEVENT
BEGIN:VEVENT
DTSTAMP:20260423T051725Z
UID:04fe8bf9-ed08-4894-855f-3d05ab711136
DTSTART;VALUE=DATE:20261215
DTEND;VALUE=DATE:20261216
DESCRIPTION:
LOCATION:
SUMMARY:Fannindel Vs Ector Girls
END:VEVENT
BEGIN:VEVENT
DTSTAMP:20260423T051725Z
UID:c21013f3-7ad5-4278-b07e-9ebc34308987
DTSTART;VALUE=DATE:20261218
DTEND;VALUE=DATE:20261219
DESCRIPTION:
LOCATION:
SUMMARY:Fannindel @ Dodd City Girls
END:VEVENT
BEGIN:VEVENT
DTSTAMP:20260423T051725Z
UID:1e5c9a52-16e2-4bd8-91d2-d05d59f39d0a
DTSTART;VALUE=DATE:20261222
DTEND;VALUE=DATE:20261223
DESCRIPTION:
LOCATION:
SUMMARY:Fannindel Boys/ Girls BYE
END:VEVENT
BEGIN:VEVENT
DTSTAMP:20260423T051725Z
UID:9d7f7386-06f5-4954-af2f-062eb9ecf4e6
DTSTART;VALUE=DATE:20270105
DTEND;VALUE=DATE:20270106
DESCRIPTION:
LOCATION:
SUMMARY:Fannindel vs Fruitvale B/G
END:VEVENT
BEGIN:VEVENT
DTSTAMP:20260423T051725Z
UID:216ccfc7-991a-4db5-994e-f4d7078e4ca7
DTSTART;VALUE=DATE:20270108
DTEND;VALUE=DATE:20270109
DESCRIPTION:
LOCATION:
SUMMARY:Fannindel @ Miller Grove B/G
END:VEVENT
BEGIN:VEVENT
DTSTAMP:20260423T051725Z
UID:efd1924d-f75e-4df1-b246-933c029aea8d
DTSTART;VALUE=DATE:20270112
DTEND;VALUE=DATE:20270113
DESCRIPTION:
LOCATION:
SUMMARY:Fannindel VS Campbell B/G
END:VEVENT
BEGIN:VEVENT
DTSTAMP:20260423T051725Z
UID:f8058193-2cf2-4ead-86f6-b3f5ae25ab59
DTSTART;VALUE=DATE:20270115
DTEND;VALUE=DATE:20270116
DESCRIPTION:
LOCATION:
SUMMARY:Fannindel @ Savoy B/G
END:VEVENT
BEGIN:VEVENT
DTSTAMP:20260423T051725Z
UID:9004005c-76fb-4351-859d-504edfedb892
DTSTART;VALUE=DATE:20270119
DTEND;VALUE=DATE:20270120
DESCRIPTION:
LOCATION:
SUMMARY:Fannindel @ Ector B/G
END:VEVENT
BEGIN:VEVENT
DTSTAMP:20260423T051725Z
UID:9e59543c-9e25-469b-afed-7223258402ad
DTSTART;VALUE=DATE:20270122
DTEND;VALUE=DATE:20270123
DESCRIPTION:
LOCATION:
SUMMARY:Fannindel Vs Dodd City B/G
END:VEVENT
BEGIN:VEVENT
DTSTAMP:20260423T051725Z
UID:2b230d7c-08f8-4ee0-9952-71c3d43ad214
DTSTART;VALUE=DATE:20270126
DTEND;VALUE=DATE:20270127
DESCRIPTION:
LOCATION:
SUMMARY:Fannindel @ CHESS JV/VG/VB
END:VEVENT
BEGIN:VEVENT
DTSTAMP:20260423T051725Z
UID:d582a91d-8589-4130-aad7-935ebea133a4
DTSTART;VALUE=DATE:20270129
DTEND;VALUE=DATE:20270130
DESCRIPTION:
LOCATION:
SUMMARY:Fannindel @ Fruitvale B/G
END:VEVENT
BEGIN:VEVENT
DTSTAMP:20260423T051725Z
UID:3010509b-afa3-4615-8d42-30a4e7e555e4
DTSTART;VALUE=DATE:20270202
DTEND;VALUE=DATE:20270203
DESCRIPTION:
LOCATION:
SUMMARY:Fannindel VS Miller Grove
END:VEVENT
BEGIN:VEVENT
DTSTAMP:20260423T051725Z
UID:88ac5ab4-0d10-4e91-94e7-f61368340680
DTSTART;VALUE=DATE:20270205
DTEND;VALUE=DATE:20270206
DESCRIPTION:
LOCATION:
SUMMARY:Fannindel @ Campbell VG/VB
END:VEVENT
BEGIN:VEVENT
DTSTAMP:20260423T051725Z
UID:10bc7a2d-95dc-4c66-a3df-23e116edbc23
DTSTART;VALUE=DATE:20270209
DTEND;VALUE=DATE:20270210
DESCRIPTION:
LOCATION:
SUMMARY:Fannindel Vs Savoy VG/VB
END:VEVENT
END:VCALENDAR
