BEGIN:VCALENDAR
VERSION:2.0
PRODID:icalendar-ruby
CALSCALE:GREGORIAN
BEGIN:VTIMEZONE
TZID:America/New_York
BEGIN:DAYLIGHT
DTSTART:20260308T030000
TZOFFSETFROM:-0500
TZOFFSETTO:-0400
RRULE:FREQ=YEARLY;BYDAY=2SU;BYMONTH=3
TZNAME:EDT
END:DAYLIGHT
BEGIN:STANDARD
DTSTART:20261101T010000
TZOFFSETFROM:-0400
TZOFFSETTO:-0500
RRULE:FREQ=YEARLY;BYDAY=1SU;BYMONTH=11
TZNAME:EST
END:STANDARD
END:VTIMEZONE
BEGIN:VEVENT
DTSTAMP:20260419T131711Z
UID:87a813a3-57d3-4082-a8a0-9030d9e024f4
DTSTART:20260421T180000
DTEND:20260421T200000
DESCRIPTION:
LOCATION:
SUMMARY:PTO Game Show Night
END:VEVENT
BEGIN:VEVENT
DTSTAMP:20260419T131711Z
UID:a1cd48ef-3cc6-43c7-9431-dfd83081c381
DTSTART:20260423T190000
DTEND:20260423T200000
DESCRIPTION:
LOCATION:
SUMMARY:BOE Meeting
END:VEVENT
BEGIN:VEVENT
DTSTAMP:20260419T131711Z
UID:87e34f06-fea7-4a7c-8932-b12b6414fd6c
DTSTART;VALUE=DATE:20260424
DTEND;VALUE=DATE:20260425
DESCRIPTION:
LOCATION:
SUMMARY:Spring Picture Day
END:VEVENT
BEGIN:VEVENT
DTSTAMP:20260419T131711Z
UID:70b0f308-9f5f-4604-a608-14a71435d8fb
DTSTART:20260507T190000
DTEND:20260507T200000
DESCRIPTION:
LOCATION:
SUMMARY:BOE Meeting
END:VEVENT
BEGIN:VEVENT
DTSTAMP:20260419T131711Z
UID:7294441a-7385-4c4c-8397-39f2c26ae97e
DTSTART;VALUE=DATE:20260508
DTEND;VALUE=DATE:20260509
DESCRIPTION:
LOCATION:
SUMMARY:PTO Spring Plant Sale
END:VEVENT
BEGIN:VEVENT
DTSTAMP:20260419T131711Z
UID:c8ca7bc8-2abd-48b0-8bfa-6b53fff86457
DTSTART:20260514T180000
DTEND:20260514T200000
DESCRIPTION:
LOCATION:
SUMMARY:PTO Meeting/Eyes of the Wild
END:VEVENT
BEGIN:VEVENT
DTSTAMP:20260419T131711Z
UID:7429d294-1d09-4a79-8537-481710db7f21
DTSTART;VALUE=DATE:20260515
DTEND;VALUE=DATE:20260516
DESCRIPTION:
LOCATION:
SUMMARY:EARLY RELEASE-Staff PD
END:VEVENT
BEGIN:VEVENT
DTSTAMP:20260419T131711Z
UID:49c4f315-730a-42c4-b252-ec44de422e37
DTSTART:20260521T190000
DTEND:20260521T193000
DESCRIPTION:
LOCATION:
SUMMARY:3rd\, 4th & 5th Grade Chorus Concert
END:VEVENT
BEGIN:VEVENT
DTSTAMP:20260419T131711Z
UID:f5bc6ec5-91f0-411b-b631-fa1bd7026118
DTSTART:20260521T190000
DTEND:20260521T200000
DESCRIPTION:
LOCATION:
SUMMARY:BOE Meeting
END:VEVENT
BEGIN:VEVENT
DTSTAMP:20260419T131711Z
UID:b8a121fb-ae5b-48b2-b87a-6005808a400b
DTSTART;VALUE=DATE:20260525
DTEND;VALUE=DATE:20260526
DESCRIPTION:
LOCATION:
SUMMARY:NO SCHOOL - Memorial Day
END:VEVENT
BEGIN:VEVENT
DTSTAMP:20260419T131711Z
UID:7485968e-8150-49a9-9b25-f502c04062d9
DTSTART;VALUE=DATE:20260526
DTEND;VALUE=DATE:20260527
DESCRIPTION:
LOCATION:
SUMMARY:STAFF ONLY - FLEX PD
END:VEVENT
BEGIN:VEVENT
DTSTAMP:20260419T131711Z
UID:3fc36f44-00ba-4e52-952f-d361edb875f8
DTSTART;VALUE=DATE:20260527
DTEND;VALUE=DATE:20260528
DESCRIPTION:
LOCATION:
SUMMARY:NO SCHOOL - Eid al-Adha
END:VEVENT
BEGIN:VEVENT
DTSTAMP:20260419T131711Z
UID:c7cb9782-34dd-4746-b2d9-f3427e7a5c47
DTSTART;VALUE=DATE:20260605
DTEND;VALUE=DATE:20260606
DESCRIPTION:
LOCATION:
SUMMARY:EARLY RELEASE- STAFF PD
END:VEVENT
BEGIN:VEVENT
DTSTAMP:20260419T131711Z
UID:23a7c17d-3a4e-4bf3-b96c-dbf7f3c0bc01
DTSTART;VALUE=DATE:20260608
DTEND;VALUE=DATE:20260613
DESCRIPTION:
LOCATION:
SUMMARY:PTO  Scholastic Book Fair
END:VEVENT
BEGIN:VEVENT
DTSTAMP:20260419T131711Z
UID:835d8fc4-3d8e-4155-a903-42716387c127
DTSTART:20260609T190000
DTEND:20260609T193000
DESCRIPTION:
LOCATION:
SUMMARY:Orchestra Concert
END:VEVENT
BEGIN:VEVENT
DTSTAMP:20260419T131711Z
UID:ffe3b02d-7d38-46b3-b377-f2f9d1a51659
DTSTART:20260611T190000
DTEND:20260611T193000
DESCRIPTION:
LOCATION:
SUMMARY:Band Concert
END:VEVENT
BEGIN:VEVENT
DTSTAMP:20260419T131711Z
UID:d20a9ded-f6a3-4c68-b35c-faf59cfe3c31
DTSTART:20260618T190000
DTEND:20260618T200000
DESCRIPTION:
LOCATION:
SUMMARY:BOE Meeting
END:VEVENT
BEGIN:VEVENT
DTSTAMP:20260419T131711Z
UID:d743c2bc-296d-412a-b424-6642b4938187
DTSTART:20260623T180000
DTEND:20260623T200000
DESCRIPTION:
LOCATION:
SUMMARY:PTO Family Picnic
END:VEVENT
BEGIN:VEVENT
DTSTAMP:20260419T131711Z
UID:0da233b2-dbe6-41e1-b238-93f0eb04b2dc
DTSTART:20260624T100000
DTEND:20260624T110000
DESCRIPTION:
LOCATION:
SUMMARY:5th Grade Farewell
END:VEVENT
END:VCALENDAR
