BEGIN:VCALENDAR
VERSION:2.0
PRODID:icalendar-ruby
CALSCALE:GREGORIAN
BEGIN:VTIMEZONE
TZID:America/New_York
BEGIN:DAYLIGHT
DTSTART:20260308T030000
TZOFFSETFROM:-0500
TZOFFSETTO:-0400
RRULE:FREQ=YEARLY;BYDAY=2SU;BYMONTH=3
TZNAME:EDT
END:DAYLIGHT
BEGIN:STANDARD
DTSTART:20261101T010000
TZOFFSETFROM:-0400
TZOFFSETTO:-0500
RRULE:FREQ=YEARLY;BYDAY=1SU;BYMONTH=11
TZNAME:EST
END:STANDARD
END:VTIMEZONE
BEGIN:VEVENT
DTSTAMP:20260420T050259Z
UID:3b73e08c-8020-4b4b-8607-676a381feac9
DTSTART;VALUE=DATE:20260419
DTEND;VALUE=DATE:20260426
DESCRIPTION:
LOCATION:
SUMMARY:National Volunteer Recognition Week
END:VEVENT
BEGIN:VEVENT
DTSTAMP:20260420T050259Z
UID:4d0a7b50-d743-452f-a985-d58659a55125
DTSTART:20260420T150000
DTEND:20260420T170000
DESCRIPTION:
LOCATION:
SUMMARY:CARES Tutoring
END:VEVENT
BEGIN:VEVENT
DTSTAMP:20260420T050259Z
UID:7366e373-64ea-44df-892e-04c7d8a60233
DTSTART:20260421T150000
DTEND:20260421T170000
DESCRIPTION:
LOCATION:
SUMMARY:CARES Tutoring
END:VEVENT
BEGIN:VEVENT
DTSTAMP:20260420T050259Z
UID:55c6b8f2-cd41-4146-a8e1-09e9ce9740c3
DTSTART;VALUE=DATE:20260422
DTEND;VALUE=DATE:20260423
DESCRIPTION:
LOCATION:
SUMMARY:Earth Day
END:VEVENT
BEGIN:VEVENT
DTSTAMP:20260420T050259Z
UID:3fc44466-485e-49e3-84d6-f036357fb421
DTSTART;VALUE=DATE:20260422
DTEND;VALUE=DATE:20260423
DESCRIPTION:
LOCATION:
SUMMARY:National Administrative Professional Day
END:VEVENT
BEGIN:VEVENT
DTSTAMP:20260420T050259Z
UID:1c1018c7-a8e7-4858-b051-0f27e3ef96dc
DTSTART:20260423T150000
DTEND:20260423T170000
DESCRIPTION:
LOCATION:
SUMMARY:CARES Tutoring
END:VEVENT
BEGIN:VEVENT
DTSTAMP:20260420T050259Z
UID:3ef40bc9-c3be-490e-9c20-d2eddfc4b39a
DTSTART:20260423T150000
DTEND:20260423T163000
DESCRIPTION:
LOCATION:
SUMMARY:Good News Club
END:VEVENT
BEGIN:VEVENT
DTSTAMP:20260420T050259Z
UID:0a4b271d-9d68-48d2-9840-03cab01ebdd6
DTSTART;VALUE=DATE:20260424
DTEND;VALUE=DATE:20260425
DESCRIPTION:
LOCATION:
SUMMARY:Arbor Day
END:VEVENT
BEGIN:VEVENT
DTSTAMP:20260420T050259Z
UID:7b24e10b-e35a-42c8-ab20-1b154d2a026d
DTSTART:20260427T150000
DTEND:20260427T170000
DESCRIPTION:
LOCATION:
SUMMARY:CARES Tutoring
END:VEVENT
BEGIN:VEVENT
DTSTAMP:20260420T050259Z
UID:04a46dcc-a253-4c6c-87d7-1b2bc7cd39de
DTSTART;VALUE=DATE:20260428
DTEND;VALUE=DATE:20260429
DESCRIPTION:
LOCATION:
SUMMARY:School Bus Driver Appreciation Day
END:VEVENT
BEGIN:VEVENT
DTSTAMP:20260420T050259Z
UID:4d9cc12d-3a51-4133-8b06-456e05fe4b68
DTSTART:20260428T150000
DTEND:20260428T170000
DESCRIPTION:
LOCATION:
SUMMARY:CARES Tutoring
END:VEVENT
BEGIN:VEVENT
DTSTAMP:20260420T050259Z
UID:c74b8178-e878-4aff-bc02-7baeffceca5e
DTSTART:20260430T150000
DTEND:20260430T170000
DESCRIPTION:
LOCATION:
SUMMARY:CARES Tutoring (last day)
END:VEVENT
BEGIN:VEVENT
DTSTAMP:20260420T050259Z
UID:64e87fa8-15a5-47eb-9e59-21c86027a7ad
DTSTART:20260430T150000
DTEND:20260430T163000
DESCRIPTION:
LOCATION:
SUMMARY:Good News Club
END:VEVENT
BEGIN:VEVENT
DTSTAMP:20260420T050259Z
UID:ff911d69-b90d-4903-928e-104e500fcdee
DTSTART;VALUE=DATE:20260501
DTEND;VALUE=DATE:20260502
DESCRIPTION:
LOCATION:
SUMMARY:School Lunch Hero Day
END:VEVENT
BEGIN:VEVENT
DTSTAMP:20260420T050259Z
UID:0a22feac-dd72-4cb6-bcc5-c420ea2ca743
DTSTART;VALUE=DATE:20260501
DTEND;VALUE=DATE:20260502
DESCRIPTION:
LOCATION:
SUMMARY:School Principal’s Day
END:VEVENT
BEGIN:VEVENT
DTSTAMP:20260420T050259Z
UID:d433e215-1b36-4b13-a3a8-dee768dbd2e3
DTSTART:20260502T090000
DTEND:20260502T140000
DESCRIPTION:
LOCATION:MHS Football Field
SUMMARY:Milan Youth Football Camp
END:VEVENT
BEGIN:VEVENT
DTSTAMP:20260420T050259Z
UID:bac16cbe-5add-4672-970c-7c6a6b8b6238
DTSTART;VALUE=DATE:20260504
DTEND;VALUE=DATE:20260509
DESCRIPTION:
LOCATION:
SUMMARY:National Substitute Appreciation Week
END:VEVENT
BEGIN:VEVENT
DTSTAMP:20260420T050259Z
UID:9a370e7b-ff63-48db-adad-062b85868d35
DTSTART;VALUE=DATE:20260504
DTEND;VALUE=DATE:20260509
DESCRIPTION:
LOCATION:
SUMMARY:National Teacher Appreciation Week
END:VEVENT
BEGIN:VEVENT
DTSTAMP:20260420T050259Z
UID:40f9d109-2cd0-439e-ae4f-4abcf3253b16
DTSTART;VALUE=DATE:20260505
DTEND;VALUE=DATE:20260506
DESCRIPTION:
LOCATION:
SUMMARY:Teacher Appreciation Day
END:VEVENT
BEGIN:VEVENT
DTSTAMP:20260420T050259Z
UID:0e277339-890a-49c9-8365-d3f64d9da19f
DTSTART:20260505T080000
DTEND:20260505T104500
DESCRIPTION:
LOCATION:
SUMMARY:HA Field Trip
END:VEVENT
BEGIN:VEVENT
DTSTAMP:20260420T050259Z
UID:d781c8d6-99a6-4302-b557-36b66b1ddcc6
DTSTART:20260505T150000
DTEND:20260505T160000
DESCRIPTION:
LOCATION:
SUMMARY:CARES IREAD Remediation
END:VEVENT
BEGIN:VEVENT
DTSTAMP:20260420T050259Z
UID:50a1e824-ca66-4bc1-abf5-94a7ed0b212e
DTSTART;VALUE=DATE:20260506
DTEND;VALUE=DATE:20260507
DESCRIPTION:
LOCATION:
SUMMARY:School Nurse Day
END:VEVENT
BEGIN:VEVENT
DTSTAMP:20260420T050259Z
UID:fd8c2d09-7d9a-4284-849e-330c8630f232
DTSTART:20260507T150000
DTEND:20260507T160000
DESCRIPTION:
LOCATION:
SUMMARY: CARES IREAD Remediation
END:VEVENT
BEGIN:VEVENT
DTSTAMP:20260420T050259Z
UID:47276e23-ef82-422b-9bdf-b5c1854e5a1f
DTSTART:20260507T150000
DTEND:20260507T163000
DESCRIPTION:
LOCATION:
SUMMARY:Good News Club
END:VEVENT
BEGIN:VEVENT
DTSTAMP:20260420T050259Z
UID:97afd39c-aaca-4e61-90bc-548d6e5f1650
DTSTART:20260511T083000
DTEND:20260511T100000
DESCRIPTION:
LOCATION:
SUMMARY:G2 Swim Races
END:VEVENT
BEGIN:VEVENT
DTSTAMP:20260420T050259Z
UID:d690868d-18ff-422e-8c45-94ffa9552367
DTSTART:20260511T120000
DTEND:20260511T140000
DESCRIPTION:
LOCATION:
SUMMARY:G4 Swim Races
END:VEVENT
BEGIN:VEVENT
DTSTAMP:20260420T050259Z
UID:b111f1c1-dc0c-4b84-818d-7f4a8edd39d4
DTSTART;VALUE=DATE:20260512
DTEND;VALUE=DATE:20260513
DESCRIPTION:
LOCATION:
SUMMARY:Kindergarten Field Trip
END:VEVENT
BEGIN:VEVENT
DTSTAMP:20260420T050259Z
UID:dc35cd15-9040-4b36-bafd-e658a3f16bce
DTSTART:20260512T083000
DTEND:20260512T103000
DESCRIPTION:
LOCATION:
SUMMARY:G3 Swim Races
END:VEVENT
BEGIN:VEVENT
DTSTAMP:20260420T050259Z
UID:ea684959-1269-4efb-bcdf-c90967affacf
DTSTART:20260512T121500
DTEND:20260512T141500
DESCRIPTION:
LOCATION:
SUMMARY:G1 Swim Races
END:VEVENT
BEGIN:VEVENT
DTSTAMP:20260420T050259Z
UID:09b25ffc-1f12-4d76-b039-57e1ad7211b5
DTSTART:20260512T150000
DTEND:20260512T160000
DESCRIPTION:
LOCATION:
SUMMARY: CARES IREAD Remediation
END:VEVENT
BEGIN:VEVENT
DTSTAMP:20260420T050259Z
UID:716ba85b-53e3-4a9d-ba20-b1ca438867a7
DTSTART;VALUE=DATE:20260513
DTEND;VALUE=DATE:20260514
DESCRIPTION:
LOCATION:
SUMMARY:G3 Glow Day
END:VEVENT
BEGIN:VEVENT
DTSTAMP:20260420T050259Z
UID:7e9ce7e5-adda-4b8e-855e-badbc6fa359e
DTSTART:20260513T090000
DTEND:20260513T100000
DESCRIPTION:
LOCATION:MES Cafe
SUMMARY:G4 Wax Museum
END:VEVENT
BEGIN:VEVENT
DTSTAMP:20260420T050259Z
UID:b3016bbf-0a7e-4167-885c-dc9dbce6eb15
DTSTART:20260514T150000
DTEND:20260514T160000
DESCRIPTION:
LOCATION:
SUMMARY: CARES IREAD Remediation
END:VEVENT
BEGIN:VEVENT
DTSTAMP:20260420T050259Z
UID:417c171d-5177-4ad7-ac7f-880a21be2305
DTSTART:20260514T150000
DTEND:20260514T163000
DESCRIPTION:
LOCATION:
SUMMARY:Good News Club
END:VEVENT
BEGIN:VEVENT
DTSTAMP:20260420T050259Z
UID:de4743a5-96f1-4cbe-b2b9-03b6e29a0d0d
DTSTART;VALUE=DATE:20260518
DTEND;VALUE=DATE:20260519
DESCRIPTION:
LOCATION:
SUMMARY:G1 Field Trip
END:VEVENT
BEGIN:VEVENT
DTSTAMP:20260420T050259Z
UID:9e034dde-c001-4116-8ea2-fd9dd69200df
DTSTART;VALUE=DATE:20260518
DTEND;VALUE=DATE:20260519
DESCRIPTION:
LOCATION:
SUMMARY:G4 Awards Day
END:VEVENT
BEGIN:VEVENT
DTSTAMP:20260420T050259Z
UID:5efe98dc-d743-4404-a297-767cf6508c0e
DTSTART;VALUE=DATE:20260518
DTEND;VALUE=DATE:20260519
DESCRIPTION:
LOCATION:
SUMMARY:National Speech-Language Pathologist Day
END:VEVENT
BEGIN:VEVENT
DTSTAMP:20260420T050259Z
UID:5b62b2ff-8681-4b2f-8344-9074e87cbe54
DTSTART;VALUE=DATE:20260518
DTEND;VALUE=DATE:20260519
DESCRIPTION:
LOCATION:
SUMMARY:PK4 Awards Day
END:VEVENT
BEGIN:VEVENT
DTSTAMP:20260420T050259Z
UID:47bad7cf-11db-4e30-b95b-61f08adabf16
DTSTART;VALUE=DATE:20260519
DTEND;VALUE=DATE:20260520
DESCRIPTION:
LOCATION:
SUMMARY:MES Awards Day for G1\, 2\, 3\, Kindergarten
END:VEVENT
BEGIN:VEVENT
DTSTAMP:20260420T050259Z
UID:09f56282-802a-4adb-b92f-a03a59bcdd9a
DTSTART;VALUE=DATE:20260521
DTEND;VALUE=DATE:20260522
DESCRIPTION:
LOCATION:
SUMMARY:End of Q4/S2 - Last Day of School
END:VEVENT
BEGIN:VEVENT
DTSTAMP:20260420T050259Z
UID:bbe13e7d-7a95-40b5-b444-2e69ae083c42
DTSTART;VALUE=DATE:20260523
DTEND;VALUE=DATE:20260524
DESCRIPTION:
LOCATION:
SUMMARY:MHS Graduation
END:VEVENT
BEGIN:VEVENT
DTSTAMP:20260420T050259Z
UID:48a977d0-1a24-4352-a0d7-21a605c8d2c8
DTSTART;VALUE=DATE:20260526
DTEND;VALUE=DATE:20260527
DESCRIPTION:
LOCATION:
SUMMARY:Q4 Report Cards Mailed
END:VEVENT
BEGIN:VEVENT
DTSTAMP:20260420T050259Z
UID:88a8b02a-9487-4a90-a914-2e98585ab27f
DTSTART:20260606T090000
DTEND:20260606T110000
DESCRIPTION:
LOCATION:Parking Lot
SUMMARY:Milan Sons of American Legion Post 5K Run/Walk
END:VEVENT
BEGIN:VEVENT
DTSTAMP:20260420T050259Z
UID:35f71a40-37c8-457a-a5af-f282036e17f2
DTSTART;VALUE=DATE:20260805
DTEND;VALUE=DATE:20260806
DESCRIPTION:
LOCATION:
SUMMARY:Teacher Day
END:VEVENT
BEGIN:VEVENT
DTSTAMP:20260420T050259Z
UID:e6e25e2b-bb11-4f4a-855c-6808ce36ba6d
DTSTART;VALUE=DATE:20260806
DTEND;VALUE=DATE:20260807
DESCRIPTION:
LOCATION:
SUMMARY:Teacher Day
END:VEVENT
BEGIN:VEVENT
DTSTAMP:20260420T050259Z
UID:b07b50ee-28c1-4dd2-aee8-d9b8ef3c1af3
DTSTART;VALUE=DATE:20260807
DTEND;VALUE=DATE:20260808
DESCRIPTION:
LOCATION:
SUMMARY:Teacher Day
END:VEVENT
BEGIN:VEVENT
DTSTAMP:20260420T050259Z
UID:3a70611a-7736-4ce9-86ae-79687b9c32b0
DTSTART;VALUE=DATE:20260810
DTEND;VALUE=DATE:20260811
DESCRIPTION:
LOCATION:
SUMMARY:MES First Day of School - G1-4
END:VEVENT
BEGIN:VEVENT
DTSTAMP:20260420T050259Z
UID:7a086089-b6b4-4c75-8253-8f8f672d3294
DTSTART;VALUE=DATE:20260907
DTEND;VALUE=DATE:20260908
DESCRIPTION:
LOCATION:
SUMMARY:Labor Day - No School
END:VEVENT
BEGIN:VEVENT
DTSTAMP:20260420T050259Z
UID:35be7800-2d30-4a6a-8967-e0d7a95a3384
DTSTART;VALUE=DATE:20260910
DTEND;VALUE=DATE:20260911
DESCRIPTION:
LOCATION:
SUMMARY:Evening K-4 Parent Conferences
END:VEVENT
BEGIN:VEVENT
DTSTAMP:20260420T050259Z
UID:dc4ad111-3966-45f8-ae9d-e2daa6773118
DTSTART;VALUE=DATE:20260911
DTEND;VALUE=DATE:20260912
DESCRIPTION:
LOCATION:
SUMMARY:eLearn Day/Conferences
END:VEVENT
BEGIN:VEVENT
DTSTAMP:20260420T050259Z
UID:74ca251c-c965-48b8-b3d5-5e53d595f6bb
DTSTART;VALUE=DATE:20260916
DTEND;VALUE=DATE:20260917
DESCRIPTION:
LOCATION:
SUMMARY:MCT Kindergarten Vision Screenings
END:VEVENT
BEGIN:VEVENT
DTSTAMP:20260420T050259Z
UID:7ba854af-91b7-43e6-9d9c-27e35e901751
DTSTART;VALUE=DATE:20261002
DTEND;VALUE=DATE:20261010
DESCRIPTION:
LOCATION:
SUMMARY:Fall Break - No School
END:VEVENT
BEGIN:VEVENT
DTSTAMP:20260420T050259Z
UID:bdac969f-fcfb-4ae5-95b3-00cd49820f00
DTSTART;VALUE=DATE:20261016
DTEND;VALUE=DATE:20261017
DESCRIPTION:
LOCATION:
SUMMARY:End of Q1
END:VEVENT
BEGIN:VEVENT
DTSTAMP:20260420T050259Z
UID:564a38e9-aab3-4cce-8106-515a894aaa51
DTSTART;VALUE=DATE:20261016
DTEND;VALUE=DATE:20261017
DESCRIPTION:
LOCATION:
SUMMARY:MMH Flu Vaccine Clinic
END:VEVENT
BEGIN:VEVENT
DTSTAMP:20260420T050259Z
UID:70c97feb-2c3c-4b57-97a1-fc5b115712d0
DTSTART:20261125T130000
DTEND:20261127T130000
DESCRIPTION:
LOCATION:
SUMMARY:Thanksgiving Break - No School
END:VEVENT
BEGIN:VEVENT
DTSTAMP:20260420T050259Z
UID:4da1bb05-63e8-43c9-babe-6901dde4e243
DTSTART;VALUE=DATE:20261218
DTEND;VALUE=DATE:20261219
DESCRIPTION:
LOCATION:
SUMMARY:End of Q2/S1
END:VEVENT
BEGIN:VEVENT
DTSTAMP:20260420T050259Z
UID:453bf00c-4c73-4ad5-a7ee-36ceda114edb
DTSTART;VALUE=DATE:20261221
DTEND;VALUE=DATE:20261226
DESCRIPTION:
LOCATION:
SUMMARY:Winter Break - No School
END:VEVENT
BEGIN:VEVENT
DTSTAMP:20260420T050259Z
UID:a74be088-61c1-4deb-9ab6-40d5c4ad4c5c
DTSTART;VALUE=DATE:20261228
DTEND;VALUE=DATE:20270102
DESCRIPTION:
LOCATION:
SUMMARY:Winter Break - No School
END:VEVENT
BEGIN:VEVENT
DTSTAMP:20260420T050259Z
UID:933afd3b-2598-4c64-a603-3f8852ab3a3d
DTSTART;VALUE=DATE:20270104
DTEND;VALUE=DATE:20270105
DESCRIPTION:
LOCATION:
SUMMARY:Classes Resume
END:VEVENT
BEGIN:VEVENT
DTSTAMP:20260420T050259Z
UID:11103dd3-7bd5-4d86-b787-c9d431fb3b23
DTSTART;VALUE=DATE:20270118
DTEND;VALUE=DATE:20270119
DESCRIPTION:
LOCATION:
SUMMARY:MLK Day - Possible Make-up Day
END:VEVENT
BEGIN:VEVENT
DTSTAMP:20260420T050259Z
UID:45cb5057-8214-46e2-a676-bb99c3f2e2bc
DTSTART;VALUE=DATE:20270215
DTEND;VALUE=DATE:20270216
DESCRIPTION:
LOCATION:
SUMMARY:Presidents’ Day - Possible Make-up Day
END:VEVENT
BEGIN:VEVENT
DTSTAMP:20260420T050259Z
UID:61d1bd31-a9d3-4404-a164-0d1cfa0741f3
DTSTART;VALUE=DATE:20270305
DTEND;VALUE=DATE:20270306
DESCRIPTION:
LOCATION:
SUMMARY:eLearn Day
END:VEVENT
BEGIN:VEVENT
DTSTAMP:20260420T050259Z
UID:e6f5dbe3-b026-4bed-aa26-cebdb882fede
DTSTART;VALUE=DATE:20270305
DTEND;VALUE=DATE:20270306
DESCRIPTION:
LOCATION:
SUMMARY:End of Q3
END:VEVENT
BEGIN:VEVENT
DTSTAMP:20260420T050259Z
UID:2cffda22-411c-42eb-9742-fb0443d45995
DTSTART;VALUE=DATE:20270319
DTEND;VALUE=DATE:20270320
DESCRIPTION:
LOCATION:
SUMMARY:Spring Break - No School
END:VEVENT
BEGIN:VEVENT
DTSTAMP:20260420T050259Z
UID:1b2c73fa-2282-4e83-bd54-cc16929f0b5b
DTSTART;VALUE=DATE:20270322
DTEND;VALUE=DATE:20270327
DESCRIPTION:
LOCATION:
SUMMARY:Spring Break - No School
END:VEVENT
BEGIN:VEVENT
DTSTAMP:20260420T050259Z
UID:dff92afd-97b5-4b65-9bd5-a0f48c8cc24b
DTSTART;VALUE=DATE:20270526
DTEND;VALUE=DATE:20270527
DESCRIPTION:
LOCATION:
SUMMARY:End of Q4/S2
END:VEVENT
BEGIN:VEVENT
DTSTAMP:20260420T050259Z
UID:461f5740-f4df-474d-8db2-de75c0caf5b3
DTSTART;VALUE=DATE:20270527
DTEND;VALUE=DATE:20270528
DESCRIPTION:
LOCATION:
SUMMARY:Teacher 1/2 Day
END:VEVENT
BEGIN:VEVENT
DTSTAMP:20260420T050259Z
UID:5b5055de-81c4-48e2-997e-a57848474b9a
DTSTART;VALUE=DATE:20270529
DTEND;VALUE=DATE:20270530
DESCRIPTION:
LOCATION:
SUMMARY:MHS Graduation
END:VEVENT
BEGIN:VEVENT
DTSTAMP:20260420T050259Z
UID:88bbf26c-ec7a-4eb6-b35f-fe2ef57917ba
DTSTART;VALUE=DATE:20270531
DTEND;VALUE=DATE:20270601
DESCRIPTION:
LOCATION:
SUMMARY:Memorial Day
END:VEVENT
END:VCALENDAR
