BEGIN:VCALENDAR
VERSION:2.0
PRODID:icalendar-ruby
CALSCALE:GREGORIAN
BEGIN:VTIMEZONE
TZID:America/Chicago
BEGIN:DAYLIGHT
DTSTART:20260308T030000
TZOFFSETFROM:-0600
TZOFFSETTO:-0500
RRULE:FREQ=YEARLY;BYDAY=2SU;BYMONTH=3
TZNAME:CDT
END:DAYLIGHT
BEGIN:STANDARD
DTSTART:20261101T010000
TZOFFSETFROM:-0500
TZOFFSETTO:-0600
RRULE:FREQ=YEARLY;BYDAY=1SU;BYMONTH=11
TZNAME:CST
END:STANDARD
END:VTIMEZONE
BEGIN:VEVENT
DTSTAMP:20260420T132158Z
UID:85e4a9e3-4e88-4bc6-9268-152f11e668e2
DTSTART:20260504T170000
DTEND:20260504T180000
DESCRIPTION:
LOCATION:
SUMMARY:School Board Meeting
END:VEVENT
BEGIN:VEVENT
DTSTAMP:20260420T132158Z
UID:0f0201e3-b1cc-49bd-afbd-86b2ec79bcdb
DTSTART;VALUE=DATE:20260507
DTEND;VALUE=DATE:20260508
DESCRIPTION:
LOCATION:
SUMMARY:Fourth Term Progress Reports
END:VEVENT
BEGIN:VEVENT
DTSTAMP:20260420T132158Z
UID:552a2b89-701c-444d-bde4-f2a2a92209ac
DTSTART;VALUE=DATE:20260525
DTEND;VALUE=DATE:20260526
DESCRIPTION:
LOCATION:
SUMMARY:Memorial Day - No School
END:VEVENT
BEGIN:VEVENT
DTSTAMP:20260420T132158Z
UID:05bef28f-8eaf-4969-9ae9-9d88d5e0bd62
DTSTART;VALUE=DATE:20260527
DTEND;VALUE=DATE:20260528
DESCRIPTION:
LOCATION:
SUMMARY:Gulfport High School Graduation
END:VEVENT
BEGIN:VEVENT
DTSTAMP:20260420T132158Z
UID:41263124-7c63-47f4-8510-62cff9827a8e
DTSTART:20260601T170000
DTEND:20260601T180000
DESCRIPTION:
LOCATION:
SUMMARY:School Board Meeting
END:VEVENT
BEGIN:VEVENT
DTSTAMP:20260420T132158Z
UID:9f35ed47-910b-41d9-b3ce-e0e710c8e3f7
DTSTART;VALUE=DATE:20260602
DTEND;VALUE=DATE:20260605
DESCRIPTION:
LOCATION:
SUMMARY:Fourth Term Exams
END:VEVENT
BEGIN:VEVENT
DTSTAMP:20260420T132158Z
UID:ccc4ca12-9e5e-49ec-8e05-abddc8c0e393
DTSTART;VALUE=DATE:20260605
DTEND;VALUE=DATE:20260606
DESCRIPTION:
LOCATION:
SUMMARY:End Fourth Term
END:VEVENT
BEGIN:VEVENT
DTSTAMP:20260420T132158Z
UID:1870ad19-83c5-44f2-bca4-69a761264540
DTSTART;VALUE=DATE:20260608
DTEND;VALUE=DATE:20260609
DESCRIPTION:
LOCATION:
SUMMARY:Essential Pieces - Site Level
END:VEVENT
BEGIN:VEVENT
DTSTAMP:20260420T132158Z
UID:43887001-8f28-40ce-8890-1e05ff512fba
DTSTART;VALUE=DATE:20260608
DTEND;VALUE=DATE:20260609
DESCRIPTION:
LOCATION:
SUMMARY:Fourth Term Report Cards
END:VEVENT
BEGIN:VEVENT
DTSTAMP:20260420T132158Z
UID:5ad12e20-90c3-4eb9-b0ec-785f2281dffc
DTSTART;VALUE=DATE:20260609
DTEND;VALUE=DATE:20260610
DESCRIPTION:
LOCATION:
SUMMARY:Report Cards Mailed by June 9th
END:VEVENT
BEGIN:VEVENT
DTSTAMP:20260420T132158Z
UID:107261ea-f995-445d-a2f4-5654e9b9bb2e
DTSTART:20260706T170000
DTEND:20260706T180000
DESCRIPTION:
LOCATION:
SUMMARY:School Board Meeting
END:VEVENT
BEGIN:VEVENT
DTSTAMP:20260420T132158Z
UID:0bc5bc02-82f7-43a3-aca7-d295911794f5
DTSTART;VALUE=DATE:20260720
DTEND;VALUE=DATE:20260721
DESCRIPTION:
LOCATION:
SUMMARY:Essential Pieces - District Level
END:VEVENT
BEGIN:VEVENT
DTSTAMP:20260420T132158Z
UID:ab3954b3-3f54-49ad-aa14-dbb0da0a15aa
DTSTART;VALUE=DATE:20260721
DTEND;VALUE=DATE:20260724
DESCRIPTION:
LOCATION:
SUMMARY:Essential Pieces - Site Level
END:VEVENT
BEGIN:VEVENT
DTSTAMP:20260420T132158Z
UID:410ea4d7-2451-41db-8976-914fe8ddbcf3
DTSTART;VALUE=DATE:20260723
DTEND;VALUE=DATE:20260724
DESCRIPTION:
LOCATION:
SUMMARY:6th and 9th Grades - First Day of School - 60% day
END:VEVENT
BEGIN:VEVENT
DTSTAMP:20260420T132158Z
UID:a60e6889-5d58-4964-abeb-86d420bc5efa
DTSTART;VALUE=DATE:20260724
DTEND;VALUE=DATE:20260725
DESCRIPTION:
LOCATION:
SUMMARY:First Day of School
END:VEVENT
BEGIN:VEVENT
DTSTAMP:20260420T132158Z
UID:0eaad0f0-7fbb-420c-a417-fcf652ff35d6
DTSTART:20260803T170000
DTEND:20260803T180000
DESCRIPTION:
LOCATION:
SUMMARY:School Board Meeting
END:VEVENT
BEGIN:VEVENT
DTSTAMP:20260420T132158Z
UID:d36220cc-451c-41b3-94a3-a44c0885249c
DTSTART;VALUE=DATE:20260827
DTEND;VALUE=DATE:20260828
DESCRIPTION:
LOCATION:
SUMMARY:First Term Progress Reports
END:VEVENT
BEGIN:VEVENT
DTSTAMP:20260420T132158Z
UID:00b661c9-6975-4d29-bf6b-19d003854d12
DTSTART;VALUE=DATE:20260907
DTEND;VALUE=DATE:20260908
DESCRIPTION:
LOCATION:
SUMMARY:Labor Day Holiday - No School
END:VEVENT
BEGIN:VEVENT
DTSTAMP:20260420T132158Z
UID:1cfb03b9-b90c-47fc-9a2a-cef65e714632
DTSTART:20260908T170000
DTEND:20260908T180000
DESCRIPTION:
LOCATION:
SUMMARY:School Board Meeting
END:VEVENT
BEGIN:VEVENT
DTSTAMP:20260420T132158Z
UID:f3d193b3-9b4d-4afd-8237-bde554c03031
DTSTART;VALUE=DATE:20260922
DTEND;VALUE=DATE:20260925
DESCRIPTION:
LOCATION:
SUMMARY:First Term Exams
END:VEVENT
BEGIN:VEVENT
DTSTAMP:20260420T132158Z
UID:31a094d3-cdf1-4c75-96de-1afb7948f42f
DTSTART;VALUE=DATE:20260925
DTEND;VALUE=DATE:20260926
DESCRIPTION:
LOCATION:
SUMMARY:End First Term ( 45 Days of Instruction)
END:VEVENT
BEGIN:VEVENT
DTSTAMP:20260420T132158Z
UID:e5e2386b-8bdd-4802-af1e-253c1e667046
DTSTART;VALUE=DATE:20260928
DTEND;VALUE=DATE:20260929
DESCRIPTION:
LOCATION:
SUMMARY:Essential Pieces - Teachers Only
END:VEVENT
BEGIN:VEVENT
DTSTAMP:20260420T132158Z
UID:2727ee25-b90c-4520-bb58-6966a94b0574
DTSTART;VALUE=DATE:20260928
DTEND;VALUE=DATE:20261001
DESCRIPTION:
LOCATION:
SUMMARY:GSD Intersession
END:VEVENT
BEGIN:VEVENT
DTSTAMP:20260420T132158Z
UID:c5c7bd35-b9d9-4701-a6f1-27b6c1d64cd6
DTSTART;VALUE=DATE:20261001
DTEND;VALUE=DATE:20261003
DESCRIPTION:
LOCATION:
SUMMARY:GSD Intersession
END:VEVENT
BEGIN:VEVENT
DTSTAMP:20260420T132158Z
UID:35dc9c4f-e667-4cd7-824f-9fab6d02ef36
DTSTART;VALUE=DATE:20261005
DTEND;VALUE=DATE:20261010
DESCRIPTION:
LOCATION:
SUMMARY:GSD Intersession/Fall Break
END:VEVENT
BEGIN:VEVENT
DTSTAMP:20260420T132158Z
UID:f6826257-3a59-45a4-9c68-845ce97cc7d5
DTSTART:20261005T170000
DTEND:20261005T180000
DESCRIPTION:
LOCATION:
SUMMARY:School Board Meeting
END:VEVENT
BEGIN:VEVENT
DTSTAMP:20260420T132158Z
UID:fff83740-f1d1-40e7-857c-c27478e56d55
DTSTART;VALUE=DATE:20261012
DTEND;VALUE=DATE:20261013
DESCRIPTION:
LOCATION:
SUMMARY:Begin Second Term
END:VEVENT
BEGIN:VEVENT
DTSTAMP:20260420T132158Z
UID:c4c3144e-d5ac-41e7-88c8-6deb1d1479e4
DTSTART;VALUE=DATE:20261015
DTEND;VALUE=DATE:20261016
DESCRIPTION:
LOCATION:
SUMMARY:First Term Report Cards
END:VEVENT
BEGIN:VEVENT
DTSTAMP:20260420T132158Z
UID:6f7b47b6-49fb-498d-bce0-d0704b1758de
DTSTART;VALUE=DATE:20261101
DTEND;VALUE=DATE:20261102
DESCRIPTION:
LOCATION:
SUMMARY:Daylight Savings Time Ends
END:VEVENT
BEGIN:VEVENT
DTSTAMP:20260420T132158Z
UID:15fc04f7-5b99-408e-b1d1-24d85116e486
DTSTART:20261102T170000
DTEND:20261102T180000
DESCRIPTION:
LOCATION:
SUMMARY:School Board Meeting
END:VEVENT
BEGIN:VEVENT
DTSTAMP:20260420T132158Z
UID:8c6ae9aa-f2a5-486b-95a2-f0d65eef0a8d
DTSTART;VALUE=DATE:20261112
DTEND;VALUE=DATE:20261113
DESCRIPTION:
LOCATION:
SUMMARY:Second Term Progress Reports
END:VEVENT
BEGIN:VEVENT
DTSTAMP:20260420T132158Z
UID:bec01328-1f86-4b08-bddf-f1550bd94955
DTSTART;VALUE=DATE:20261123
DTEND;VALUE=DATE:20261128
DESCRIPTION:
LOCATION:
SUMMARY:Thanksgiving Holiday - No School
END:VEVENT
BEGIN:VEVENT
DTSTAMP:20260420T132158Z
UID:4765da70-6812-4931-aee0-a4fadfed4a9b
DTSTART:20261207T170000
DTEND:20261207T180000
DESCRIPTION:
LOCATION:
SUMMARY:School Board Meeting
END:VEVENT
BEGIN:VEVENT
DTSTAMP:20260420T132158Z
UID:030508b6-8fe1-433c-b584-b7b6201862e8
DTSTART;VALUE=DATE:20261215
DTEND;VALUE=DATE:20261218
DESCRIPTION:
LOCATION:
SUMMARY:Second Term Exams
END:VEVENT
BEGIN:VEVENT
DTSTAMP:20260420T132158Z
UID:9963449a-a64e-4f47-a5dc-a013a1e56934
DTSTART;VALUE=DATE:20261218
DTEND;VALUE=DATE:20261219
DESCRIPTION:
LOCATION:
SUMMARY:End Second Term (45 Days of Instruction)
END:VEVENT
BEGIN:VEVENT
DTSTAMP:20260420T132158Z
UID:69b3a114-269b-4da4-8d22-bc521abfac7d
DTSTART;VALUE=DATE:20261221
DTEND;VALUE=DATE:20270101
DESCRIPTION:
LOCATION:
SUMMARY:Christmas Break - No School
END:VEVENT
BEGIN:VEVENT
DTSTAMP:20260420T132158Z
UID:929b32d7-535b-4cf2-aeb7-ed371a51e0a9
DTSTART;VALUE=DATE:20270101
DTEND;VALUE=DATE:20270102
DESCRIPTION:
LOCATION:
SUMMARY:Winter Break - No School
END:VEVENT
BEGIN:VEVENT
DTSTAMP:20260420T132158Z
UID:56ea4397-1820-4680-8393-f60e4519aad1
DTSTART;VALUE=DATE:20270104
DTEND;VALUE=DATE:20270109
DESCRIPTION:
LOCATION:
SUMMARY:GSD Intersession
END:VEVENT
BEGIN:VEVENT
DTSTAMP:20260420T132158Z
UID:8f9800ca-5d4a-43b6-8ca9-63719c06674f
DTSTART:20270104T170000
DTEND:20270104T180000
DESCRIPTION:
LOCATION:
SUMMARY:School Board Meeting
END:VEVENT
BEGIN:VEVENT
DTSTAMP:20260420T132158Z
UID:c8f4830f-de31-4a42-a1dc-b73c311130aa
DTSTART;VALUE=DATE:20270108
DTEND;VALUE=DATE:20270109
DESCRIPTION:
LOCATION:
SUMMARY:Essential Pieces - Teachers Only
END:VEVENT
BEGIN:VEVENT
DTSTAMP:20260420T132158Z
UID:63458fb1-f6a6-4a25-962e-440b40595468
DTSTART;VALUE=DATE:20270111
DTEND;VALUE=DATE:20270112
DESCRIPTION:
LOCATION:
SUMMARY:Begin Third Term
END:VEVENT
BEGIN:VEVENT
DTSTAMP:20260420T132158Z
UID:81f6078b-292e-4542-b71c-2077105f77a5
DTSTART;VALUE=DATE:20270114
DTEND;VALUE=DATE:20270115
DESCRIPTION:
LOCATION:
SUMMARY:Second Term Report Cards
END:VEVENT
BEGIN:VEVENT
DTSTAMP:20260420T132158Z
UID:923c50bb-f98b-4b2b-9d06-2b66740b62ef
DTSTART;VALUE=DATE:20270118
DTEND;VALUE=DATE:20270119
DESCRIPTION:
LOCATION:
SUMMARY:Dr. M. L. King\, Jr. Holiday - No School
END:VEVENT
BEGIN:VEVENT
DTSTAMP:20260420T132158Z
UID:a949817c-9f5e-43c9-8617-8bb7f2cf67be
DTSTART:20270201T170000
DTEND:20270201T180000
DESCRIPTION:
LOCATION:
SUMMARY:School Board Meeting
END:VEVENT
BEGIN:VEVENT
DTSTAMP:20260420T132158Z
UID:6d5b35c5-9bb0-408c-a8c3-674733d4cc43
DTSTART;VALUE=DATE:20270208
DTEND;VALUE=DATE:20270211
DESCRIPTION:
LOCATION:
SUMMARY:Mardi Gras Holiday - Schools Closed
END:VEVENT
END:VCALENDAR
