BEGIN:VCALENDAR
VERSION:2.0
PRODID:icalendar-ruby
CALSCALE:GREGORIAN
BEGIN:VTIMEZONE
TZID:America/New_York
BEGIN:DAYLIGHT
DTSTART:20260308T030000
TZOFFSETFROM:-0500
TZOFFSETTO:-0400
RRULE:FREQ=YEARLY;BYDAY=2SU;BYMONTH=3
TZNAME:EDT
END:DAYLIGHT
BEGIN:STANDARD
DTSTART:20261101T010000
TZOFFSETFROM:-0400
TZOFFSETTO:-0500
RRULE:FREQ=YEARLY;BYDAY=1SU;BYMONTH=11
TZNAME:EST
END:STANDARD
END:VTIMEZONE
BEGIN:VEVENT
DTSTAMP:20260423T125918Z
UID:6048fc67-13d1-4dfc-815a-6e08c62011bf
DTSTART;VALUE=DATE:20260521
DTEND;VALUE=DATE:20260522
DESCRIPTION:
LOCATION:
SUMMARY:End of 4th Quarter & 2nd Semester
END:VEVENT
BEGIN:VEVENT
DTSTAMP:20260423T125918Z
UID:16701f87-ae30-4b74-987e-80d67428ea98
DTSTART;VALUE=DATE:20260521
DTEND;VALUE=DATE:20260522
DESCRIPTION:
LOCATION:
SUMMARY:Last Student Day  
END:VEVENT
BEGIN:VEVENT
DTSTAMP:20260423T125918Z
UID:59664cf6-4488-4234-becb-0f9660638322
DTSTART:20260523T090000
DTEND:20260523T120000
DESCRIPTION:
LOCATION:
SUMMARY:Graduation
END:VEVENT
BEGIN:VEVENT
DTSTAMP:20260423T125918Z
UID:e1a238f9-a52d-4d6e-a904-16ee3c737118
DTSTART:20260525T080000
DTEND:20260525T090000
DESCRIPTION:
LOCATION:
SUMMARY:Memorial Day
END:VEVENT
BEGIN:VEVENT
DTSTAMP:20260423T125918Z
UID:1a23f62a-388b-4a96-a9ac-0c73edec5f03
DTSTART:20260810T080000
DTEND:20260810T151500
DESCRIPTION:
LOCATION:
SUMMARY:First Day of School
END:VEVENT
BEGIN:VEVENT
DTSTAMP:20260423T125918Z
UID:4a9b8313-6509-419c-84eb-2823290bfa51
DTSTART:20260907T080000
DTEND:20260907T150000
DESCRIPTION:
LOCATION:
SUMMARY:Labor Day - No School
END:VEVENT
BEGIN:VEVENT
DTSTAMP:20260423T125918Z
UID:030d1f6e-45f0-499a-ae01-a82302280f9e
DTSTART:20260911T080000
DTEND:20260911T150000
DESCRIPTION:
LOCATION:
SUMMARY:Planned eLearning Day
END:VEVENT
BEGIN:VEVENT
DTSTAMP:20260423T125918Z
UID:4e6e42dd-a093-4f1f-8f37-064e5a53b0f5
DTSTART:20261002T080000
DTEND:20261002T150000
DESCRIPTION:
LOCATION:
SUMMARY:Fall Break
END:VEVENT
BEGIN:VEVENT
DTSTAMP:20260423T125918Z
UID:dbed5371-ee5e-4bb4-a792-3aada4bc71f7
DTSTART:20261005T080000
DTEND:20261009T150000
DESCRIPTION:
LOCATION:
SUMMARY:Fall Break
END:VEVENT
BEGIN:VEVENT
DTSTAMP:20260423T125918Z
UID:e9ceb673-398f-4208-8e60-7c262608c328
DTSTART:20261016T080000
DTEND:20261016T150000
DESCRIPTION:
LOCATION:
SUMMARY:End of 1st Quarter
END:VEVENT
BEGIN:VEVENT
DTSTAMP:20260423T125918Z
UID:279b25bf-084e-4b2f-8fd5-3bbf100a3cbc
DTSTART:20261125T080000
DTEND:20261127T150000
DESCRIPTION:
LOCATION:
SUMMARY:Thanksgiving Break
END:VEVENT
BEGIN:VEVENT
DTSTAMP:20260423T125918Z
UID:3d540ab5-975a-4892-87c9-9fa1b333f933
DTSTART:20261218T080000
DTEND:20261218T150000
DESCRIPTION:
LOCATION:
SUMMARY:End of 2nd Quarter  & 1st Semester
END:VEVENT
BEGIN:VEVENT
DTSTAMP:20260423T125918Z
UID:8ae90567-5b82-4b66-8c6f-b49204bb4e88
DTSTART:20261221T080000
DTEND:20270101T150000
DESCRIPTION:
LOCATION:
SUMMARY:Winter Break
END:VEVENT
BEGIN:VEVENT
DTSTAMP:20260423T125918Z
UID:80b1c3df-42ab-4c60-8fe3-01cf68ceb4e5
DTSTART:20270104T080000
DTEND:20270104T150000
DESCRIPTION:
LOCATION:
SUMMARY:Classes Resume
END:VEVENT
BEGIN:VEVENT
DTSTAMP:20260423T125918Z
UID:30053633-ddde-4b96-a7ef-cbfdb82a3a9a
DTSTART:20270118T080000
DTEND:20270118T150000
DESCRIPTION:
LOCATION:
SUMMARY:MLK Day - Possible Make-Up Day
END:VEVENT
BEGIN:VEVENT
DTSTAMP:20260423T125918Z
UID:6faf50dd-2762-48ed-a485-425bf6ee8498
DTSTART:20270215T080000
DTEND:20270215T150000
DESCRIPTION:
LOCATION:
SUMMARY:Presidents' Day - Possible Make-Up Day
END:VEVENT
BEGIN:VEVENT
DTSTAMP:20260423T125918Z
UID:d5cefcc2-a7c7-41ee-a0c9-ad7e7a8bee59
DTSTART:20270305T080000
DTEND:20270305T150000
DESCRIPTION:
LOCATION:
SUMMARY:Planned  eLearning Day - End of Qtr 3
END:VEVENT
BEGIN:VEVENT
DTSTAMP:20260423T125918Z
UID:fdccce44-ab11-4546-a001-c8214d0769b1
DTSTART:20270319T080000
DTEND:20270319T150000
DESCRIPTION:
LOCATION:
SUMMARY:Spring Break
END:VEVENT
BEGIN:VEVENT
DTSTAMP:20260423T125918Z
UID:c2d98925-0a18-4117-bf5f-9a6259b737ad
DTSTART:20270322T080000
DTEND:20270326T150000
DESCRIPTION:
LOCATION:
SUMMARY:Spring Break
END:VEVENT
BEGIN:VEVENT
DTSTAMP:20260423T125918Z
UID:0087c7d2-5750-4271-b963-8ff1142344ec
DTSTART:20270526T080000
DTEND:20270526T150000
DESCRIPTION:
LOCATION:
SUMMARY:End of 4th Quarter & 2nd Semester
END:VEVENT
BEGIN:VEVENT
DTSTAMP:20260423T125918Z
UID:eaae3bfc-6140-4478-b6a0-8e0c78e0274c
DTSTART:20270529T090000
DTEND:20270529T120000
DESCRIPTION:
LOCATION:
SUMMARY:Graduation
END:VEVENT
BEGIN:VEVENT
DTSTAMP:20260423T125918Z
UID:5a5419f2-08f5-4825-b4dc-3810946d6e9a
DTSTART:20270531T080000
DTEND:20270531T150000
DESCRIPTION:
LOCATION:
SUMMARY:Memorial Day
END:VEVENT
END:VCALENDAR
