BEGIN:VCALENDAR
VERSION:2.0
PRODID:icalendar-ruby
CALSCALE:GREGORIAN
BEGIN:VTIMEZONE
TZID:America/Chicago
BEGIN:DAYLIGHT
DTSTART:20260308T030000
TZOFFSETFROM:-0600
TZOFFSETTO:-0500
RRULE:FREQ=YEARLY;BYDAY=2SU;BYMONTH=3
TZNAME:CDT
END:DAYLIGHT
BEGIN:STANDARD
DTSTART:20261101T010000
TZOFFSETFROM:-0500
TZOFFSETTO:-0600
RRULE:FREQ=YEARLY;BYDAY=1SU;BYMONTH=11
TZNAME:CST
END:STANDARD
END:VTIMEZONE
BEGIN:VEVENT
DTSTAMP:20260420T124655Z
UID:37c9f172-1e40-4e31-9931-855f99f12861
DTSTART;VALUE=DATE:20260420
DTEND;VALUE=DATE:20260421
DESCRIPTION:Type: school only Opponent:  
LOCATION:
SUMMARY:Teacher's Inservice-No School   
END:VEVENT
BEGIN:VEVENT
DTSTAMP:20260420T124655Z
UID:f7fa4ff0-4849-41d6-b37c-7a5dd7c6000d
DTSTART:20260420T080000
DTEND:20260420T080000
DESCRIPTION:Type: school only Opponent:  
LOCATION:JCC
SUMMARY:District Music Contest   
END:VEVENT
BEGIN:VEVENT
DTSTAMP:20260420T124655Z
UID:8c6fb316-46ee-48b8-acfa-f4f756093ff9
DTSTART:20260420T180000
DTEND:20260420T180000
DESCRIPTION:Type: school only Opponent:  
LOCATION:CONFERENCE ROOM
SUMMARY:Board Of Education Mtg   
END:VEVENT
BEGIN:VEVENT
DTSTAMP:20260420T124655Z
UID:f6e28b16-b6f3-4ddf-9593-599dcceb631f
DTSTART:20260504T080000
DTEND:20260504T160000
DESCRIPTION:Type: school only Opponent:  
LOCATION:
SUMMARY:SCHOOL IS IN SESSION   
END:VEVENT
BEGIN:VEVENT
DTSTAMP:20260420T124655Z
UID:8020eaa5-11a1-4bbb-b12c-33a637b3e886
DTSTART:20260507T190000
DTEND:20260507T190000
DESCRIPTION:Type: school only Opponent:  
LOCATION:
SUMMARY:Vivace Spring Tour   
END:VEVENT
BEGIN:VEVENT
DTSTAMP:20260420T124655Z
UID:1f4ab76e-b810-4824-8892-b3f1c183d14f
DTSTART;VALUE=DATE:20260508
DTEND;VALUE=DATE:20260509
DESCRIPTION:Type: school only Opponent:  Comments: 11:30 dismissal 
LOCATION:
SUMMARY:Possible Make-Up Day   
END:VEVENT
BEGIN:VEVENT
DTSTAMP:20260420T124655Z
UID:090c1422-d06b-48e2-849f-0e9d5bbc6229
DTSTART;VALUE=DATE:20260511
DTEND;VALUE=DATE:20260512
DESCRIPTION:Type: school only Opponent:  
LOCATION:
SUMMARY:Teacher's Inservice-No School   
END:VEVENT
BEGIN:VEVENT
DTSTAMP:20260420T124655Z
UID:90140fc4-5118-4f05-9e72-faf7f32a1465
DTSTART:20260516T140000
DTEND:20260516T140000
DESCRIPTION:Type: school only Opponent:  
LOCATION:Main Gym
SUMMARY:Choir at Graduation   
END:VEVENT
BEGIN:VEVENT
DTSTAMP:20260420T124655Z
UID:25c97733-b3b2-4c86-bec6-91a1528a440c
DTSTART:20260516T140000
DTEND:20260516T140000
DESCRIPTION:Type: school only Opponent:  
LOCATION:Main Gym
SUMMARY:Graduation   
END:VEVENT
BEGIN:VEVENT
DTSTAMP:20260420T124655Z
UID:fdc200c2-87b8-4466-81de-882a3aa97929
DTSTART:20260518T080000
DTEND:20260518T160000
DESCRIPTION:Type: school only Opponent:  
LOCATION:
SUMMARY:SCHOOL IS IN SESSION   
END:VEVENT
BEGIN:VEVENT
DTSTAMP:20260420T124655Z
UID:b237dd3a-85c8-4a6d-96cd-277b1eadfd46
DTSTART:20260518T180000
DTEND:20260518T180000
DESCRIPTION:Type: school only Opponent:  
LOCATION:CONFERENCE ROOM
SUMMARY:Board Of Education Mtg   
END:VEVENT
BEGIN:VEVENT
DTSTAMP:20260420T124655Z
UID:78bce254-f389-4584-846c-9f61eab0eb6d
DTSTART;VALUE=DATE:20260519
DTEND;VALUE=DATE:20260520
DESCRIPTION:Type: school only Opponent:  
LOCATION:Main Gym
SUMMARY:Middle School End-of-the-Year Concert   
END:VEVENT
BEGIN:VEVENT
DTSTAMP:20260420T124655Z
UID:e137f9fe-cfdd-4da1-b342-a9a66d67fe65
DTSTART:20260521T113000
DTEND:20260521T113000
DESCRIPTION:Type: school only Opponent:  Comments: 11:30 dismissal 
LOCATION:
SUMMARY:Last day of school for students & staff   
END:VEVENT
BEGIN:VEVENT
DTSTAMP:20260420T124655Z
UID:ac641d90-6d81-4196-9fc4-2926567a6dac
DTSTART:20260615T180000
DTEND:20260615T180000
DESCRIPTION:Type: school only Opponent:  
LOCATION:CONFERENCE ROOM
SUMMARY:Board Of Education Mtg   
END:VEVENT
BEGIN:VEVENT
DTSTAMP:20260420T124655Z
UID:35f747b1-f761-490d-817d-8d1771bfcc0c
DTSTART;VALUE=DATE:20260706
DTEND;VALUE=DATE:20260707
DESCRIPTION:Type: school only Opponent:  
LOCATION:Washington DC
SUMMARY:National FCCLA Conference   
END:VEVENT
BEGIN:VEVENT
DTSTAMP:20260420T124655Z
UID:21fc7170-f8c5-42a6-a5a8-3ebc318631a6
DTSTART;VALUE=DATE:20260707
DTEND;VALUE=DATE:20260708
DESCRIPTION:Type: school only Opponent:  
LOCATION:Washington DC
SUMMARY:National FCCLA Conference   
END:VEVENT
BEGIN:VEVENT
DTSTAMP:20260420T124655Z
UID:8e555ae7-a053-4abc-8199-406a5ed3cb92
DTSTART;VALUE=DATE:20260708
DTEND;VALUE=DATE:20260709
DESCRIPTION:Type: school only Opponent:  
LOCATION:Washington DC
SUMMARY:National FCCLA Conference   
END:VEVENT
BEGIN:VEVENT
DTSTAMP:20260420T124655Z
UID:49444159-f47f-47ae-aed1-cf2a8330dd10
DTSTART;VALUE=DATE:20260709
DTEND;VALUE=DATE:20260710
DESCRIPTION:Type: school only Opponent:  
LOCATION:Washington DC
SUMMARY:National FCCLA Conference   
END:VEVENT
BEGIN:VEVENT
DTSTAMP:20260420T124655Z
UID:0061b10a-336f-4f7d-933b-b8665c4d560b
DTSTART;VALUE=DATE:20260710
DTEND;VALUE=DATE:20260711
DESCRIPTION:Type: school only Opponent:  
LOCATION:Washington DC
SUMMARY:National FCCLA Conference   
END:VEVENT
BEGIN:VEVENT
DTSTAMP:20260420T124655Z
UID:f8eb603a-f46e-49f4-ab1e-d5690897d495
DTSTART;VALUE=DATE:20261224
DTEND;VALUE=DATE:20261225
DESCRIPTION:Type: school only Opponent:  
LOCATION:
SUMMARY:Winter Break   
END:VEVENT
BEGIN:VEVENT
DTSTAMP:20260420T124655Z
UID:18d46abf-a366-4d57-85a6-a6d2a486bd81
DTSTART;VALUE=DATE:20270331
DTEND;VALUE=DATE:20270401
DESCRIPTION:Type: school only Opponent:  
LOCATION:Lincoln
SUMMARY:FFA State Convention   
END:VEVENT
BEGIN:VEVENT
DTSTAMP:20260420T124655Z
UID:4211836f-573c-4c7e-bfbe-f4ea78fca16d
DTSTART;VALUE=DATE:20270401
DTEND;VALUE=DATE:20270402
DESCRIPTION:Type: school only Opponent:  
LOCATION:Lincoln
SUMMARY:FFA State Convention   
END:VEVENT
BEGIN:VEVENT
DTSTAMP:20260420T124655Z
UID:cd8f9b76-b0fa-493a-ab20-954aade7fcad
DTSTART;VALUE=DATE:20270402
DTEND;VALUE=DATE:20270403
DESCRIPTION:Type: school only Opponent:  
LOCATION:Lincoln
SUMMARY:FFA State Convention   
END:VEVENT
BEGIN:VEVENT
DTSTAMP:20260420T124655Z
UID:4c7b98dd-3b8f-4212-9b0e-1ed97ce13b03
DTSTART;VALUE=DATE:20270404
DTEND;VALUE=DATE:20270405
DESCRIPTION:Type: school only Opponent:  
LOCATION:Lincoln
SUMMARY:FCCLA State Leadership Conf   
END:VEVENT
BEGIN:VEVENT
DTSTAMP:20260420T124655Z
UID:8785fb6f-d778-4cef-81b5-22530b560892
DTSTART;VALUE=DATE:20270405
DTEND;VALUE=DATE:20270406
DESCRIPTION:Type: school only Opponent:  
LOCATION:Lincoln
SUMMARY:FCCLA State Leadership Conf   
END:VEVENT
BEGIN:VEVENT
DTSTAMP:20260420T124655Z
UID:9e1072a4-f1e2-47ca-b926-6fd666438791
DTSTART;VALUE=DATE:20270406
DTEND;VALUE=DATE:20270407
DESCRIPTION:Type: school only Opponent:  
LOCATION:Lincoln
SUMMARY:FCCLA State Leadership Conf   
END:VEVENT
BEGIN:VEVENT
DTSTAMP:20260420T124655Z
UID:54fe9f8f-f90c-46a8-9941-8280bcd4bcdd
DTSTART;VALUE=DATE:20270408
DTEND;VALUE=DATE:20270409
DESCRIPTION:Type: school only Opponent:  
LOCATION:Kearney
SUMMARY:FBLA State Leadership Conference   
END:VEVENT
BEGIN:VEVENT
DTSTAMP:20260420T124655Z
UID:b4e63ab3-6ed8-4162-b757-769d689f182f
DTSTART;VALUE=DATE:20270409
DTEND;VALUE=DATE:20270410
DESCRIPTION:Type: school only Opponent:  
LOCATION:Kearney
SUMMARY:FBLA State Leadership Conference   
END:VEVENT
BEGIN:VEVENT
DTSTAMP:20260420T124655Z
UID:364e4c9a-2fc0-48b9-b16b-2d6053ed7c1e
DTSTART;VALUE=DATE:20270410
DTEND;VALUE=DATE:20270411
DESCRIPTION:Type: school only Opponent:  
LOCATION:Kearney
SUMMARY:FBLA State Leadership Conference   
END:VEVENT
BEGIN:VEVENT
DTSTAMP:20260420T124655Z
UID:56cfdb0a-d68b-4327-92bb-e956747db092
DTSTART:20290418T083000
DTEND:20290418T150000
DESCRIPTION:Type: school only Opponent:  
LOCATION:Weeping Water
SUMMARY:5th Grade Field Trip   
END:VEVENT
END:VCALENDAR
