BEGIN:VCALENDAR
VERSION:2.0
PRODID:icalendar-ruby
CALSCALE:GREGORIAN
BEGIN:VTIMEZONE
TZID:America/Chicago
BEGIN:DAYLIGHT
DTSTART:20260308T030000
TZOFFSETFROM:-0600
TZOFFSETTO:-0500
RRULE:FREQ=YEARLY;BYDAY=2SU;BYMONTH=3
TZNAME:CDT
END:DAYLIGHT
BEGIN:STANDARD
DTSTART:20261101T010000
TZOFFSETFROM:-0500
TZOFFSETTO:-0600
RRULE:FREQ=YEARLY;BYDAY=1SU;BYMONTH=11
TZNAME:CST
END:STANDARD
END:VTIMEZONE
BEGIN:VEVENT
DTSTAMP:20260423T113235Z
UID:ad676917-c74f-4bdb-8fa8-da204bd2bb67
DTSTART:20260423T160000
DTEND:20260423T200000
DESCRIPTION:
LOCATION:East Illinois\, 700 W Orleans St\, Paxton\, IL 60957\, USA
SUMMARY:PBL JH Home Track Meet
END:VEVENT
BEGIN:VEVENT
DTSTAMP:20260423T113235Z
UID:074b142b-1d25-481c-9fee-b6184ce0b575
DTSTART:20260428T160000
DTEND:20260428T200000
DESCRIPTION:
LOCATION:East Illinois\, 700 W Orleans St\, Paxton\, IL 60957\, USA
SUMMARY:PBL JH Home Track Meet
END:VEVENT
BEGIN:VEVENT
DTSTAMP:20260423T113235Z
UID:a27fcd32-4dbe-41f0-a811-3b7143881f38
DTSTART:20260429T160000
DTEND:20260429T190000
DESCRIPTION:
LOCATION:TBA
SUMMARY:Scholastic Bowl at IESA Regional
END:VEVENT
BEGIN:VEVENT
DTSTAMP:20260423T113235Z
UID:3a7dac84-423d-4c6a-bc2e-2c1b07492550
DTSTART:20260430T160000
DTEND:20260430T200000
DESCRIPTION:
LOCATION:Rantoul Township High School District 193\, IL\, USA
SUMMARY:PBL JH Track @ St Malachy
END:VEVENT
BEGIN:VEVENT
DTSTAMP:20260423T113235Z
UID:343cdc4f-7f30-4a7c-8ce5-bb43aa23a0f4
DTSTART;VALUE=DATE:20260501
DTEND;VALUE=DATE:20260502
DESCRIPTION:
LOCATION:
SUMMARY:School Lunch Hero Day
END:VEVENT
BEGIN:VEVENT
DTSTAMP:20260423T113235Z
UID:dbdbf3fd-d7e7-4dd7-bbab-4fd1aa8a9bf7
DTSTART;VALUE=DATE:20260504
DTEND;VALUE=DATE:20260509
DESCRIPTION:
LOCATION:
SUMMARY:Teacher Appreciation Week 
END:VEVENT
BEGIN:VEVENT
DTSTAMP:20260423T113235Z
UID:efb4cd04-36ea-4684-a596-fe83bfb917ac
DTSTART:20260504T150000
DTEND:20260504T200000
DESCRIPTION:
LOCATION:138 S Belmont Ave\, Watseka\, IL 60970\, USA
SUMMARY:PBL JH Track @ Twin County Conference Meet
END:VEVENT
BEGIN:VEVENT
DTSTAMP:20260423T113235Z
UID:4051ae20-fde2-45ae-9b3c-5c530348ceb6
DTSTART;VALUE=DATE:20260507
DTEND;VALUE=DATE:20260508
DESCRIPTION:
LOCATION:
SUMMARY:National School Nurse Day
END:VEVENT
BEGIN:VEVENT
DTSTAMP:20260423T113235Z
UID:223aa79e-ba09-4efd-b524-ef532f8b2656
DTSTART:20260509T090000
DTEND:20260509T130000
DESCRIPTION:
LOCATION:2115 S 54th Ave\, Cicero\, IL 60804\, USA
SUMMARY:PBL JH Track @ Unity Invite
END:VEVENT
BEGIN:VEVENT
DTSTAMP:20260423T113235Z
UID:17f2808c-8d7e-4fbd-81ef-b425d91969aa
DTSTART:20260516T120000
DTEND:20260516T170000
DESCRIPTION:
LOCATION:Tuscola\, IL 61953\, USA
SUMMARY:PBL JH Track @ IESA Sectional Meet
END:VEVENT
BEGIN:VEVENT
DTSTAMP:20260423T113235Z
UID:0baeb8f8-24c2-491b-b803-8a6334a851ac
DTSTART;VALUE=DATE:20260521
DTEND;VALUE=DATE:20260522
DESCRIPTION:
LOCATION:
SUMMARY:Last Day of Student Attendance (Early Dismissal)
END:VEVENT
BEGIN:VEVENT
DTSTAMP:20260423T113235Z
UID:1996bb4d-0652-4ded-9485-04552d6f2848
DTSTART:20260521T090000
DTEND:20260521T100000
DESCRIPTION:
LOCATION:
SUMMARY:8th grade Recognition 
END:VEVENT
BEGIN:VEVENT
DTSTAMP:20260423T113235Z
UID:4fff004f-6c09-4d71-a22a-47248d613f56
DTSTART;VALUE=DATE:20260522
DTEND;VALUE=DATE:20260523
DESCRIPTION:
LOCATION:Peoria\, IL\, USA
SUMMARY:PBL JH Track @ IESA State Meet
END:VEVENT
BEGIN:VEVENT
DTSTAMP:20260423T113235Z
UID:a0c03a13-cf62-43b3-8f15-0b910d3d294f
DTSTART;VALUE=DATE:20260522
DTEND;VALUE=DATE:20260523
DESCRIPTION:
LOCATION:
SUMMARY:Teacher Institute (No student attendance)
END:VEVENT
END:VCALENDAR
