BEGIN:VCALENDAR
VERSION:2.0
PRODID:icalendar-ruby
CALSCALE:GREGORIAN
BEGIN:VTIMEZONE
TZID:America/New_York
BEGIN:DAYLIGHT
DTSTART:20260308T030000
TZOFFSETFROM:-0500
TZOFFSETTO:-0400
RRULE:FREQ=YEARLY;BYDAY=2SU;BYMONTH=3
TZNAME:EDT
END:DAYLIGHT
BEGIN:STANDARD
DTSTART:20261101T010000
TZOFFSETFROM:-0400
TZOFFSETTO:-0500
RRULE:FREQ=YEARLY;BYDAY=1SU;BYMONTH=11
TZNAME:EST
END:STANDARD
END:VTIMEZONE
BEGIN:VEVENT
DTSTAMP:20260422T195615Z
UID:3c7001e4-b01d-475b-88ae-9a8fb599a41e
DTSTART:20260427T180000
DTEND:20260427T190000
DESCRIPTION:
LOCATION:
SUMMARY:BOE Meeting
END:VEVENT
BEGIN:VEVENT
DTSTAMP:20260422T195615Z
UID:f3dd6116-02a3-47ba-9471-207b48c04645
DTSTART;VALUE=DATE:20260428
DTEND;VALUE=DATE:20260429
DESCRIPTION:
LOCATION:
SUMMARY:Girls Softball @ Home vs. Avon
END:VEVENT
BEGIN:VEVENT
DTSTAMP:20260422T195615Z
UID:dfb7efa6-b8b1-4009-bfd5-3073325b5e1d
DTSTART:20260428T151500
DTEND:20260428T161500
DESCRIPTION:
LOCATION:
SUMMARY:Girls Softball Team Photo
END:VEVENT
BEGIN:VEVENT
DTSTAMP:20260422T195615Z
UID:e13535c8-fb67-4e47-84ca-3e10ef7bee36
DTSTART:20260429T084500
DTEND:20260429T094500
DESCRIPTION:
LOCATION:
SUMMARY:Club Photos for Yearbook
END:VEVENT
BEGIN:VEVENT
DTSTAMP:20260422T195615Z
UID:8bbb5ffa-66da-4bd2-8544-402c39d4a7a9
DTSTART:20260430T183000
DTEND:20260430T193000
DESCRIPTION:
LOCATION:Jumping Brook Country Club\, 210 Jumping Brook Rd\, Neptune Townsh
 ip\, NJ 07753\, USA
SUMMARY:PTO Gift Auction
END:VEVENT
BEGIN:VEVENT
DTSTAMP:20260422T195615Z
UID:8d045ce1-9a90-4b32-9d3e-519b03d66afd
DTSTART;VALUE=DATE:20260501
DTEND;VALUE=DATE:20260502
DESCRIPTION:
LOCATION:
SUMMARY:Girls Softball Away @ Bay Head
END:VEVENT
BEGIN:VEVENT
DTSTAMP:20260422T195615Z
UID:67d34ae3-fc6a-4bac-97f1-577233613176
DTSTART;VALUE=DATE:20260504
DTEND;VALUE=DATE:20260505
DESCRIPTION:
LOCATION:
SUMMARY:Girls Softball @ Home vs. Asbury
END:VEVENT
BEGIN:VEVENT
DTSTAMP:20260422T195615Z
UID:c852a05b-9063-454e-89cb-95089fb1577d
DTSTART;VALUE=DATE:20260504
DTEND;VALUE=DATE:20260509
DESCRIPTION:
LOCATION:
SUMMARY:NJSLA Testing Week
END:VEVENT
BEGIN:VEVENT
DTSTAMP:20260422T195615Z
UID:df28b859-eb48-4f8f-ad35-852913e1150e
DTSTART;VALUE=DATE:20260504
DTEND;VALUE=DATE:20260509
DESCRIPTION:
LOCATION:
SUMMARY:Teacher Appreciation Week
END:VEVENT
BEGIN:VEVENT
DTSTAMP:20260422T195615Z
UID:4b488327-96ef-42e9-b801-cca59381cb27
DTSTART:20260518T180000
DTEND:20260518T190000
DESCRIPTION:
LOCATION:
SUMMARY:BOE Meeting
END:VEVENT
BEGIN:VEVENT
DTSTAMP:20260422T195615Z
UID:ed4b1f2a-268d-4fe5-9d17-e3e4eb8d8ea4
DTSTART:20260519T180000
DTEND:20260519T190000
DESCRIPTION:
LOCATION:
SUMMARY:Variety Show
END:VEVENT
BEGIN:VEVENT
DTSTAMP:20260422T195615Z
UID:ceaa116b-0f45-46e7-8d46-bceea0867ceb
DTSTART:20260522T123000
DTEND:20260522T133000
DESCRIPTION:
LOCATION:
SUMMARY:Dismissal Day
END:VEVENT
BEGIN:VEVENT
DTSTAMP:20260422T195615Z
UID:6a28b69c-c9ce-420e-a549-f912fd2acbd3
DTSTART;VALUE=DATE:20260525
DTEND;VALUE=DATE:20260526
DESCRIPTION:
LOCATION:
SUMMARY:School Closed - Memorial Day
END:VEVENT
BEGIN:VEVENT
DTSTAMP:20260422T195615Z
UID:851761a0-8eb9-42a6-9d72-ad90ec9d33dc
DTSTART;VALUE=DATE:20260527
DTEND;VALUE=DATE:20260530
DESCRIPTION:
LOCATION:
SUMMARY:8th Grade Trip
END:VEVENT
BEGIN:VEVENT
DTSTAMP:20260422T195615Z
UID:58a97ebd-ce5e-42ca-911a-ef88ba271200
DTSTART;VALUE=DATE:20260602
DTEND;VALUE=DATE:20260603
DESCRIPTION:
LOCATION:
SUMMARY:School Closed - Elections
END:VEVENT
BEGIN:VEVENT
DTSTAMP:20260422T195615Z
UID:31b1fac2-8a3f-44de-9012-c77e4c9cb0de
DTSTART:20260604T183000
DTEND:20260604T193000
DESCRIPTION:
LOCATION:
SUMMARY:Spring Showcase of the Arts
END:VEVENT
BEGIN:VEVENT
DTSTAMP:20260422T195615Z
UID:048efc7f-c1d4-4783-9d03-c1cdce338339
DTSTART:20260611T133000
DTEND:20260611T150000
DESCRIPTION:
LOCATION:
SUMMARY:Navigator's Passion Project Showcase
END:VEVENT
BEGIN:VEVENT
DTSTAMP:20260422T195615Z
UID:48389757-f838-49de-a030-2a055e61cf30
DTSTART:20260615T180000
DTEND:20260615T190000
DESCRIPTION:
LOCATION:
SUMMARY:BOE Meeting
END:VEVENT
BEGIN:VEVENT
DTSTAMP:20260422T195615Z
UID:359bc176-3c2f-4bb6-aec5-3d2273c75daa
DTSTART;VALUE=DATE:20260616
DTEND;VALUE=DATE:20260617
DESCRIPTION:
LOCATION:
SUMMARY:Fun Day!
END:VEVENT
BEGIN:VEVENT
DTSTAMP:20260422T195615Z
UID:a75a5bed-6e1a-4606-b856-6c218a6d3dfb
DTSTART:20260618T123000
DTEND:20260618T133000
DESCRIPTION:
LOCATION:
SUMMARY:Dismissal Day
END:VEVENT
BEGIN:VEVENT
DTSTAMP:20260422T195615Z
UID:8a944810-8fdb-46ce-9b85-8095c4d01025
DTSTART:20260618T183000
DTEND:20260618T193000
DESCRIPTION:
LOCATION:
SUMMARY:8th Grade Graduation Ceremony
END:VEVENT
BEGIN:VEVENT
DTSTAMP:20260422T195615Z
UID:255cfb06-b2ae-4827-82c2-29aa73b80283
DTSTART:20260619T123000
DTEND:20260619T133000
DESCRIPTION:
LOCATION:
SUMMARY:Dismissal Day
END:VEVENT
BEGIN:VEVENT
DTSTAMP:20260422T195615Z
UID:397de04a-5be6-44e5-8f98-f4c0b899e409
DTSTART:20260622T123000
DTEND:20260622T133000
DESCRIPTION:
LOCATION:
SUMMARY:Dismissal Day - Last Day of School!
END:VEVENT
END:VCALENDAR
