BEGIN:VCALENDAR
VERSION:2.0
PRODID:icalendar-ruby
CALSCALE:GREGORIAN
BEGIN:VTIMEZONE
TZID:America/New_York
BEGIN:DAYLIGHT
DTSTART:20260308T030000
TZOFFSETFROM:-0500
TZOFFSETTO:-0400
RRULE:FREQ=YEARLY;BYDAY=2SU;BYMONTH=3
TZNAME:EDT
END:DAYLIGHT
BEGIN:STANDARD
DTSTART:20261101T010000
TZOFFSETFROM:-0400
TZOFFSETTO:-0500
RRULE:FREQ=YEARLY;BYDAY=1SU;BYMONTH=11
TZNAME:EST
END:STANDARD
END:VTIMEZONE
BEGIN:VEVENT
DTSTAMP:20260423T144519Z
UID:3339b38c-97e1-4e95-a0cf-ecf6724213c5
DTSTART;VALUE=DATE:20260522
DTEND;VALUE=DATE:20260523
DESCRIPTION:
LOCATION:
SUMMARY:K-12 Early Dismissal  Staff Act 80 PM (Flex)
END:VEVENT
BEGIN:VEVENT
DTSTAMP:20260423T144519Z
UID:8d512a8f-17fb-4657-9c46-5a6f8b7a7d46
DTSTART;VALUE=DATE:20260525
DTEND;VALUE=DATE:20260526
DESCRIPTION:
LOCATION:
SUMMARY:School Not in Session
END:VEVENT
BEGIN:VEVENT
DTSTAMP:20260423T144519Z
UID:e1462032-d669-4fbb-987a-f5022fe21aa7
DTSTART;VALUE=DATE:20260529
DTEND;VALUE=DATE:20260530
DESCRIPTION:
LOCATION:
SUMMARY:No School K-12 In-Service/Clerical
END:VEVENT
BEGIN:VEVENT
DTSTAMP:20260423T144519Z
UID:455c6d37-7588-45f1-b705-ca1cfcd0444b
DTSTART;VALUE=DATE:20260603
DTEND;VALUE=DATE:20260604
DESCRIPTION:
LOCATION:
SUMMARY:K-12 Early Dismissal  Staff Act 80 PM (Flex)
END:VEVENT
BEGIN:VEVENT
DTSTAMP:20260423T144519Z
UID:cbbd1046-d92e-4e7a-829f-701e5834e97e
DTSTART;VALUE=DATE:20260604
DTEND;VALUE=DATE:20260605
DESCRIPTION:
LOCATION:
SUMMARY:K-12 Early Dismissal  Staff Act 80 PM (Flex)
END:VEVENT
BEGIN:VEVENT
DTSTAMP:20260423T144519Z
UID:ff8987fc-3538-46c2-8ad4-1cefb70922d8
DTSTART;VALUE=DATE:20260605
DTEND;VALUE=DATE:20260606
DESCRIPTION:
LOCATION:
SUMMARY:K-12 Early Dismissal  Staff Act 80 PM (Flex)
END:VEVENT
BEGIN:VEVENT
DTSTAMP:20260423T144519Z
UID:3f076e7b-0baa-4efe-9772-8f84b530b011
DTSTART;VALUE=DATE:20260605
DTEND;VALUE=DATE:20260606
DESCRIPTION:
LOCATION:
SUMMARY:Last Day of School
END:VEVENT
END:VCALENDAR
