BEGIN:VCALENDAR
VERSION:2.0
PRODID:icalendar-ruby
CALSCALE:GREGORIAN
BEGIN:VTIMEZONE
TZID:America/Los_Angeles
BEGIN:DAYLIGHT
DTSTART:20260308T030000
TZOFFSETFROM:-0800
TZOFFSETTO:-0700
RRULE:FREQ=YEARLY;BYDAY=2SU;BYMONTH=3
TZNAME:PDT
END:DAYLIGHT
BEGIN:STANDARD
DTSTART:20261101T010000
TZOFFSETFROM:-0700
TZOFFSETTO:-0800
RRULE:FREQ=YEARLY;BYDAY=1SU;BYMONTH=11
TZNAME:PST
END:STANDARD
END:VTIMEZONE
BEGIN:VEVENT
DTSTAMP:20260422T003944Z
UID:a95edd6c-b457-4ff8-b72d-8f9735a89e77
DTSTART;VALUE=DATE:20260422
DTEND;VALUE=DATE:20260423
DESCRIPTION:<html><head><meta http-equiv="Content-Type" content="text/html\
 ; charset=utf-8"><meta name="Generator" content="Microsoft Exchange Server
 "><!-- converted from text --><style><!-- .EmailQuote { margin-left: 1pt\;
  padding-left: 4pt\; border-left: #800000 2px solid\; } --></style></head>
 <body><font size="2"><span style="font-size:11pt\;"><div class="PlainText"
 >&nbsp\;</div></span></font></body></html>
LOCATION:
SUMMARY:Early release @ 1:25
END:VEVENT
BEGIN:VEVENT
DTSTAMP:20260422T003944Z
UID:a85538ae-f440-42d1-80ed-31737ef18d53
DTSTART;VALUE=DATE:20260422
DTEND;VALUE=DATE:20260427
DESCRIPTION:
LOCATION:New Mexico\, USA
SUMMARY:Gathering of Nations Trip
END:VEVENT
BEGIN:VEVENT
DTSTAMP:20260422T003944Z
UID:79feaffd-23d2-48bf-9a15-4d1f7b1f998f
DTSTART:20260422T153000
DTEND:20260422T183000
DESCRIPTION:<html><head><meta http-equiv="Content-Type" content="text/html\
 ; charset=utf-8"></head><body><p>leave @ 12:50</p><p>ETA 9:45</p></body></
 html>
LOCATION:
SUMMARY:MS Track @ Maupin
END:VEVENT
BEGIN:VEVENT
DTSTAMP:20260422T003944Z
UID:eab8c863-7e86-4396-9bcb-24eca474d3d8
DTSTART;VALUE=DATE:20260424
DTEND;VALUE=DATE:20260425
DESCRIPTION:<html><head><meta http-equiv="Content-Type" content="text/html\
 ; charset=utf-8"></head><body><p>Leave TBD and meet @ DQ and Klick drives<
 /p></body></html>
LOCATION:Naches\, WA 98937\, USA
SUMMARY:HS Track @ Naches Valley Invite
END:VEVENT
BEGIN:VEVENT
DTSTAMP:20260422T003944Z
UID:8e63c1d5-f589-472e-8a90-5e6d4f7f9c7b
DTSTART;VALUE=DATE:20260424
DTEND;VALUE=DATE:20260425
DESCRIPTION:
LOCATION:
SUMMARY:NO SCHOOL/ Snow day not used
END:VEVENT
BEGIN:VEVENT
DTSTAMP:20260422T003944Z
UID:83a9f1c9-a974-4c0b-8af7-9193f1da168a
DTSTART;VALUE=DATE:20260429
DTEND;VALUE=DATE:20260430
DESCRIPTION:<html><head><meta http-equiv="Content-Type" content="text/html\
 ; charset=utf-8"><meta name="Generator" content="Microsoft Exchange Server
 "><!-- converted from text --><style><!-- .EmailQuote { margin-left: 1pt\;
  padding-left: 4pt\; border-left: #800000 2px solid\; } --></style></head>
 <body><font size="2"><span style="font-size:11pt\;"><div class="PlainText"
 >&nbsp\;</div></span></font></body></html>
LOCATION:
SUMMARY:Early release @ 1:25
END:VEVENT
BEGIN:VEVENT
DTSTAMP:20260422T003944Z
UID:555b0658-9569-4f3d-a25e-161ae41fba39
DTSTART:20260429T183000
DTEND:20260429T200000
DESCRIPTION:
LOCATION:Community Center
SUMMARY:School Board Meeting
END:VEVENT
BEGIN:VEVENT
DTSTAMP:20260422T003944Z
UID:9b57fb29-d2aa-4253-8397-1387b7c882a1
DTSTART:20260501T003000
DTEND:20260501T160000
DESCRIPTION:<html><head><meta http-equiv="Content-Type" content="text/html\
 ; charset=utf-8"></head><body><p>leave @ 9:50</p><p>ETA 7:15</p></body></h
 tml>
LOCATION:
SUMMARY:MS Track @ Maupin
END:VEVENT
BEGIN:VEVENT
DTSTAMP:20260422T003944Z
UID:f3ec143e-87c8-49a6-b1a9-b2c3adc08f28
DTSTART:20260502T110000
DTEND:20260502T170000
DESCRIPTION:<html><head><meta http-equiv="Content-Type" content="text/html\
 ; charset=utf-8"></head><body><p>Leave @ 8:15\, meet @ DQ and Glenwood dri
 ves</p></body></html>
LOCATION:Rverside HS Track @ Boardman
SUMMARY:HS Track @ Boardman
END:VEVENT
BEGIN:VEVENT
DTSTAMP:20260422T003944Z
UID:2b5516f3-2ae6-4341-964b-54cc4dff96de
DTSTART:20260505T150000
DTEND:20260505T200000
DESCRIPTION:<html><head><meta http-equiv="Content-Type" content="text/html\
 ; charset=utf-8"></head><body><p>Leave @ 12:00 and meet @ DQ and Glenwood 
 drives</p></body></html>
LOCATION:611 S 44th Ave\, Yakima\, WA 98908\, USA
SUMMARY:HS Track @ Yakima
END:VEVENT
BEGIN:VEVENT
DTSTAMP:20260422T003944Z
UID:3e0b542c-0e06-44c7-8972-a28e6e7d6f4e
DTSTART;VALUE=DATE:20260506
DTEND;VALUE=DATE:20260507
DESCRIPTION:<html><head><meta http-equiv="Content-Type" content="text/html\
 ; charset=utf-8"><meta name="Generator" content="Microsoft Exchange Server
 "><!-- converted from text --><style><!-- .EmailQuote { margin-left: 1pt\;
  padding-left: 4pt\; border-left: #800000 2px solid\; } --></style></head>
 <body><font size="2"><span style="font-size:11pt\;"><div class="PlainText"
 >&nbsp\;</div></span></font></body></html>
LOCATION:
SUMMARY:Early release @ 1:25
END:VEVENT
BEGIN:VEVENT
DTSTAMP:20260422T003944Z
UID:a47ab6ea-d9f2-4777-9168-d139ee52642f
DTSTART:20260506T153000
DTEND:20260506T190000
DESCRIPTION:<html><head><meta http-equiv="Content-Type" content="text/html\
 ; charset=utf-8"></head><body><p>leave @ 1:15</p><p>ETA 9:00</p></body></h
 tml>
LOCATION:
SUMMARY:MS Track @ Stevenson
END:VEVENT
BEGIN:VEVENT
DTSTAMP:20260422T003944Z
UID:6f77e8b9-78b6-478b-9fe2-b91abcedf949
DTSTART:20260507T180000
DTEND:20260507T190000
DESCRIPTION:
LOCATION:Community Center
SUMMARY:Poetry Night
END:VEVENT
BEGIN:VEVENT
DTSTAMP:20260422T003944Z
UID:09a046ef-8a36-4aea-9c24-2e477e5f415c
DTSTART:20260508T120000
DTEND:20260508T160000
DESCRIPTION:<html><head><meta http-equiv="Content-Type" content="text/html\
 ; charset=utf-8"></head><body><p>leave @ 9:30</p><p>ETA @ 6:30</p></body><
 /html>
LOCATION:
SUMMARY:MS Track @ Moro
END:VEVENT
BEGIN:VEVENT
DTSTAMP:20260422T003944Z
UID:9099f6f1-3cab-4871-8a4d-4a39c57f3c26
DTSTART:20260508T163000
DTEND:20260508T213000
DESCRIPTION:<html><head><meta http-equiv="Content-Type" content="text/html\
 ; charset=utf-8"></head><body><p>Leave @ 2:15 in Vans</p></body></html>
LOCATION:Al McKee Invite @ Stevenson HS
SUMMARY:HS Track Stevenson
END:VEVENT
BEGIN:VEVENT
DTSTAMP:20260422T003944Z
UID:0907d2ab-7d16-447a-a6a3-d352471f4173
DTSTART:20260509T170000
DTEND:20260509T183000
DESCRIPTION:
LOCATION:Community Center
SUMMARY:KLASAC Executive Mtg
END:VEVENT
BEGIN:VEVENT
DTSTAMP:20260422T003944Z
UID:e49cf231-1f2f-4cdc-ae9f-187bf6375f96
DTSTART:20260511T170000
DTEND:20260511T183000
DESCRIPTION:
LOCATION:
SUMMARY:KLASAC Executive Mtg
END:VEVENT
BEGIN:VEVENT
DTSTAMP:20260422T003944Z
UID:2436423d-54c1-4f07-9fd8-31c7f3fe24a5
DTSTART:20260512T160000
DTEND:20260512T210000
DESCRIPTION:<html><head><meta http-equiv="Content-Type" content="text/html\
 ; charset=utf-8"></head><body><p>Leave @ 1:10\, meet in Lyle and Glenwood 
 drives</p></body></html>
LOCATION:Maupin\, OR 97037\, USA
SUMMARY:HS Track @ Maupin
END:VEVENT
BEGIN:VEVENT
DTSTAMP:20260422T003944Z
UID:96ba1e24-0a59-46d3-9253-a9f6875ade7b
DTSTART:20260512T183000
DTEND:20260512T193000
DESCRIPTION:<html><head><meta http-equiv="Content-Type" content="text/html\
 ; charset=utf-8"><meta name="Generator" content="Microsoft Exchange Server
 "><!-- converted from rtf --><style><!-- .EmailQuote { margin-left: 1pt\; 
 padding-left: 4pt\; border-left: #800000 2px solid\; } --></style></head><
 body><font face="Times New Roman" size="3"><span style="font-size:12pt\;">
 <a name="BM_BEGIN"></a><div><font size="2"><span style="font-size:11pt\;">
 At the Community Center</span></font></div></span></font></body></html>
LOCATION:
SUMMARY:Community Council
END:VEVENT
BEGIN:VEVENT
DTSTAMP:20260422T003944Z
UID:49a3b585-29d9-43e3-ad3e-ff77b472c4d5
DTSTART;VALUE=DATE:20260513
DTEND;VALUE=DATE:20260514
DESCRIPTION:<html><head><meta http-equiv="Content-Type" content="text/html\
 ; charset=utf-8"><meta name="Generator" content="Microsoft Exchange Server
 "><!-- converted from text --><style><!-- .EmailQuote { margin-left: 1pt\;
  padding-left: 4pt\; border-left: #800000 2px solid\; } --></style></head>
 <body><font size="2"><span style="font-size:11pt\;"><div class="PlainText"
 >&nbsp\;</div></span></font></body></html>
LOCATION:
SUMMARY:Early release @ 1:25
END:VEVENT
BEGIN:VEVENT
DTSTAMP:20260422T003944Z
UID:d883e514-8008-4ede-ab5a-33c414eaf6e9
DTSTART;VALUE=DATE:20260516
DTEND;VALUE=DATE:20260517
DESCRIPTION:
LOCATION:Community Center
SUMMARY:Spring Bazaar
END:VEVENT
BEGIN:VEVENT
DTSTAMP:20260422T003944Z
UID:9abb6377-400d-41b9-81cb-1d0cf6b6720d
DTSTART;VALUE=DATE:20260520
DTEND;VALUE=DATE:20260521
DESCRIPTION:<html><head><meta http-equiv="Content-Type" content="text/html\
 ; charset=utf-8"><meta name="Generator" content="Microsoft Exchange Server
 "><!-- converted from text --><style><!-- .EmailQuote { margin-left: 1pt\;
  padding-left: 4pt\; border-left: #800000 2px solid\; } --></style></head>
 <body><font size="2"><span style="font-size:11pt\;"><div class="PlainText"
 >&nbsp\;</div></span></font></body></html>
LOCATION:
SUMMARY:Early release @ 1:25
END:VEVENT
BEGIN:VEVENT
DTSTAMP:20260422T003944Z
UID:5842e7bb-96af-401e-a4ff-0c804a147c45
DTSTART;VALUE=DATE:20260521
DTEND;VALUE=DATE:20260523
DESCRIPTION:
LOCATION:
SUMMARY:HS Track District in Maupin
END:VEVENT
BEGIN:VEVENT
DTSTAMP:20260422T003944Z
UID:c1d7ba8b-d96e-420b-9ba2-b66fb2f97123
DTSTART;VALUE=DATE:20260522
DTEND;VALUE=DATE:20260523
DESCRIPTION:
LOCATION:
SUMMARY:NO SCHOOL/ Snow day not used
END:VEVENT
BEGIN:VEVENT
DTSTAMP:20260422T003944Z
UID:e1725a0d-3bf0-4fb0-8c91-c52b4fe11de3
DTSTART;VALUE=DATE:20260525
DTEND;VALUE=DATE:20260526
DESCRIPTION:
LOCATION:
SUMMARY:NO SCHOOL/Memorial Day
END:VEVENT
BEGIN:VEVENT
DTSTAMP:20260422T003944Z
UID:2f947172-d04d-4bca-b2df-17641f9cdea0
DTSTART;VALUE=DATE:20260527
DTEND;VALUE=DATE:20260528
DESCRIPTION:<html><head><meta http-equiv="Content-Type" content="text/html\
 ; charset=utf-8"><meta name="Generator" content="Microsoft Exchange Server
 "><!-- converted from text --><style><!-- .EmailQuote { margin-left: 1pt\;
  padding-left: 4pt\; border-left: #800000 2px solid\; } --></style></head>
 <body><font size="2"><span style="font-size:11pt\;"><div class="PlainText"
 >&nbsp\;</div></span></font></body></html>
LOCATION:
SUMMARY:Early release @ 1:25
END:VEVENT
BEGIN:VEVENT
DTSTAMP:20260422T003944Z
UID:4013b4c4-6b59-466d-a271-f341e963e40f
DTSTART:20260527T183000
DTEND:20260527T200000
DESCRIPTION:<html><head><meta http-equiv="Content-Type" content="text/html\
 ; charset=utf-8"><meta name="Generator" content="Microsoft Exchange Server
 "><!-- converted from text --><style><!-- .EmailQuote { margin-left: 1pt\;
  padding-left: 4pt\; border-left: #800000 2px solid\; } --></style></head>
 <body><font size="2"><span style="font-size:11pt\;"><div class="PlainText"
 >&nbsp\;</div></span></font></body></html>
LOCATION:Klickitat Community Center
SUMMARY:School Board Meeting
END:VEVENT
BEGIN:VEVENT
DTSTAMP:20260422T003944Z
UID:d26de6d3-1fc6-43ac-b991-154e216bb1e4
DTSTART;VALUE=DATE:20260528
DTEND;VALUE=DATE:20260530
DESCRIPTION:<html><head><meta http-equiv="Content-Type" content="text/html\
 ; charset=utf-8"></head><body><p>TBD</p></body></html>
LOCATION:1530 Agate St\, Eugene\, OR 97403\, USA
SUMMARY:OSAA State Track & Field
END:VEVENT
BEGIN:VEVENT
DTSTAMP:20260422T003944Z
UID:f5612cd9-2a21-47c2-bd0f-9ad5c964dc41
DTSTART:20260529T083000
DTEND:20260529T144500
DESCRIPTION:
LOCATION:
SUMMARY:4/5 Field Trip to Spring Creek
END:VEVENT
BEGIN:VEVENT
DTSTAMP:20260422T003944Z
UID:b9abbf24-0cfd-4c68-a01e-9f6f5844fe66
DTSTART;VALUE=DATE:20260530
DTEND;VALUE=DATE:20260605
DESCRIPTION:
LOCATION:
SUMMARY:Seniors leave for trip
END:VEVENT
BEGIN:VEVENT
DTSTAMP:20260422T003944Z
UID:e0400a85-d190-461d-9b78-adcee0a46126
DTSTART:20260601T074500
DTEND:20260601T131500
DESCRIPTION:
LOCATION:
SUMMARY:Last Day of School
END:VEVENT
BEGIN:VEVENT
DTSTAMP:20260422T003944Z
UID:30d11f65-90cd-41cc-973c-6fe4d9cd0a2d
DTSTART;VALUE=DATE:20260603
DTEND;VALUE=DATE:20260604
DESCRIPTION:<html><head><meta http-equiv="Content-Type" content="text/html\
 ; charset=utf-8"><meta name="Generator" content="Microsoft Exchange Server
 "><!-- converted from text --><style><!-- .EmailQuote { margin-left: 1pt\;
  padding-left: 4pt\; border-left: #800000 2px solid\; } --></style></head>
 <body><font size="2"><span style="font-size:11pt\;"><div class="PlainText"
 >&nbsp\;</div></span></font></body></html>
LOCATION:
SUMMARY:Early release @ 1:25
END:VEVENT
BEGIN:VEVENT
DTSTAMP:20260422T003944Z
UID:07f50364-0cbb-4aba-a814-de67cd356af9
DTSTART:20260606T140000
DTEND:20260606T160000
DESCRIPTION:
LOCATION:Gym
SUMMARY:Graduation
END:VEVENT
BEGIN:VEVENT
DTSTAMP:20260422T003944Z
UID:bbbfd45b-bfd5-48c1-bd12-0c7bd77e4e1b
DTSTART:20260608T170000
DTEND:20260608T183000
DESCRIPTION:
LOCATION:
SUMMARY:KLASAC Executive Mtg
END:VEVENT
BEGIN:VEVENT
DTSTAMP:20260422T003944Z
UID:5f15d8ac-ce5b-47b4-a2c6-af941830dc27
DTSTART:20260609T183000
DTEND:20260609T193000
DESCRIPTION:<html><head><meta http-equiv="Content-Type" content="text/html\
 ; charset=utf-8"><meta name="Generator" content="Microsoft Exchange Server
 "><!-- converted from rtf --><style><!-- .EmailQuote { margin-left: 1pt\; 
 padding-left: 4pt\; border-left: #800000 2px solid\; } --></style></head><
 body><font face="Times New Roman" size="3"><span style="font-size:12pt\;">
 <a name="BM_BEGIN"></a><div><font size="2"><span style="font-size:11pt\;">
 At the Community Center</span></font></div></span></font></body></html>
LOCATION:
SUMMARY:Community Council
END:VEVENT
BEGIN:VEVENT
DTSTAMP:20260422T003944Z
UID:d6327229-6b75-4308-83c9-c6adeeff80ab
DTSTART;VALUE=DATE:20260610
DTEND;VALUE=DATE:20260611
DESCRIPTION:<html><head><meta http-equiv="Content-Type" content="text/html\
 ; charset=utf-8"><meta name="Generator" content="Microsoft Exchange Server
 "><!-- converted from text --><style><!-- .EmailQuote { margin-left: 1pt\;
  padding-left: 4pt\; border-left: #800000 2px solid\; } --></style></head>
 <body><font size="2"><span style="font-size:11pt\;"><div class="PlainText"
 >&nbsp\;</div></span></font></body></html>
LOCATION:
SUMMARY:Early release @ 1:25
END:VEVENT
BEGIN:VEVENT
DTSTAMP:20260422T003944Z
UID:2436ecf6-25ad-41af-9456-87ebc53e3aa6
DTSTART;VALUE=DATE:20260612
DTEND;VALUE=DATE:20260613
DESCRIPTION:
LOCATION:
SUMMARY:Early Dismissal @ 1:25
END:VEVENT
BEGIN:VEVENT
DTSTAMP:20260422T003944Z
UID:9449cef6-01cb-4c63-b54b-f953c20120ac
DTSTART;VALUE=DATE:20260612
DTEND;VALUE=DATE:20260614
DESCRIPTION:
LOCATION:
SUMMARY:Museum Yard Sale
END:VEVENT
BEGIN:VEVENT
DTSTAMP:20260422T003944Z
UID:2a050bd3-0ad7-444b-8494-69ab9b0269a5
DTSTART:20260612T080000
DTEND:20260612T133000
DESCRIPTION:
LOCATION:
SUMMARY:Last Day of School
END:VEVENT
BEGIN:VEVENT
DTSTAMP:20260422T003944Z
UID:be6db4b9-e67e-4ab3-bc91-62fe6ced484f
DTSTART;VALUE=DATE:20260619
DTEND;VALUE=DATE:20260620
DESCRIPTION:
LOCATION:
SUMMARY:June Teenth Day Holiday
END:VEVENT
BEGIN:VEVENT
DTSTAMP:20260422T003944Z
UID:ecd9fb40-14d7-4e4a-bb35-1c968c0e1561
DTSTART:20260624T183000
DTEND:20260624T200000
DESCRIPTION:<html><head><meta http-equiv="Content-Type" content="text/html\
 ; charset=utf-8"><meta name="Generator" content="Microsoft Exchange Server
 "><!-- converted from text --><style><!-- .EmailQuote { margin-left: 1pt\;
  padding-left: 4pt\; border-left: #800000 2px solid\; } --></style></head>
 <body><font size="2"><span style="font-size:11pt\;"><div class="PlainText"
 >&nbsp\;</div></span></font></body></html>
LOCATION:Klickitat Community Center
SUMMARY:School Board Meeting
END:VEVENT
BEGIN:VEVENT
DTSTAMP:20260422T003944Z
UID:e67d737a-7189-42bf-9017-547f03956b80
DTSTART:20260713T170000
DTEND:20260713T183000
DESCRIPTION:
LOCATION:
SUMMARY:KLASAC Executive Mtg
END:VEVENT
BEGIN:VEVENT
DTSTAMP:20260422T003944Z
UID:5bf94077-8857-477a-9270-3e3e95b9104f
DTSTART:20260714T183000
DTEND:20260714T193000
DESCRIPTION:<html><head><meta http-equiv="Content-Type" content="text/html\
 ; charset=utf-8"><meta name="Generator" content="Microsoft Exchange Server
 "><!-- converted from rtf --><style><!-- .EmailQuote { margin-left: 1pt\; 
 padding-left: 4pt\; border-left: #800000 2px solid\; } --></style></head><
 body><font face="Times New Roman" size="3"><span style="font-size:12pt\;">
 <a name="BM_BEGIN"></a><div><font size="2"><span style="font-size:11pt\;">
 At the Community Center</span></font></div></span></font></body></html>
LOCATION:
SUMMARY:Community Council
END:VEVENT
BEGIN:VEVENT
DTSTAMP:20260422T003944Z
UID:bb0ee741-fe58-4146-811c-83ecf06d27a5
DTSTART:20260729T183000
DTEND:20260729T200000
DESCRIPTION:
LOCATION:Community Center
SUMMARY:School Board Meeting
END:VEVENT
BEGIN:VEVENT
DTSTAMP:20260422T003944Z
UID:28e912e2-9c4e-47ee-a7c7-393f5794912d
DTSTART:20260811T183000
DTEND:20260811T193000
DESCRIPTION:<html><head><meta http-equiv="Content-Type" content="text/html\
 ; charset=utf-8"><meta name="Generator" content="Microsoft Exchange Server
 "><!-- converted from rtf --><style><!-- .EmailQuote { margin-left: 1pt\; 
 padding-left: 4pt\; border-left: #800000 2px solid\; } --></style></head><
 body><font face="Times New Roman" size="3"><span style="font-size:12pt\;">
 <a name="BM_BEGIN"></a><div><font size="2"><span style="font-size:11pt\;">
 At the Community Center</span></font></div></span></font></body></html>
LOCATION:
SUMMARY:Community Council
END:VEVENT
BEGIN:VEVENT
DTSTAMP:20260422T003944Z
UID:c87b1c22-d1f4-4bc1-b6d9-d81b3778d8a5
DTSTART:20260826T183000
DTEND:20260826T200000
DESCRIPTION:<html><head><meta http-equiv="Content-Type" content="text/html\
 ; charset=utf-8"><meta name="Generator" content="Microsoft Exchange Server
 "><!-- converted from text --><style><!-- .EmailQuote { margin-left: 1pt\;
  padding-left: 4pt\; border-left: #800000 2px solid\; } --></style></head>
 <body><font size="2"><span style="font-size:11pt\;"><div class="PlainText"
 >&nbsp\;</div></span></font></body></html>
LOCATION:Klickitat Community Center
SUMMARY:School Board Meeting
END:VEVENT
BEGIN:VEVENT
DTSTAMP:20260422T003944Z
UID:60789bf2-78ba-4e8c-aa5c-bd8f59fc751d
DTSTART:20260908T183000
DTEND:20260908T193000
DESCRIPTION:<html><head><meta http-equiv="Content-Type" content="text/html\
 ; charset=utf-8"><meta name="Generator" content="Microsoft Exchange Server
 "><!-- converted from rtf --><style><!-- .EmailQuote { margin-left: 1pt\; 
 padding-left: 4pt\; border-left: #800000 2px solid\; } --></style></head><
 body><font face="Times New Roman" size="3"><span style="font-size:12pt\;">
 <a name="BM_BEGIN"></a><div><font size="2"><span style="font-size:11pt\;">
 At the Community Center</span></font></div></span></font></body></html>
LOCATION:
SUMMARY:Community Council
END:VEVENT
BEGIN:VEVENT
DTSTAMP:20260422T003944Z
UID:7aaf26df-ae31-4a25-9752-85edae89c127
DTSTART:20260923T183000
DTEND:20260923T200000
DESCRIPTION:<html><head><meta http-equiv="Content-Type" content="text/html\
 ; charset=utf-8"><meta name="Generator" content="Microsoft Exchange Server
 "><!-- converted from text --><style><!-- .EmailQuote { margin-left: 1pt\;
  padding-left: 4pt\; border-left: #800000 2px solid\; } --></style></head>
 <body><font size="2"><span style="font-size:11pt\;"><div class="PlainText"
 >&nbsp\;</div></span></font></body></html>
LOCATION:Klickitat Community Center
SUMMARY:School Board Meeting
END:VEVENT
BEGIN:VEVENT
DTSTAMP:20260422T003944Z
UID:908ddf28-c76a-4bc3-99f2-42dc8d998c29
DTSTART:20261013T183000
DTEND:20261013T193000
DESCRIPTION:<html><head><meta http-equiv="Content-Type" content="text/html\
 ; charset=utf-8"><meta name="Generator" content="Microsoft Exchange Server
 "><!-- converted from rtf --><style><!-- .EmailQuote { margin-left: 1pt\; 
 padding-left: 4pt\; border-left: #800000 2px solid\; } --></style></head><
 body><font face="Times New Roman" size="3"><span style="font-size:12pt\;">
 <a name="BM_BEGIN"></a><div><font size="2"><span style="font-size:11pt\;">
 At the Community Center</span></font></div></span></font></body></html>
LOCATION:
SUMMARY:Community Council
END:VEVENT
BEGIN:VEVENT
DTSTAMP:20260422T003944Z
UID:3c7271b8-421b-47a3-8850-0249b56db5b2
DTSTART:20261028T183000
DTEND:20261028T200000
DESCRIPTION:<html><head><meta http-equiv="Content-Type" content="text/html\
 ; charset=utf-8"><meta name="Generator" content="Microsoft Exchange Server
 "><!-- converted from text --><style><!-- .EmailQuote { margin-left: 1pt\;
  padding-left: 4pt\; border-left: #800000 2px solid\; } --></style></head>
 <body><font size="2"><span style="font-size:11pt\;"><div class="PlainText"
 >&nbsp\;</div></span></font></body></html>
LOCATION:Klickitat Community Center
SUMMARY:School Board Meeting
END:VEVENT
BEGIN:VEVENT
DTSTAMP:20260422T003944Z
UID:373d67ca-c6f1-43b1-ae1f-9dd223733633
DTSTART:20261110T183000
DTEND:20261110T193000
DESCRIPTION:<html><head><meta http-equiv="Content-Type" content="text/html\
 ; charset=utf-8"><meta name="Generator" content="Microsoft Exchange Server
 "><!-- converted from rtf --><style><!-- .EmailQuote { margin-left: 1pt\; 
 padding-left: 4pt\; border-left: #800000 2px solid\; } --></style></head><
 body><font face="Times New Roman" size="3"><span style="font-size:12pt\;">
 <a name="BM_BEGIN"></a><div><font size="2"><span style="font-size:11pt\;">
 At the Community Center</span></font></div></span></font></body></html>
LOCATION:
SUMMARY:Community Council
END:VEVENT
BEGIN:VEVENT
DTSTAMP:20260422T003944Z
UID:0b67badb-2255-4021-a3bb-40c97ba4f4b9
DTSTART:20261125T173000
DTEND:20261125T190000
DESCRIPTION:<html><head><meta http-equiv="Content-Type" content="text/html\
 ; charset=utf-8"><meta name="Generator" content="Microsoft Exchange Server
 "><!-- converted from text --><style><!-- .EmailQuote { margin-left: 1pt\;
  padding-left: 4pt\; border-left: #800000 2px solid\; } --></style></head>
 <body><font size="2"><span style="font-size:11pt\;"><div class="PlainText"
 >&nbsp\;</div></span></font></body></html>
LOCATION:Klickitat Community Center
SUMMARY:School Board Meeting
END:VEVENT
BEGIN:VEVENT
DTSTAMP:20260422T003944Z
UID:fd860137-a0e6-4cc7-810c-75a17985f014
DTSTART:20261208T183000
DTEND:20261208T193000
DESCRIPTION:<html><head><meta http-equiv="Content-Type" content="text/html\
 ; charset=utf-8"><meta name="Generator" content="Microsoft Exchange Server
 "><!-- converted from rtf --><style><!-- .EmailQuote { margin-left: 1pt\; 
 padding-left: 4pt\; border-left: #800000 2px solid\; } --></style></head><
 body><font face="Times New Roman" size="3"><span style="font-size:12pt\;">
 <a name="BM_BEGIN"></a><div><font size="2"><span style="font-size:11pt\;">
 At the Community Center</span></font></div></span></font></body></html>
LOCATION:
SUMMARY:Community Council
END:VEVENT
BEGIN:VEVENT
DTSTAMP:20260422T003944Z
UID:db7a3b3c-3400-48ba-a326-c9d5be9f04be
DTSTART:20261223T173000
DTEND:20261223T190000
DESCRIPTION:<html><head><meta http-equiv="Content-Type" content="text/html\
 ; charset=utf-8"><meta name="Generator" content="Microsoft Exchange Server
 "><!-- converted from text --><style><!-- .EmailQuote { margin-left: 1pt\;
  padding-left: 4pt\; border-left: #800000 2px solid\; } --></style></head>
 <body><font size="2"><span style="font-size:11pt\;"><div class="PlainText"
 >&nbsp\;</div></span></font></body></html>
LOCATION:Klickitat Community Center
SUMMARY:School Board Meeting
END:VEVENT
BEGIN:VEVENT
DTSTAMP:20260422T003944Z
UID:453fb9cf-0fb9-4af8-8782-008f3b47f958
DTSTART:20270112T183000
DTEND:20270112T193000
DESCRIPTION:<html><head><meta http-equiv="Content-Type" content="text/html\
 ; charset=utf-8"><meta name="Generator" content="Microsoft Exchange Server
 "><!-- converted from rtf --><style><!-- .EmailQuote { margin-left: 1pt\; 
 padding-left: 4pt\; border-left: #800000 2px solid\; } --></style></head><
 body><font face="Times New Roman" size="3"><span style="font-size:12pt\;">
 <a name="BM_BEGIN"></a><div><font size="2"><span style="font-size:11pt\;">
 At the Community Center</span></font></div></span></font></body></html>
LOCATION:
SUMMARY:Community Council
END:VEVENT
BEGIN:VEVENT
DTSTAMP:20260422T003944Z
UID:54799044-f866-4142-9783-7250a9ea7440
DTSTART:20270127T173000
DTEND:20270127T190000
DESCRIPTION:<html><head><meta http-equiv="Content-Type" content="text/html\
 ; charset=utf-8"><meta name="Generator" content="Microsoft Exchange Server
 "><!-- converted from text --><style><!-- .EmailQuote { margin-left: 1pt\;
  padding-left: 4pt\; border-left: #800000 2px solid\; } --></style></head>
 <body><font size="2"><span style="font-size:11pt\;"><div class="PlainText"
 >&nbsp\;</div></span></font></body></html>
LOCATION:Klickitat Community Center
SUMMARY:School Board Meeting
END:VEVENT
END:VCALENDAR
