BEGIN:VCALENDAR
VERSION:2.0
PRODID:icalendar-ruby
CALSCALE:GREGORIAN
BEGIN:VTIMEZONE
TZID:America/Denver
BEGIN:DAYLIGHT
DTSTART:20260308T030000
TZOFFSETFROM:-0700
TZOFFSETTO:-0600
RRULE:FREQ=YEARLY;BYDAY=2SU;BYMONTH=3
TZNAME:MDT
END:DAYLIGHT
BEGIN:STANDARD
DTSTART:20261101T010000
TZOFFSETFROM:-0600
TZOFFSETTO:-0700
RRULE:FREQ=YEARLY;BYDAY=1SU;BYMONTH=11
TZNAME:MST
END:STANDARD
END:VTIMEZONE
BEGIN:VEVENT
DTSTAMP:20260422T100455Z
UID:364cbfc7-be6f-44ae-a26a-18faad089df0
DTSTART;VALUE=DATE:20260422
DTEND;VALUE=DATE:20260423
DESCRIPTION:
LOCATION:
SUMMARY:4th quarter midterm
END:VEVENT
BEGIN:VEVENT
DTSTAMP:20260422T100455Z
UID:c018a577-eea0-4d0c-8549-e95f653c184f
DTSTART;VALUE=DATE:20260422
DTEND;VALUE=DATE:20260423
DESCRIPTION:
LOCATION:MP gym
SUMMARY:track & all groups pictures
END:VEVENT
BEGIN:VEVENT
DTSTAMP:20260422T100455Z
UID:2a75d4f1-7397-4943-8d2f-26351ddbc8ab
DTSTART:20260422T143000
DTEND:20260422T153000
DESCRIPTION:
LOCATION:MP gym
SUMMARY:Custer Honor Band Concert
END:VEVENT
BEGIN:VEVENT
DTSTAMP:20260422T100455Z
UID:b20bf6a5-c007-4e64-9811-c27b341f229c
DTSTART:20260422T173000
DTEND:20260422T180000
DESCRIPTION:
LOCATION:
SUMMARY:Special Board mtg
END:VEVENT
BEGIN:VEVENT
DTSTAMP:20260422T100455Z
UID:6b75d495-a624-4de1-b913-135fa11cbff1
DTSTART;VALUE=DATE:20260423
DTEND;VALUE=DATE:20260424
DESCRIPTION:
LOCATION:
SUMMARY:MS track meet at Man. Christian- Canceled
END:VEVENT
BEGIN:VEVENT
DTSTAMP:20260422T100455Z
UID:9bd941b4-a5f4-42de-be9f-32fcf9a71c75
DTSTART;VALUE=DATE:20260424
DTEND;VALUE=DATE:20260425
DESCRIPTION:
LOCATION:
SUMMARY:HS Track Meet in Boulder
END:VEVENT
BEGIN:VEVENT
DTSTAMP:20260422T100455Z
UID:e33707ad-4afe-43b6-8b90-c527665c65d9
DTSTART;VALUE=DATE:20260424
DTEND;VALUE=DATE:20260425
DESCRIPTION:
LOCATION:
SUMMARY:MS Music Festival\, Boulder
END:VEVENT
BEGIN:VEVENT
DTSTAMP:20260422T100455Z
UID:18f8a542-2b8e-426f-a4c8-f43d42e4ca9c
DTSTART;VALUE=DATE:20260424
DTEND;VALUE=DATE:20260427
DESCRIPTION:
LOCATION:
SUMMARY:Senior Class Trip to SLC
END:VEVENT
BEGIN:VEVENT
DTSTAMP:20260422T100455Z
UID:0ff8aba2-2296-4f7a-a351-328db4efdf7d
DTSTART:20260425T090000
DTEND:20260425T120000
DESCRIPTION:Cathy Sheldon
LOCATION:
SUMMARY:Jefferson Acres Home Owners - MT Room
END:VEVENT
BEGIN:VEVENT
DTSTAMP:20260422T100455Z
UID:fa16aa7f-79f1-45c9-a5a9-640383e8ff16
DTSTART;VALUE=DATE:20260427
DTEND;VALUE=DATE:20260428
DESCRIPTION:
LOCATION:Dillon
SUMMARY:Madison Co. Track Meet
END:VEVENT
BEGIN:VEVENT
DTSTAMP:20260422T100455Z
UID:bcaf25ce-382b-41ba-89ab-94400cad218b
DTSTART:20260427T173000
DTEND:20260427T180000
DESCRIPTION:
LOCATION:J. Kearn's room
SUMMARY:8th gr parent mtg
END:VEVENT
BEGIN:VEVENT
DTSTAMP:20260422T100455Z
UID:eb9cff0b-3938-4377-845f-1f1cc5e3610b
DTSTART:20260428T170000
DTEND:20260428T170000
DESCRIPTION:
LOCATION:
SUMMARY:IC 4th qtr midterm grading window closes
END:VEVENT
BEGIN:VEVENT
DTSTAMP:20260422T100455Z
UID:f414b266-e8a0-4b3b-bc4c-d681e633b744
DTSTART;VALUE=DATE:20260430
DTEND;VALUE=DATE:20260501
DESCRIPTION:
LOCATION:
SUMMARY:MS track meet in Deer Lodge
END:VEVENT
BEGIN:VEVENT
DTSTAMP:20260422T100455Z
UID:6367b860-fbbe-47bc-95ba-32484ba4b821
DTSTART;VALUE=DATE:20260501
DTEND;VALUE=DATE:20260502
DESCRIPTION:
LOCATION:
SUMMARY:6th gr track meet at Man. Christian
END:VEVENT
BEGIN:VEVENT
DTSTAMP:20260422T100455Z
UID:9b985906-03de-4524-83e2-975ed2949ce5
DTSTART;VALUE=DATE:20260501
DTEND;VALUE=DATE:20260503
DESCRIPTION:
LOCATION:
SUMMARY:State Music Festival\, Helena
END:VEVENT
BEGIN:VEVENT
DTSTAMP:20260422T100455Z
UID:a3d78d1c-acd1-47e3-9823-c1a8ea915c4b
DTSTART;VALUE=DATE:20260504
DTEND;VALUE=DATE:20260505
DESCRIPTION:
LOCATION:
SUMMARY:Backup date for Madison Co track meet
END:VEVENT
BEGIN:VEVENT
DTSTAMP:20260422T100455Z
UID:220e010c-662a-4bfe-bfdb-7951e714d254
DTSTART:20260504T173000
DTEND:20260504T180000
DESCRIPTION:
LOCATION:
SUMMARY:Special Board mtg
END:VEVENT
BEGIN:VEVENT
DTSTAMP:20260422T100455Z
UID:521bcdb9-918b-47a6-8909-698ef6fffa3a
DTSTART:20260504T180000
DTEND:20260507T210000
DESCRIPTION:Robert Rogers 406-581-6735
LOCATION:MT room
SUMMARY:Bowhunter Ed Classes
END:VEVENT
BEGIN:VEVENT
DTSTAMP:20260422T100455Z
UID:809169a8-d013-42ac-b507-a09750116168
DTSTART;VALUE=DATE:20260505
DTEND;VALUE=DATE:20260506
DESCRIPTION:
LOCATION:
SUMMARY:HS Track Top 8 Meet in Anaconda
END:VEVENT
BEGIN:VEVENT
DTSTAMP:20260422T100455Z
UID:3cd3caee-1c02-4cc8-829f-e3d4243730d0
DTSTART;VALUE=DATE:20260505
DTEND;VALUE=DATE:20260506
DESCRIPTION:
LOCATION:
SUMMARY:Noon Jr Class mtg
END:VEVENT
BEGIN:VEVENT
DTSTAMP:20260422T100455Z
UID:0cc5f376-b3b4-4657-b44e-e7cf2f39090f
DTSTART;VALUE=DATE:20260506
DTEND;VALUE=DATE:20260507
DESCRIPTION:
LOCATION:
SUMMARY:5/6th gr trip to Big Hole Battlefield
END:VEVENT
BEGIN:VEVENT
DTSTAMP:20260422T100455Z
UID:7d55f26f-bb26-45c7-9a15-8929d6805be8
DTSTART;VALUE=DATE:20260506
DTEND;VALUE=DATE:20260511
DESCRIPTION:
LOCATION:Nashville TN
SUMMARY:National BPA Convention
END:VEVENT
BEGIN:VEVENT
DTSTAMP:20260422T100455Z
UID:2a523d07-e148-4e52-8a70-006bccb4252f
DTSTART;VALUE=DATE:20260506
DTEND;VALUE=DATE:20260507
DESCRIPTION:
LOCATION:
SUMMARY:School to Farm day
END:VEVENT
BEGIN:VEVENT
DTSTAMP:20260422T100455Z
UID:f8f836da-8215-4611-b0dd-31f07fea8075
DTSTART:20260506T090000
DTEND:20260506T110000
DESCRIPTION:
LOCATION:MT room
SUMMARY:Early Lit Screening (preschool)
END:VEVENT
BEGIN:VEVENT
DTSTAMP:20260422T100455Z
UID:507e5a88-7d69-45c7-b040-ffae9678ad4a
DTSTART;VALUE=DATE:20260507
DTEND;VALUE=DATE:20260508
DESCRIPTION:
LOCATION:
SUMMARY:MS track meet in Anaconda
END:VEVENT
BEGIN:VEVENT
DTSTAMP:20260422T100455Z
UID:2259fff2-f731-42bc-afcf-9e722e08fb86
DTSTART;VALUE=DATE:20260507
DTEND;VALUE=DATE:20260508
DESCRIPTION:
LOCATION:
SUMMARY:Noon FFA mtg
END:VEVENT
BEGIN:VEVENT
DTSTAMP:20260422T100455Z
UID:f57e250b-ea90-44b8-8c84-c4dbd85ddb2b
DTSTART;VALUE=DATE:20260508
DTEND;VALUE=DATE:20260509
DESCRIPTION:
LOCATION:Carroll Field
SUMMARY:EK-4 Field Day
END:VEVENT
BEGIN:VEVENT
DTSTAMP:20260422T100455Z
UID:b7afaaea-bcfa-4d74-925c-19b7d19e744e
DTSTART;VALUE=DATE:20260509
DTEND;VALUE=DATE:20260510
DESCRIPTION:
LOCATION:MT room
SUMMARY:Bowhunter Ed Class
END:VEVENT
BEGIN:VEVENT
DTSTAMP:20260422T100455Z
UID:ed4aab03-b54a-4d22-a0b7-2f200ddb1644
DTSTART;VALUE=DATE:20260509
DTEND;VALUE=DATE:20260510
DESCRIPTION:
LOCATION:
SUMMARY:HS Track Meet in Missoula
END:VEVENT
BEGIN:VEVENT
DTSTAMP:20260422T100455Z
UID:9abf2ea6-4680-4578-b55c-e2300218f2e9
DTSTART;VALUE=DATE:20260511
DTEND;VALUE=DATE:20260512
DESCRIPTION:
LOCATION:
SUMMARY:Noon Exec StuCo mtg
END:VEVENT
BEGIN:VEVENT
DTSTAMP:20260422T100455Z
UID:9ce9a53e-ba3b-47b6-8bf7-e4484f3d7eef
DTSTART:20260511T183000
DTEND:20260511T200000
DESCRIPTION:
LOCATION:MT room
SUMMARY:REG. BOARD MTG
END:VEVENT
BEGIN:VEVENT
DTSTAMP:20260422T100455Z
UID:8c3a4ca4-9968-403d-ad6e-f9d5e1de5fb3
DTSTART;VALUE=DATE:20260512
DTEND;VALUE=DATE:20260513
DESCRIPTION:
LOCATION:Ennis
SUMMARY:3rd/4th gr Bear Creek Days
END:VEVENT
BEGIN:VEVENT
DTSTAMP:20260422T100455Z
UID:bec525d2-980e-4796-96df-20d7d3a0bb1f
DTSTART;VALUE=DATE:20260512
DTEND;VALUE=DATE:20260513
DESCRIPTION:
LOCATION:
SUMMARY:Noon General StuCo mtg
END:VEVENT
BEGIN:VEVENT
DTSTAMP:20260422T100455Z
UID:e08e76a6-2d0e-4360-823c-ec98a080ee89
DTSTART:20260512T183000
DTEND:20260512T193000
DESCRIPTION:
LOCATION:MP gym
SUMMARY:HS Spring Concert
END:VEVENT
BEGIN:VEVENT
DTSTAMP:20260422T100455Z
UID:76d51173-878a-47a5-bbab-cc55827b8171
DTSTART;VALUE=DATE:20260513
DTEND;VALUE=DATE:20260514
DESCRIPTION:
LOCATION:Ennis
SUMMARY:5/6th gr Bear Creek Days
END:VEVENT
BEGIN:VEVENT
DTSTAMP:20260422T100455Z
UID:25285fbe-8667-46ed-b729-fdaab48e5d5d
DTSTART;VALUE=DATE:20260513
DTEND;VALUE=DATE:20260514
DESCRIPTION:
LOCATION:
SUMMARY:Noon Sophomore class mtg
END:VEVENT
BEGIN:VEVENT
DTSTAMP:20260422T100455Z
UID:ab617295-8d9b-4481-a980-0af0141ac0b8
DTSTART;VALUE=DATE:20260514
DTEND;VALUE=DATE:20260515
DESCRIPTION:
LOCATION:Ennis
SUMMARY:7th gr Bear Creek Days
END:VEVENT
BEGIN:VEVENT
DTSTAMP:20260422T100455Z
UID:62a6f67d-a32d-4d43-8412-d20b10f39863
DTSTART;VALUE=DATE:20260514
DTEND;VALUE=DATE:20260516
DESCRIPTION:
LOCATION:
SUMMARY:8th gr class trip to Yellowstone Natl Park
END:VEVENT
BEGIN:VEVENT
DTSTAMP:20260422T100455Z
UID:018b7462-8726-419c-b361-076e9983dd4f
DTSTART;VALUE=DATE:20260514
DTEND;VALUE=DATE:20260515
DESCRIPTION:
LOCATION:
SUMMARY:Noon Close-Up mtg
END:VEVENT
BEGIN:VEVENT
DTSTAMP:20260422T100455Z
UID:20b6acc8-cb21-42ea-9bd6-a2e26e1aa73b
DTSTART:20260514T183000
DTEND:20260514T193000
DESCRIPTION:
LOCATION:MP gym
SUMMARY:Elementary Spring Concert
END:VEVENT
BEGIN:VEVENT
DTSTAMP:20260422T100455Z
UID:08b389d0-da33-4f0c-8d51-7c7033534afe
DTSTART;VALUE=DATE:20260515
DTEND;VALUE=DATE:20260516
DESCRIPTION:
LOCATION:
SUMMARY:Child Find Clinic (preschool screening)
END:VEVENT
BEGIN:VEVENT
DTSTAMP:20260422T100455Z
UID:349d333a-fe0c-4df1-9bd6-0eaa0456295f
DTSTART;VALUE=DATE:20260515
DTEND;VALUE=DATE:20260516
DESCRIPTION:
LOCATION:
SUMMARY:Kindergarten field trip (around TB)
END:VEVENT
BEGIN:VEVENT
DTSTAMP:20260422T100455Z
UID:6971eca0-137b-4917-9d7f-e334a27580ed
DTSTART;VALUE=DATE:20260516
DTEND;VALUE=DATE:20260517
DESCRIPTION:
LOCATION:
SUMMARY:District Track in Belgrade
END:VEVENT
BEGIN:VEVENT
DTSTAMP:20260422T100455Z
UID:0c2bfd73-abcc-4f1c-b49e-69805525682f
DTSTART:20260517T140000
DTEND:20260517T150000
DESCRIPTION:
LOCATION:Main Gym
SUMMARY:HS Graduation
END:VEVENT
BEGIN:VEVENT
DTSTAMP:20260422T100455Z
UID:6414752b-61ee-41bd-9c8c-6e49c12d56ed
DTSTART;VALUE=DATE:20260518
DTEND;VALUE=DATE:20260519
DESCRIPTION:
LOCATION:
SUMMARY:Noon 8th gr class mtg
END:VEVENT
BEGIN:VEVENT
DTSTAMP:20260422T100455Z
UID:8b5fd71f-4c63-49a5-b2ef-b6256ff5d1fb
DTSTART:20260518T171500
DTEND:20260518T181500
DESCRIPTION:Katie Banks\, 406-596-2291
LOCATION:lunchroom
SUMMARY:Trailblazers 4-H mtg
END:VEVENT
BEGIN:VEVENT
DTSTAMP:20260422T100455Z
UID:9f469689-2f21-4c16-adc9-713e700553f7
DTSTART;VALUE=DATE:20260519
DTEND;VALUE=DATE:20260520
DESCRIPTION:
LOCATION:
SUMMARY:Noon Staff Lunch
END:VEVENT
BEGIN:VEVENT
DTSTAMP:20260422T100455Z
UID:19f1efc5-7bb4-4ab1-a0d3-7e5dba2ef1cb
DTSTART:20260519T180000
DTEND:20260519T183000
DESCRIPTION:
LOCATION:MP gym
SUMMARY:8th Gr Promotion
END:VEVENT
BEGIN:VEVENT
DTSTAMP:20260422T100455Z
UID:22819ae5-0641-43e8-a778-f44b07a2dd2d
DTSTART;VALUE=DATE:20260520
DTEND;VALUE=DATE:20260521
DESCRIPTION:
LOCATION:
SUMMARY:Noon Safety committee mtg
END:VEVENT
BEGIN:VEVENT
DTSTAMP:20260422T100455Z
UID:9d6a4759-9198-4433-b7c7-20e0c6a2cb10
DTSTART:20260520T130000
DTEND:20260520T140000
DESCRIPTION:
LOCATION:MP gym
SUMMARY:Kindergarten celebration
END:VEVENT
BEGIN:VEVENT
DTSTAMP:20260422T100455Z
UID:91173889-0afb-4be9-a5b7-01fac758a1b8
DTSTART:20260520T143000
DTEND:20260520T153000
DESCRIPTION:
LOCATION:MP gym
SUMMARY:Early K celebration
END:VEVENT
BEGIN:VEVENT
DTSTAMP:20260422T100455Z
UID:19333acf-d888-4907-b38a-6f794a24c318
DTSTART;VALUE=DATE:20260522
DTEND;VALUE=DATE:20260524
DESCRIPTION:
LOCATION:
SUMMARY:Divisional Track in Missoula
END:VEVENT
BEGIN:VEVENT
DTSTAMP:20260422T100455Z
UID:762f88eb-a32b-4a7f-b651-54b3cede5b3c
DTSTART;VALUE=DATE:20260522
DTEND;VALUE=DATE:20260523
DESCRIPTION:
LOCATION:
SUMMARY:End 4th quarter/2nd semester
END:VEVENT
BEGIN:VEVENT
DTSTAMP:20260422T100455Z
UID:be7f6521-5840-449d-b7e9-ba60753f576c
DTSTART;VALUE=DATE:20260522
DTEND;VALUE=DATE:20260523
DESCRIPTION:
LOCATION:
SUMMARY:Last Day of School
END:VEVENT
BEGIN:VEVENT
DTSTAMP:20260422T100455Z
UID:1f7cb1a8-55f9-4fa3-bd17-32988ac754d4
DTSTART:20260522T123000
DTEND:20260522T123000
DESCRIPTION:
LOCATION:
SUMMARY:School Early Out
END:VEVENT
BEGIN:VEVENT
DTSTAMP:20260422T100455Z
UID:8e4b62d3-df3a-4523-a02c-c3271ab00c20
DTSTART;VALUE=DATE:20260528
DTEND;VALUE=DATE:20260531
DESCRIPTION:
LOCATION:
SUMMARY:State Track in Laurel
END:VEVENT
BEGIN:VEVENT
DTSTAMP:20260422T100455Z
UID:d4ee1c39-682a-4187-a547-e891aa912d57
DTSTART:20260528T141500
DTEND:20260528T170000
DESCRIPTION:
LOCATION:MT room
SUMMARY:Vitalant Blood Drive
END:VEVENT
BEGIN:VEVENT
DTSTAMP:20260422T100455Z
UID:668a656f-8da7-4947-bbae-094e3601c6ca
DTSTART:20260608T183000
DTEND:20260608T200000
DESCRIPTION:
LOCATION:MT room
SUMMARY:REG. BOARD MTG
END:VEVENT
BEGIN:VEVENT
DTSTAMP:20260422T100455Z
UID:e01901e0-93e1-4f27-a62f-beaa4bddd3c9
DTSTART:20260615T171500
DTEND:20260615T181500
DESCRIPTION:Katie Banks\, 406-596-2291
LOCATION:lunchroom
SUMMARY:Trailblazers 4-H mtg
END:VEVENT
BEGIN:VEVENT
DTSTAMP:20260422T100455Z
UID:0ace82d3-5368-4659-a717-dc5e2f61e7cc
DTSTART:20260713T183000
DTEND:20260713T200000
DESCRIPTION:
LOCATION:MT room
SUMMARY:REG. BOARD MTG
END:VEVENT
BEGIN:VEVENT
DTSTAMP:20260422T100455Z
UID:8b17e970-f536-42ca-9139-b0bdc3586ccd
DTSTART;VALUE=DATE:20260715
DTEND;VALUE=DATE:20260718
DESCRIPTION:
LOCATION:Main gym
SUMMARY:VB Camp
END:VEVENT
BEGIN:VEVENT
DTSTAMP:20260422T100455Z
UID:72554386-f6b7-4e9f-88a4-33f66eafda8c
DTSTART;VALUE=DATE:20260717
DTEND;VALUE=DATE:20260719
DESCRIPTION:Frank & Jen Williams
LOCATION:MP gym
SUMMARY:Wrestling Camp
END:VEVENT
BEGIN:VEVENT
DTSTAMP:20260422T100455Z
UID:74cd77df-2ab8-46ff-8bb3-ff0a3e2d21bf
DTSTART:20260723T140000
DTEND:20260723T170000
DESCRIPTION:
LOCATION:MT room
SUMMARY:Vitalant Blood Drive
END:VEVENT
BEGIN:VEVENT
DTSTAMP:20260422T100455Z
UID:76916aff-751f-4357-a1a7-19c60c77ee51
DTSTART:20260725T180000
DTEND:20260725T190000
DESCRIPTION:
LOCATION:
SUMMARY:TB Alumni Dinner
END:VEVENT
BEGIN:VEVENT
DTSTAMP:20260422T100455Z
UID:9abb5a84-d918-4d7f-ba5b-f84d82667e9d
DTSTART:20260810T183000
DTEND:20260810T200000
DESCRIPTION:
LOCATION:MT room
SUMMARY:REG. BOARD MTG
END:VEVENT
BEGIN:VEVENT
DTSTAMP:20260422T100455Z
UID:d19c9330-01e3-4f52-8f0e-058b2715f314
DTSTART;VALUE=DATE:20260824
DTEND;VALUE=DATE:20260825
DESCRIPTION:
LOCATION:
SUMMARY:PIR #1
END:VEVENT
BEGIN:VEVENT
DTSTAMP:20260422T100455Z
UID:ce5d357d-6604-43e8-87d2-7d84c7e5637a
DTSTART;VALUE=DATE:20260825
DTEND;VALUE=DATE:20260826
DESCRIPTION:
LOCATION:
SUMMARY:PIR #2
END:VEVENT
BEGIN:VEVENT
DTSTAMP:20260422T100455Z
UID:c87fc4bd-55d8-493d-91a6-5be91df76114
DTSTART;VALUE=DATE:20260826
DTEND;VALUE=DATE:20260827
DESCRIPTION:
LOCATION:
SUMMARY:First day of school
END:VEVENT
BEGIN:VEVENT
DTSTAMP:20260422T100455Z
UID:9ac5f084-ff45-4e7e-8717-4c9a0472564c
DTSTART;VALUE=DATE:20260907
DTEND;VALUE=DATE:20260908
DESCRIPTION:
LOCATION:
SUMMARY:No School
END:VEVENT
BEGIN:VEVENT
DTSTAMP:20260422T100455Z
UID:ef6af196-e784-46a3-ade9-0f40af35cb34
DTSTART:20260914T183000
DTEND:20260914T200000
DESCRIPTION:
LOCATION:MT room
SUMMARY:REG. BOARD MTG
END:VEVENT
BEGIN:VEVENT
DTSTAMP:20260422T100455Z
UID:23ac36fb-bbab-4435-885c-6a05fe7c0b96
DTSTART:20260917T141500
DTEND:20260917T170000
DESCRIPTION:
LOCATION:MT room
SUMMARY:Vitalant Blood Drive
END:VEVENT
BEGIN:VEVENT
DTSTAMP:20260422T100455Z
UID:94ea3bd5-37e9-4ebc-857e-aae13f25bf8f
DTSTART;VALUE=DATE:20261005
DTEND;VALUE=DATE:20261007
DESCRIPTION:
LOCATION:Fairmont Hot Springs
SUMMARY:BPA Fall Leadership Convention
END:VEVENT
BEGIN:VEVENT
DTSTAMP:20260422T100455Z
UID:626ea1f1-54d7-4c03-9a51-e30974e34821
DTSTART:20261012T183000
DTEND:20261012T200000
DESCRIPTION:
LOCATION:MT room
SUMMARY:REG. BOARD MTG
END:VEVENT
BEGIN:VEVENT
DTSTAMP:20260422T100455Z
UID:6e1631de-bca8-4caa-81ba-5492e4733e01
DTSTART;VALUE=DATE:20261015
DTEND;VALUE=DATE:20261017
DESCRIPTION:
LOCATION:
SUMMARY:Teacher Conventions
END:VEVENT
BEGIN:VEVENT
DTSTAMP:20260422T100455Z
UID:202f300e-0880-4336-a1bf-b59c2543ac02
DTSTART;VALUE=DATE:20261023
DTEND;VALUE=DATE:20261024
DESCRIPTION:
LOCATION:
SUMMARY:End 1st quarter
END:VEVENT
BEGIN:VEVENT
DTSTAMP:20260422T100455Z
UID:485755c4-7139-4b5b-99fa-46684a129be2
DTSTART:20261103T160000
DTEND:20261103T190000
DESCRIPTION:
LOCATION:
SUMMARY:Parent/Teacher Conferences
END:VEVENT
BEGIN:VEVENT
DTSTAMP:20260422T100455Z
UID:91e04d3e-48f4-4624-86c1-2f9bcc689e46
DTSTART:20261105T160000
DTEND:20261105T190000
DESCRIPTION:
LOCATION:
SUMMARY:Parent/Teacher Conferences
END:VEVENT
BEGIN:VEVENT
DTSTAMP:20260422T100455Z
UID:de3112c2-39ef-4473-a300-f58eecdb5354
DTSTART;VALUE=DATE:20261106
DTEND;VALUE=DATE:20261107
DESCRIPTION:
LOCATION:
SUMMARY:No School - Fall Day
END:VEVENT
BEGIN:VEVENT
DTSTAMP:20260422T100455Z
UID:cf80e2ef-e6c1-4bde-9ad7-98f4a9952286
DTSTART:20261109T183000
DTEND:20261109T200000
DESCRIPTION:
LOCATION:MT room
SUMMARY:REG. BOARD MTG
END:VEVENT
BEGIN:VEVENT
DTSTAMP:20260422T100455Z
UID:d0503bc1-0021-439e-9bd3-741e1cbbc4a8
DTSTART:20261119T140000
DTEND:20261119T170000
DESCRIPTION:
LOCATION:MT room
SUMMARY:Vitalant Blood Drive
END:VEVENT
BEGIN:VEVENT
DTSTAMP:20260422T100455Z
UID:4d9642c1-1b29-4a55-890c-0828b2f2ca93
DTSTART;VALUE=DATE:20261125
DTEND;VALUE=DATE:20261128
DESCRIPTION:
LOCATION:
SUMMARY:No School - Thanksgiving Vacation
END:VEVENT
BEGIN:VEVENT
DTSTAMP:20260422T100455Z
UID:65ebee10-6658-4a6d-a58d-c1b89a99a19d
DTSTART:20261214T183000
DTEND:20261214T200000
DESCRIPTION:
LOCATION:MT room
SUMMARY:REG. BOARD MTG
END:VEVENT
BEGIN:VEVENT
DTSTAMP:20260422T100455Z
UID:50c99bc0-f882-4d3f-a180-07a4daadd278
DTSTART;VALUE=DATE:20261221
DTEND;VALUE=DATE:20270102
DESCRIPTION:
LOCATION:
SUMMARY:No School - Christmas Vacation
END:VEVENT
BEGIN:VEVENT
DTSTAMP:20260422T100455Z
UID:aea90c83-c088-45ae-b7d0-2f9b6386eb69
DTSTART:20270111T183000
DTEND:20270111T200000
DESCRIPTION:
LOCATION:MT room
SUMMARY:REG. BOARD MTG
END:VEVENT
BEGIN:VEVENT
DTSTAMP:20260422T100455Z
UID:2edc0992-8e3d-4aea-9e09-f6d63b94f73b
DTSTART;VALUE=DATE:20270115
DTEND;VALUE=DATE:20270116
DESCRIPTION:
LOCATION:
SUMMARY:End 2nd qtr/1st sem
END:VEVENT
BEGIN:VEVENT
DTSTAMP:20260422T100455Z
UID:eb2bf6c0-e455-4ed3-9bdb-99a29c0667cf
DTSTART;VALUE=DATE:20270118
DTEND;VALUE=DATE:20270119
DESCRIPTION:
LOCATION:
SUMMARY:No School - PIR Day
END:VEVENT
BEGIN:VEVENT
DTSTAMP:20260422T100455Z
UID:b5dca08a-5d0b-405c-9708-4ac4a7539ec7
DTSTART:20270202T160000
DTEND:20270202T190000
DESCRIPTION:
LOCATION:
SUMMARY:Parent/Teacher Conferences
END:VEVENT
BEGIN:VEVENT
DTSTAMP:20260422T100455Z
UID:87879157-8273-4021-9b13-34bffbee4e47
DTSTART:20270204T160000
DTEND:20270204T190000
DESCRIPTION:
LOCATION:
SUMMARY:Parent/Teacher Conferences
END:VEVENT
BEGIN:VEVENT
DTSTAMP:20260422T100455Z
UID:22888101-c14e-44dc-a511-34732ff5016d
DTSTART;VALUE=DATE:20270205
DTEND;VALUE=DATE:20270206
DESCRIPTION:
LOCATION:
SUMMARY:No School / Winter Break
END:VEVENT
BEGIN:VEVENT
DTSTAMP:20260422T100455Z
UID:64db92cb-e02d-4889-8b22-9212e5cdbb2f
DTSTART:20270208T183000
DTEND:20270208T200000
DESCRIPTION:
LOCATION:MT room
SUMMARY:REG. BOARD MTG
END:VEVENT
BEGIN:VEVENT
DTSTAMP:20260422T100455Z
UID:328e9208-0b65-4bb6-8ee5-a331bb11eaef
DTSTART;VALUE=DATE:20270215
DTEND;VALUE=DATE:20270216
DESCRIPTION:
LOCATION:
SUMMARY:No School - Presidents' Day
END:VEVENT
BEGIN:VEVENT
DTSTAMP:20260422T100455Z
UID:4af5852d-376d-4ee9-ab95-d90ede46efb3
DTSTART;VALUE=DATE:20270319
DTEND;VALUE=DATE:20270320
DESCRIPTION:
LOCATION:
SUMMARY:End 3rd quarter
END:VEVENT
BEGIN:VEVENT
DTSTAMP:20260422T100455Z
UID:986b551e-4ee7-4b3a-8c34-47b254c0f46a
DTSTART;VALUE=DATE:20270321
DTEND;VALUE=DATE:20270329
DESCRIPTION:
LOCATION:
SUMMARY:Close-Up trip to Washington D.C.
END:VEVENT
BEGIN:VEVENT
DTSTAMP:20260422T100455Z
UID:0d6dc7cf-7a1b-47b8-9207-d9fb2ff625e2
DTSTART;VALUE=DATE:20270326
DTEND;VALUE=DATE:20270327
DESCRIPTION:
LOCATION:
SUMMARY:No School - Easter Vacation
END:VEVENT
BEGIN:VEVENT
DTSTAMP:20260422T100455Z
UID:b004eb8f-60ef-42af-8688-3b4090d5f127
DTSTART;VALUE=DATE:20270329
DTEND;VALUE=DATE:20270330
DESCRIPTION:
LOCATION:
SUMMARY:No School - Easter Vacation
END:VEVENT
BEGIN:VEVENT
DTSTAMP:20260422T100455Z
UID:5be2ae41-cd10-4072-a22b-8fee0239282c
DTSTART;VALUE=DATE:20270528
DTEND;VALUE=DATE:20270529
DESCRIPTION:
LOCATION:
SUMMARY:End 4th qtr/2nd semester
END:VEVENT
BEGIN:VEVENT
DTSTAMP:20260422T100455Z
UID:3ca89c70-bccc-463d-b992-46595b7c2b76
DTSTART;VALUE=DATE:20270528
DTEND;VALUE=DATE:20270529
DESCRIPTION:
LOCATION:
SUMMARY:Last day of school!
END:VEVENT
END:VCALENDAR
