BEGIN:VCALENDAR
VERSION:2.0
PRODID:icalendar-ruby
CALSCALE:GREGORIAN
BEGIN:VTIMEZONE
TZID:America/New_York
BEGIN:DAYLIGHT
DTSTART:20260308T030000
TZOFFSETFROM:-0500
TZOFFSETTO:-0400
RRULE:FREQ=YEARLY;BYDAY=2SU;BYMONTH=3
TZNAME:EDT
END:DAYLIGHT
BEGIN:STANDARD
DTSTART:20261101T010000
TZOFFSETFROM:-0400
TZOFFSETTO:-0500
RRULE:FREQ=YEARLY;BYDAY=1SU;BYMONTH=11
TZNAME:EST
END:STANDARD
END:VTIMEZONE
BEGIN:VEVENT
DTSTAMP:20260424T163402Z
UID:dea3b48d-f1ec-45f5-95c5-385344093952
DTSTART;VALUE=DATE:20260420
DTEND;VALUE=DATE:20260425
DESCRIPTION:
LOCATION:
SUMMARY:MS GMAS Testing 
END:VEVENT
BEGIN:VEVENT
DTSTAMP:20260424T163402Z
UID:99fb79fc-b131-4b78-9932-f8ddda6349fd
DTSTART;VALUE=DATE:20260422
DTEND;VALUE=DATE:20260426
DESCRIPTION:
LOCATION:
SUMMARY:MS: FFA State Convention
END:VEVENT
BEGIN:VEVENT
DTSTAMP:20260424T163402Z
UID:8d10081d-c90e-4275-991d-20254eebb266
DTSTART;VALUE=DATE:20260427
DTEND;VALUE=DATE:20260501
DESCRIPTION:
LOCATION:
SUMMARY:MS GMAS TESTING 
END:VEVENT
BEGIN:VEVENT
DTSTAMP:20260424T163402Z
UID:9871b261-195a-4d38-bdc8-3cf4900521ca
DTSTART;VALUE=DATE:20260430
DTEND;VALUE=DATE:20260502
DESCRIPTION:
LOCATION:
SUMMARY:MS: One Act Festival TBD
END:VEVENT
BEGIN:VEVENT
DTSTAMP:20260424T163402Z
UID:85b3d772-9623-4379-868b-5b0d0a809469
DTSTART;VALUE=DATE:20260507
DTEND;VALUE=DATE:20260508
DESCRIPTION:
LOCATION:
SUMMARY:MS: FFA Area Awards 
END:VEVENT
BEGIN:VEVENT
DTSTAMP:20260424T163402Z
UID:3b410a44-3a46-4d4c-9712-341e9487daba
DTSTART:20260507T080000
DTEND:20260507T090000
DESCRIPTION:
LOCATION:
SUMMARY:MS Coffee and Conversations 
END:VEVENT
BEGIN:VEVENT
DTSTAMP:20260424T163402Z
UID:223f5316-e2cc-4500-80e1-ba31d0b7a4cf
DTSTART;VALUE=DATE:20260508
DTEND;VALUE=DATE:20260509
DESCRIPTION:
LOCATION:
SUMMARY:Flight 5 @ PCMS
END:VEVENT
BEGIN:VEVENT
DTSTAMP:20260424T163402Z
UID:001734d8-f029-4ab4-b866-3c3dd0603e73
DTSTART:20260512T173000
DTEND:20260512T183000
DESCRIPTION:
LOCATION:
SUMMARY:MS: Spring Chorus Concert
END:VEVENT
BEGIN:VEVENT
DTSTAMP:20260424T163402Z
UID:8ba81e09-26b3-415a-ac62-ed2a6e34f404
DTSTART;VALUE=DATE:20260513
DTEND;VALUE=DATE:20260514
DESCRIPTION:
LOCATION:
SUMMARY:Algebra I EOC
END:VEVENT
BEGIN:VEVENT
DTSTAMP:20260424T163402Z
UID:afc05c7f-e064-453a-a9d4-ae3152345b73
DTSTART;VALUE=DATE:20260513
DTEND;VALUE=DATE:20260515
DESCRIPTION:
LOCATION:
SUMMARY:MS Finals 
END:VEVENT
BEGIN:VEVENT
DTSTAMP:20260424T163402Z
UID:38134279-86db-4d9a-aab1-7343b4178a0b
DTSTART:20260514T173000
DTEND:20260514T183000
DESCRIPTION:
LOCATION:
SUMMARY:MS: Band Concert 
END:VEVENT
BEGIN:VEVENT
DTSTAMP:20260424T163402Z
UID:ebc0d4ce-fd7d-4c0b-96da-0bf781b3bda0
DTSTART:20260519T173000
DTEND:20260519T183000
DESCRIPTION:
LOCATION:
SUMMARY:MS: FFA Chapter Banquet
END:VEVENT
BEGIN:VEVENT
DTSTAMP:20260424T163402Z
UID:a9cd12a8-8b97-4a38-a9fd-d95a58062dab
DTSTART:20260521T090000
DTEND:20260521T100000
DESCRIPTION:
LOCATION:
SUMMARY:8th Grade Commitment Ceremony
END:VEVENT
BEGIN:VEVENT
DTSTAMP:20260424T163402Z
UID:389748ff-6d3a-4ab5-a1d0-49c33576c602
DTSTART:20260521T130000
DTEND:20260521T140000
DESCRIPTION:
LOCATION:
SUMMARY:6th and 7th Grade Honors 
END:VEVENT
END:VCALENDAR
