BEGIN:VCALENDAR
VERSION:2.0
PRODID:icalendar-ruby
CALSCALE:GREGORIAN
BEGIN:VTIMEZONE
TZID:America/New_York
BEGIN:DAYLIGHT
DTSTART:20260308T030000
TZOFFSETFROM:-0500
TZOFFSETTO:-0400
RRULE:FREQ=YEARLY;BYDAY=2SU;BYMONTH=3
TZNAME:EDT
END:DAYLIGHT
BEGIN:STANDARD
DTSTART:20261101T010000
TZOFFSETFROM:-0400
TZOFFSETTO:-0500
RRULE:FREQ=YEARLY;BYDAY=1SU;BYMONTH=11
TZNAME:EST
END:STANDARD
END:VTIMEZONE
BEGIN:VEVENT
DTSTAMP:20260425T170857Z
UID:9a0413a7-7cf5-4888-8482-4ada7e2f1fa0
DTSTART:20260428T190000
DTEND:20260428T190000
DESCRIPTION:
LOCATION:
SUMMARY:Band Spring Concert
END:VEVENT
BEGIN:VEVENT
DTSTAMP:20260425T170857Z
UID:c4b4ec54-9812-42bc-9423-d7ad0bebfacc
DTSTART:20260430T190000
DTEND:20260430T190000
DESCRIPTION:
LOCATION:
SUMMARY:Chorus Spring Concert
END:VEVENT
BEGIN:VEVENT
DTSTAMP:20260425T170857Z
UID:2cd2b25a-d238-4251-805f-fe689192e486
DTSTART:20260502T180000
DTEND:20260502T200000
DESCRIPTION:
LOCATION:
SUMMARY:PBIS Ball
END:VEVENT
BEGIN:VEVENT
DTSTAMP:20260425T170857Z
UID:00c3e970-3652-446a-8dba-273ce5a2a7d3
DTSTART:20260511T180000
DTEND:20260511T190000
DESCRIPTION:
LOCATION:
SUMMARY:Academic Awards Ceremony 
END:VEVENT
BEGIN:VEVENT
DTSTAMP:20260425T170857Z
UID:5cf7cccb-96c2-4868-b4e8-c70587b72cd8
DTSTART:20260512T170000
DTEND:20260512T190000
DESCRIPTION:LCM/HS Softball Field
LOCATION:
SUMMARY:LCMS Softball Tryouts
END:VEVENT
BEGIN:VEVENT
DTSTAMP:20260425T170857Z
UID:2ae66c31-7556-4832-b05f-320c38551cc9
DTSTART:20260513T170000
DTEND:20260513T190000
DESCRIPTION:LCM/HS Softball Field
LOCATION:
SUMMARY:LCMS Softball Tryouts
END:VEVENT
BEGIN:VEVENT
DTSTAMP:20260425T170857Z
UID:223eac8c-a5ff-4703-bddf-ac48fb8f8ae6
DTSTART:20260518T180000
DTEND:20260518T180000
DESCRIPTION:
LOCATION:
SUMMARY:Band Awards
END:VEVENT
BEGIN:VEVENT
DTSTAMP:20260425T170857Z
UID:48a39193-1c5d-41d1-8fde-d5549ef781f3
DTSTART;VALUE=DATE:20260520
DTEND;VALUE=DATE:20260521
DESCRIPTION:
LOCATION:
SUMMARY:Last Day of School
END:VEVENT
BEGIN:VEVENT
DTSTAMP:20260425T170857Z
UID:1182d1a8-1371-4c42-916f-e2d80e978914
DTSTART;VALUE=DATE:20260520
DTEND;VALUE=DATE:20260521
DESCRIPTION:
LOCATION:
SUMMARY:Report Cards Go Home
END:VEVENT
BEGIN:VEVENT
DTSTAMP:20260425T170857Z
UID:e62be419-0688-49f7-8e1d-81a4c0690d38
DTSTART:20260520T113000
DTEND:20260520T113000
DESCRIPTION:
LOCATION:
SUMMARY:Early Release
END:VEVENT
BEGIN:VEVENT
DTSTAMP:20260425T170857Z
UID:6d1e9700-d301-4b01-b196-db332bf75d01
DTSTART;VALUE=DATE:20260521
DTEND;VALUE=DATE:20260523
DESCRIPTION:
LOCATION:
SUMMARY:Teacher Planning
END:VEVENT
BEGIN:VEVENT
DTSTAMP:20260425T170857Z
UID:14832ec9-eca7-45a9-ac11-ca5522673ba2
DTSTART;VALUE=DATE:20260525
DTEND;VALUE=DATE:20260526
DESCRIPTION:
LOCATION:
SUMMARY:Memorial Day
END:VEVENT
BEGIN:VEVENT
DTSTAMP:20260425T170857Z
UID:a0698c1d-4461-439d-aeb8-34133daa2ba4
DTSTART;VALUE=DATE:20260729
DTEND;VALUE=DATE:20260731
DESCRIPTION:
LOCATION:
SUMMARY:Preplanning
END:VEVENT
BEGIN:VEVENT
DTSTAMP:20260425T170857Z
UID:0d60bff4-733c-4b02-89bc-202e84a0e223
DTSTART;VALUE=DATE:20260803
DTEND;VALUE=DATE:20260804
DESCRIPTION:
LOCATION:
SUMMARY:Preplanning
END:VEVENT
BEGIN:VEVENT
DTSTAMP:20260425T170857Z
UID:82d9de1b-3dbe-4a6c-8326-e8bfb3c78e01
DTSTART;VALUE=DATE:20260805
DTEND;VALUE=DATE:20260806
DESCRIPTION:
LOCATION:
SUMMARY:First Day of School
END:VEVENT
BEGIN:VEVENT
DTSTAMP:20260425T170857Z
UID:b0068574-5bc9-4cbd-946f-734d8a5095fc
DTSTART;VALUE=DATE:20260907
DTEND;VALUE=DATE:20260908
DESCRIPTION:
LOCATION:
SUMMARY:Labor Day Break
END:VEVENT
BEGIN:VEVENT
DTSTAMP:20260425T170857Z
UID:27e6144e-bdd9-4030-9a7f-dff03db61d24
DTSTART:20261007T113000
DTEND:20261007T113000
DESCRIPTION:
LOCATION:
SUMMARY:Early Release
END:VEVENT
BEGIN:VEVENT
DTSTAMP:20260425T170857Z
UID:807693e6-df08-41a6-8e54-38ba0c1f223c
DTSTART;VALUE=DATE:20261008
DTEND;VALUE=DATE:20261009
DESCRIPTION:
LOCATION:
SUMMARY:Teacher Work Day
END:VEVENT
BEGIN:VEVENT
DTSTAMP:20260425T170857Z
UID:bfe61b83-d65e-48c6-bd8a-0038a51209f1
DTSTART;VALUE=DATE:20261009
DTEND;VALUE=DATE:20261010
DESCRIPTION:
LOCATION:
SUMMARY:Fall Break
END:VEVENT
BEGIN:VEVENT
DTSTAMP:20260425T170857Z
UID:6677418e-ae0b-4d40-af7a-9ab08c0cf9ef
DTSTART;VALUE=DATE:20261012
DTEND;VALUE=DATE:20261013
DESCRIPTION:
LOCATION:
SUMMARY:Fall Break
END:VEVENT
BEGIN:VEVENT
DTSTAMP:20260425T170857Z
UID:430cbab1-06c5-4982-b12d-30971f5ee865
DTSTART;VALUE=DATE:20261123
DTEND;VALUE=DATE:20261127
DESCRIPTION:
LOCATION:
SUMMARY:Thanksgiving Break
END:VEVENT
BEGIN:VEVENT
DTSTAMP:20260425T170857Z
UID:4f62316c-4136-452a-9d25-360059a851db
DTSTART:20261218T113000
DTEND:20261218T113000
DESCRIPTION:
LOCATION:
SUMMARY:Early Release
END:VEVENT
BEGIN:VEVENT
DTSTAMP:20260425T170857Z
UID:6fddbc1b-3082-43e2-bfed-d0ce4fa449be
DTSTART;VALUE=DATE:20261221
DTEND;VALUE=DATE:20261225
DESCRIPTION:
LOCATION:
SUMMARY:Christmas Break
END:VEVENT
BEGIN:VEVENT
DTSTAMP:20260425T170857Z
UID:8a207284-861c-4d8f-a590-56ef10408a16
DTSTART;VALUE=DATE:20261228
DTEND;VALUE=DATE:20270101
DESCRIPTION:
LOCATION:
SUMMARY:Christmas Break
END:VEVENT
BEGIN:VEVENT
DTSTAMP:20260425T170857Z
UID:4816475b-dd9e-42c0-8c24-9ebe0c1b9995
DTSTART;VALUE=DATE:20270104
DTEND;VALUE=DATE:20270105
DESCRIPTION:
LOCATION:
SUMMARY:Teacher Work Day
END:VEVENT
BEGIN:VEVENT
DTSTAMP:20260425T170857Z
UID:f82bd401-8e38-4c1f-bf23-5de61b8c010b
DTSTART;VALUE=DATE:20270105
DTEND;VALUE=DATE:20270106
DESCRIPTION:
LOCATION:
SUMMARY:Student Return
END:VEVENT
BEGIN:VEVENT
DTSTAMP:20260425T170857Z
UID:2dfb1083-cf26-4a39-84ef-6c7b4ad7a8a4
DTSTART;VALUE=DATE:20270118
DTEND;VALUE=DATE:20270119
DESCRIPTION:
LOCATION:
SUMMARY:MLK Holiday
END:VEVENT
BEGIN:VEVENT
DTSTAMP:20260425T170857Z
UID:8cd8abfa-100d-4807-b3a5-7fc1f912521b
DTSTART:20270311T113000
DTEND:20270311T113000
DESCRIPTION:
LOCATION:
SUMMARY:Early Release
END:VEVENT
BEGIN:VEVENT
DTSTAMP:20260425T170857Z
UID:afbb24bb-730f-4bca-8e53-fc143b4c00a8
DTSTART;VALUE=DATE:20270312
DTEND;VALUE=DATE:20270313
DESCRIPTION:
LOCATION:
SUMMARY:March Break
END:VEVENT
BEGIN:VEVENT
DTSTAMP:20260425T170857Z
UID:34218d80-adce-4e21-9f08-91225ca8cf1a
DTSTART;VALUE=DATE:20270315
DTEND;VALUE=DATE:20270316
DESCRIPTION:
LOCATION:
SUMMARY:Teacher Work Day
END:VEVENT
BEGIN:VEVENT
DTSTAMP:20260425T170857Z
UID:8c26d94e-9538-4871-961c-b9b01922b062
DTSTART;VALUE=DATE:20270405
DTEND;VALUE=DATE:20270409
DESCRIPTION:
LOCATION:
SUMMARY:Spring Break
END:VEVENT
BEGIN:VEVENT
DTSTAMP:20260425T170857Z
UID:694572c6-8a15-43c4-bbaa-a66b0b39bad2
DTSTART:20270526T113000
DTEND:20270526T113000
DESCRIPTION:
LOCATION:
SUMMARY:Early Release
END:VEVENT
BEGIN:VEVENT
DTSTAMP:20260425T170857Z
UID:7f2702ea-8c97-4860-a1e5-b03b7164c650
DTSTART;VALUE=DATE:20270527
DTEND;VALUE=DATE:20270528
DESCRIPTION:
LOCATION:
SUMMARY:Post Planning
END:VEVENT
BEGIN:VEVENT
DTSTAMP:20260425T170857Z
UID:8eda1359-19d3-4350-969a-7f0fa795bcff
DTSTART;VALUE=DATE:20270531
DTEND;VALUE=DATE:20270601
DESCRIPTION:
LOCATION:
SUMMARY:Memorial Day
END:VEVENT
END:VCALENDAR
