BEGIN:VCALENDAR
VERSION:2.0
PRODID:icalendar-ruby
CALSCALE:GREGORIAN
BEGIN:VTIMEZONE
TZID:America/Phoenix
BEGIN:STANDARD
DTSTART:19671029T010000
TZOFFSETFROM:-0600
TZOFFSETTO:-0700
TZNAME:MST
END:STANDARD
END:VTIMEZONE
BEGIN:VEVENT
DTSTAMP:20260424T234220Z
UID:f0b91d2e-5342-48eb-9d0b-2e55f9955f30
DTSTART;VALUE=DATE:20260525
DTEND;VALUE=DATE:20260526
DESCRIPTION:
LOCATION:
SUMMARY:No School - Memorial Day
END:VEVENT
BEGIN:VEVENT
DTSTAMP:20260424T234220Z
UID:b300b613-b0cd-4b6f-b807-450c1ed4880c
DTSTART;VALUE=DATE:20260803
DTEND;VALUE=DATE:20260804
DESCRIPTION:
LOCATION:
SUMMARY:First Day of School
END:VEVENT
BEGIN:VEVENT
DTSTAMP:20260424T234220Z
UID:8f4b6d78-3ff2-40b1-b7c8-e3f75b8f8111
DTSTART;VALUE=DATE:20260924
DTEND;VALUE=DATE:20260925
DESCRIPTION:
LOCATION:
SUMMARY:Progress Reports
END:VEVENT
BEGIN:VEVENT
DTSTAMP:20260424T234220Z
UID:79a26b98-96fd-410c-ae6b-ee4512f04f51
DTSTART;VALUE=DATE:20261123
DTEND;VALUE=DATE:20261128
DESCRIPTION:
LOCATION:
SUMMARY:Fall Break
END:VEVENT
END:VCALENDAR
