BEGIN:VCALENDAR
VERSION:2.0
PRODID:icalendar-ruby
CALSCALE:GREGORIAN
BEGIN:VTIMEZONE
TZID:America/New_York
BEGIN:DAYLIGHT
DTSTART:20260308T030000
TZOFFSETFROM:-0500
TZOFFSETTO:-0400
RRULE:FREQ=YEARLY;BYDAY=2SU;BYMONTH=3
TZNAME:EDT
END:DAYLIGHT
BEGIN:STANDARD
DTSTART:20261101T010000
TZOFFSETFROM:-0400
TZOFFSETTO:-0500
RRULE:FREQ=YEARLY;BYDAY=1SU;BYMONTH=11
TZNAME:EST
END:STANDARD
END:VTIMEZONE
BEGIN:VEVENT
DTSTAMP:20260424T093308Z
UID:55f08a36-7304-454c-b761-e9dd0d10970d
DTSTART;VALUE=DATE:20260409
DTEND;VALUE=DATE:20260612
DESCRIPTION:
LOCATION:
SUMMARY:Marking Period 4 
END:VEVENT
BEGIN:VEVENT
DTSTAMP:20260424T093308Z
UID:9880bb99-7d8c-4552-9e3b-a973a34e4bfc
DTSTART;VALUE=DATE:20260427
DTEND;VALUE=DATE:20260530
DESCRIPTION:
LOCATION:
SUMMARY:NJSLA-A (ELA & Math) NJSLA-S Window
END:VEVENT
BEGIN:VEVENT
DTSTAMP:20260424T093308Z
UID:c3a5a435-4df7-46c2-a386-63f5bd654a9f
DTSTART:20260427T180000
DTEND:20260427T190000
DESCRIPTION:
LOCATION:Salem High School\, 219 Walnut St\, Salem\, NJ 08079\, USA
SUMMARY:SHS Principal Meet and Greet
END:VEVENT
BEGIN:VEVENT
DTSTAMP:20260424T093308Z
UID:88c2a430-1833-4d9f-9796-5de7f88cdbab
DTSTART:20260429T170000
DTEND:20260429T183000
DESCRIPTION:
LOCATION:John Fenwick Elementary School\, 183 Smith St\, Salem\, NJ 08079\,
  USA
SUMMARY:Principal Carter's Roundtable Meeting (Chat & Chew)
END:VEVENT
BEGIN:VEVENT
DTSTAMP:20260424T093308Z
UID:f7523dea-c9de-46b1-bcb1-e4db6cae4d61
DTSTART:20260429T183000
DTEND:20260429T193000
DESCRIPTION:
LOCATION:Salem High School\, 219 Walnut St\, Salem\, NJ 08079\, USA
SUMMARY:John Fenwick Academy Spring Concert
END:VEVENT
BEGIN:VEVENT
DTSTAMP:20260424T093308Z
UID:10058c1a-9d05-444c-afa3-6dcd00902418
DTSTART:20260506T180000
DTEND:20260506T200000
DESCRIPTION:
LOCATION:Salem High School\, 219 Walnut St\, Salem\, NJ 08079\, USA
SUMMARY:Board of Education Meeting
END:VEVENT
BEGIN:VEVENT
DTSTAMP:20260424T093308Z
UID:4b58cc87-9ce1-484a-baf2-7777d9c91863
DTSTART;VALUE=DATE:20260519
DTEND;VALUE=DATE:20260606
DESCRIPTION:
LOCATION:
SUMMARY:Spring i-Ready Diagnostic Window
END:VEVENT
BEGIN:VEVENT
DTSTAMP:20260424T093308Z
UID:6d5da620-fc07-4683-80eb-3f6cea3c12c7
DTSTART:20260520T180000
DTEND:20260520T200000
DESCRIPTION:
LOCATION:
SUMMARY:Spring Concert and Art Show for SMS
END:VEVENT
BEGIN:VEVENT
DTSTAMP:20260424T093308Z
UID:bc7f0862-fda8-4364-9cbd-3183c7180799
DTSTART;VALUE=DATE:20260526
DTEND;VALUE=DATE:20260530
DESCRIPTION:<p><strong>Title:</strong> Salem City School District Career We
 ek</p><p><strong>Date:</strong> May 26–May 30\, 2026</p><p><strong>Time:
 </strong> School-based schedules (varies by building)</p><p><strong>Locati
 on:</strong> Salem City School District Schools</p><p><strong>Description:
 </strong><br>Join us for Salem City School District Career Week as we expo
 se students to a variety of career pathways and real-world experiences.</p
 ><p>Throughout the week\, schools will host guest speakers\, career presen
 tations\, classroom connections\, and activities designed to help students
  explore their interests and begin thinking about their future.</p><p><str
 ong>Expectations:</strong></p><ul><li>Each school will plan age-appropriat
 e career-focused activities</li><li>Guest speakers and community partners 
 are encouraged</li><li>Schools should share flyers and schedules with the 
 community</li><li>Please capture and share pictures and highlights from th
 e week</li></ul><p><strong>Hosted by:</strong><br>Office of Teaching\, Lea
 rning\, and Innovation</p>
LOCATION:
SUMMARY:SCSD Career Week 
END:VEVENT
BEGIN:VEVENT
DTSTAMP:20260424T093308Z
UID:e30ab5d0-1838-4bd1-940e-89cdde05716c
DTSTART:20260527T170000
DTEND:20260527T183000
DESCRIPTION:
LOCATION:
SUMMARY:Principal Carter's Roundtable Meeting (Chat & Chew)
END:VEVENT
BEGIN:VEVENT
DTSTAMP:20260424T093308Z
UID:dc13a16b-3f1c-4744-99cc-f71a0dd0e07f
DTSTART:20260528T170000
DTEND:20260528T190000
DESCRIPTION:
LOCATION:John Fenwick Elementary School\, 183 Smith St\, Salem\, NJ 08079\,
  USA
SUMMARY:John Fenwick Academy Art Show
END:VEVENT
BEGIN:VEVENT
DTSTAMP:20260424T093308Z
UID:ddfb9f84-5ce9-4598-ae39-d483c6373aa1
DTSTART:20260601T090000
DTEND:20260601T140000
DESCRIPTION:
LOCATION:John Fenwick Elementary School\, 183 Smith St\, Salem\, NJ 08079\,
  USA
SUMMARY:John Fenwick Academy Field Day
END:VEVENT
BEGIN:VEVENT
DTSTAMP:20260424T093308Z
UID:7059c401-ab09-4120-840d-5189887aa492
DTSTART:20260608T090000
DTEND:20260608T140000
DESCRIPTION:
LOCATION:John Fenwick Elementary School\, 183 Smith St\, Salem\, NJ 08079\,
  USA
SUMMARY:John Fenwick Academy Field Day (Rain Date)
END:VEVENT
BEGIN:VEVENT
DTSTAMP:20260424T093308Z
UID:6ecc0c1c-ebc2-4e78-b298-ac426dada299
DTSTART:20260610T180000
DTEND:20260610T200000
DESCRIPTION:
LOCATION:Salem High School\, 219 Walnut Street\, Salem\, NJ 08079
SUMMARY:Salem City BOE Meeting
END:VEVENT
BEGIN:VEVENT
DTSTAMP:20260424T093308Z
UID:35df96df-2548-4da6-bd19-c12bf1b09ac3
DTSTART:20260615T173000
DTEND:20260615T220000
DESCRIPTION:
LOCATION:
SUMMARY:8th Grade Graduation at SHS and Dance
END:VEVENT
BEGIN:VEVENT
DTSTAMP:20260424T093308Z
UID:51e889ff-09fc-488a-9e20-118dd0015704
DTSTART:20260708T180000
DTEND:20260708T200000
DESCRIPTION:
LOCATION:Salem High School\, 219 Walnut Street\, Salem\, NJ 08079
SUMMARY:Salem City BOE Meeting
END:VEVENT
BEGIN:VEVENT
DTSTAMP:20260424T093308Z
UID:28adc2a4-4def-4925-935b-33dbcf20d4c9
DTSTART:20260812T180000
DTEND:20260812T200000
DESCRIPTION:
LOCATION:Salem High School\, 219 Walnut Street\, Salem\, NJ 08079
SUMMARY:Salem City BOE Meeting
END:VEVENT
BEGIN:VEVENT
DTSTAMP:20260424T093308Z
UID:9bb1a068-bf4f-4042-9a9f-859023e587ea
DTSTART:20260909T180000
DTEND:20260909T200000
DESCRIPTION:
LOCATION:Salem High School\, 219 Walnut Street\, Salem\, NJ 08079
SUMMARY:Salem City BOE Meeting
END:VEVENT
BEGIN:VEVENT
DTSTAMP:20260424T093308Z
UID:851c2e22-0d9f-4c44-bf05-ba64548839c2
DTSTART:20261014T180000
DTEND:20261014T200000
DESCRIPTION:
LOCATION:Salem High School\, 219 Walnut Street\, Salem\, NJ 08079
SUMMARY:Salem City BOE Meeting
END:VEVENT
BEGIN:VEVENT
DTSTAMP:20260424T093308Z
UID:9722ca12-6add-4ef8-b1b4-efda95788ede
DTSTART:20261111T180000
DTEND:20261111T200000
DESCRIPTION:
LOCATION:Salem High School\, 219 Walnut Street\, Salem\, NJ 08079
SUMMARY:Salem City BOE Meeting
END:VEVENT
BEGIN:VEVENT
DTSTAMP:20260424T093308Z
UID:9275c379-a34e-4cbe-8c1a-59ca8ffdf8e2
DTSTART:20261209T180000
DTEND:20261209T200000
DESCRIPTION:
LOCATION:Salem High School\, 219 Walnut Street\, Salem\, NJ 08079
SUMMARY:Salem City BOE Meeting
END:VEVENT
END:VCALENDAR
