BEGIN:VCALENDAR
VERSION:2.0
PRODID:icalendar-ruby
CALSCALE:GREGORIAN
BEGIN:VTIMEZONE
TZID:America/New_York
BEGIN:DAYLIGHT
DTSTART:20260308T030000
TZOFFSETFROM:-0500
TZOFFSETTO:-0400
RRULE:FREQ=YEARLY;BYDAY=2SU;BYMONTH=3
TZNAME:EDT
END:DAYLIGHT
BEGIN:STANDARD
DTSTART:20261101T010000
TZOFFSETFROM:-0400
TZOFFSETTO:-0500
RRULE:FREQ=YEARLY;BYDAY=1SU;BYMONTH=11
TZNAME:EST
END:STANDARD
END:VTIMEZONE
BEGIN:VEVENT
DTSTAMP:20260421T140206Z
UID:c96ff89e-849d-489b-8f37-9ccd8b75516a
DTSTART:20260429T183000
DTEND:20260429T193000
DESCRIPTION:
LOCATION:Pitman Jr./Sr. HS Media Center
SUMMARY:6:30 PM Board of Education Meeting Action/Public Hearing on the Bud
 get
END:VEVENT
BEGIN:VEVENT
DTSTAMP:20260421T140206Z
UID:bacf7101-99f7-4c2f-97b2-b3780e1dc498
DTSTART;VALUE=DATE:20260514
DTEND;VALUE=DATE:20260515
DESCRIPTION:
LOCATION:
SUMMARY:Early Dismissal - Jr./Sr. HS Only
END:VEVENT
BEGIN:VEVENT
DTSTAMP:20260421T140206Z
UID:97b34f61-b199-43c5-b1be-693fdf9bee58
DTSTART;VALUE=DATE:20260514
DTEND;VALUE=DATE:20260515
DESCRIPTION:
LOCATION:
SUMMARY:Early Dismissal (Jr./Sr. HS Only)
END:VEVENT
BEGIN:VEVENT
DTSTAMP:20260421T140206Z
UID:be2854f4-3aae-475e-b301-79d0cd9da54b
DTSTART;VALUE=DATE:20260515
DTEND;VALUE=DATE:20260516
DESCRIPTION:
LOCATION:
SUMMARY:Late Arrival for Students - Professional Development
END:VEVENT
BEGIN:VEVENT
DTSTAMP:20260421T140206Z
UID:2ad1bc40-ce73-4d94-b1f5-9d0eb462a1e0
DTSTART;VALUE=DATE:20260520
DTEND;VALUE=DATE:20260521
DESCRIPTION:
LOCATION:Pitman Jr./Sr. HS Media Center
SUMMARY:6:30 PM Board of Education Action Meeting
END:VEVENT
BEGIN:VEVENT
DTSTAMP:20260421T140206Z
UID:4e319017-c7ca-423c-9cd5-e1c8a0817cb0
DTSTART;VALUE=DATE:20260522
DTEND;VALUE=DATE:20260523
DESCRIPTION:
LOCATION:
SUMMARY:Early Dismissal
END:VEVENT
BEGIN:VEVENT
DTSTAMP:20260421T140206Z
UID:3828017d-42cd-47b5-b9c6-a48c743a9f33
DTSTART;VALUE=DATE:20260525
DTEND;VALUE=DATE:20260526
DESCRIPTION:
LOCATION:
SUMMARY:Schools Closed Memorial Day
END:VEVENT
BEGIN:VEVENT
DTSTAMP:20260421T140206Z
UID:c58be2a0-ba57-4f42-ab4e-0ced824b5ce1
DTSTART;VALUE=DATE:20260609
DTEND;VALUE=DATE:20260610
DESCRIPTION:
LOCATION:
SUMMARY:6th Grade Moving Up
END:VEVENT
BEGIN:VEVENT
DTSTAMP:20260421T140206Z
UID:bc684ca3-8bc5-468e-b543-dbe93b365b9e
DTSTART;VALUE=DATE:20260610
DTEND;VALUE=DATE:20260611
DESCRIPTION:
LOCATION:
SUMMARY:Early Dismissal
END:VEVENT
BEGIN:VEVENT
DTSTAMP:20260421T140206Z
UID:2474f008-4c92-405c-888b-5d0f60f3ef02
DTSTART;VALUE=DATE:20260611
DTEND;VALUE=DATE:20260612
DESCRIPTION:
LOCATION:
SUMMARY:8th Grade Moving Up
END:VEVENT
BEGIN:VEVENT
DTSTAMP:20260421T140206Z
UID:9e7418cb-60f5-4ad3-a902-3ac972963874
DTSTART;VALUE=DATE:20260611
DTEND;VALUE=DATE:20260612
DESCRIPTION:
LOCATION:
SUMMARY:Early Dismissal
END:VEVENT
BEGIN:VEVENT
DTSTAMP:20260421T140206Z
UID:9eb4f165-d4be-4725-8191-63e2cdd05c5c
DTSTART;VALUE=DATE:20260612
DTEND;VALUE=DATE:20260613
DESCRIPTION:
LOCATION:
SUMMARY:Early Dismissal
END:VEVENT
BEGIN:VEVENT
DTSTAMP:20260421T140206Z
UID:0a9edcce-a8e7-4b77-99a2-7cde180503e2
DTSTART;VALUE=DATE:20260612
DTEND;VALUE=DATE:20260613
DESCRIPTION:
LOCATION:
SUMMARY:End of Mark Period 4 Jr./Sr. HS
END:VEVENT
BEGIN:VEVENT
DTSTAMP:20260421T140206Z
UID:d51c6f7f-5e6a-453c-a613-43829e11b9a9
DTSTART;VALUE=DATE:20260612
DTEND;VALUE=DATE:20260613
DESCRIPTION:
LOCATION:
SUMMARY:End of Mark Period 4 Jr./Sr. HS
END:VEVENT
BEGIN:VEVENT
DTSTAMP:20260421T140206Z
UID:d14c43ef-f0bd-40c0-958d-4c9bd503b7dc
DTSTART;VALUE=DATE:20260612
DTEND;VALUE=DATE:20260613
DESCRIPTION:
LOCATION:
SUMMARY:Graduation/Last Day of School
END:VEVENT
BEGIN:VEVENT
DTSTAMP:20260421T140206Z
UID:5d406514-8e1a-478e-9560-12ab39cd9cba
DTSTART;VALUE=DATE:20260612
DTEND;VALUE=DATE:20260613
DESCRIPTION:
LOCATION:
SUMMARY:Graduation/Last Day of School
END:VEVENT
BEGIN:VEVENT
DTSTAMP:20260421T140206Z
UID:23aa9365-601f-4d81-afdf-634db66112fa
DTSTART:20260617T183000
DTEND:20260617T193000
DESCRIPTION:
LOCATION:Pitman Jr./Sr. HS Media Center
SUMMARY:6:30 PM Board of Education Action Meeting
END:VEVENT
BEGIN:VEVENT
DTSTAMP:20260421T140206Z
UID:106788c7-16f5-43cc-b230-d56fdaa32a03
DTSTART:20260805T183000
DTEND:20260805T193000
DESCRIPTION:
LOCATION:Pitman Jr./Sr. HS Media Center
SUMMARY:6:30 PM Board of Education Action Meeting
END:VEVENT
BEGIN:VEVENT
DTSTAMP:20260421T140206Z
UID:4a87d974-1780-498f-badf-c89a7244b849
DTSTART:20260916T183000
DTEND:20260916T193000
DESCRIPTION:
LOCATION:Pitman Jr./Sr. HS Media Center
SUMMARY:6:30 PM Board of Education Action Meeting
END:VEVENT
BEGIN:VEVENT
DTSTAMP:20260421T140206Z
UID:10977cfe-3921-4a04-b7f1-7fe51c43cd33
DTSTART:20261014T183000
DTEND:20261014T193000
DESCRIPTION:
LOCATION:Pitman Jr./Sr. HS Media Center
SUMMARY:6:30 PM Board of Education Action Meeting
END:VEVENT
BEGIN:VEVENT
DTSTAMP:20260421T140206Z
UID:8f635d24-1639-4792-a130-d877c13e6d95
DTSTART;VALUE=DATE:20261118
DTEND;VALUE=DATE:20261119
DESCRIPTION:
LOCATION:Pitman Jr./Sr. HS Media Center
SUMMARY:6:30 PM Board of Education Action Meeting
END:VEVENT
BEGIN:VEVENT
DTSTAMP:20260421T140206Z
UID:f93efe9e-1749-4631-8775-a9829904eeb8
DTSTART:20261216T183000
DTEND:20261216T193000
DESCRIPTION:
LOCATION:Pitman Jr./Sr. HS Media Center
SUMMARY:6:30 PM Board of Education Action Meeting
END:VEVENT
END:VCALENDAR
