BEGIN:VCALENDAR
VERSION:2.0
PRODID:icalendar-ruby
CALSCALE:GREGORIAN
BEGIN:VTIMEZONE
TZID:America/Chicago
BEGIN:DAYLIGHT
DTSTART:20260308T030000
TZOFFSETFROM:-0600
TZOFFSETTO:-0500
RRULE:FREQ=YEARLY;BYDAY=2SU;BYMONTH=3
TZNAME:CDT
END:DAYLIGHT
BEGIN:STANDARD
DTSTART:20261101T010000
TZOFFSETFROM:-0500
TZOFFSETTO:-0600
RRULE:FREQ=YEARLY;BYDAY=1SU;BYMONTH=11
TZNAME:CST
END:STANDARD
END:VTIMEZONE
BEGIN:VEVENT
DTSTAMP:20260423T002359Z
UID:2b1e08ad-4289-49a3-a4a3-b72bc07c5cf5
DTSTART;VALUE=DATE:20260420
DTEND;VALUE=DATE:20260425
DESCRIPTION:
LOCATION:
SUMMARY:STAAR Testing
END:VEVENT
BEGIN:VEVENT
DTSTAMP:20260423T002359Z
UID:42975241-a258-42e0-ada9-2a8662637237
DTSTART;VALUE=DATE:20260427
DTEND;VALUE=DATE:20260502
DESCRIPTION:
LOCATION:
SUMMARY:STAAR Testing
END:VEVENT
BEGIN:VEVENT
DTSTAMP:20260423T002359Z
UID:51e6e0f0-06bc-44e4-90e9-25246c491b50
DTSTART:20260506T100000
DTEND:20260506T110000
DESCRIPTION:Review and Future Planning
LOCATION:
SUMMARY:Parent Meeting AM
END:VEVENT
BEGIN:VEVENT
DTSTAMP:20260423T002359Z
UID:c65f5b25-a309-40ef-90f2-090ccb5631f3
DTSTART:20260506T170000
DTEND:20260506T180000
DESCRIPTION:Future Ready: End of Year Wrap-Up and Beyond
LOCATION:
SUMMARY:Parent Meeting PM
END:VEVENT
END:VCALENDAR
