BEGIN:VCALENDAR
VERSION:2.0
PRODID:icalendar-ruby
CALSCALE:GREGORIAN
BEGIN:VTIMEZONE
TZID:America/New_York
BEGIN:DAYLIGHT
DTSTART:20260308T030000
TZOFFSETFROM:-0500
TZOFFSETTO:-0400
RRULE:FREQ=YEARLY;BYDAY=2SU;BYMONTH=3
TZNAME:EDT
END:DAYLIGHT
BEGIN:STANDARD
DTSTART:20261101T010000
TZOFFSETFROM:-0400
TZOFFSETTO:-0500
RRULE:FREQ=YEARLY;BYDAY=1SU;BYMONTH=11
TZNAME:EST
END:STANDARD
END:VTIMEZONE
BEGIN:VEVENT
DTSTAMP:20260419T151517Z
UID:aee6f1a9-55f4-4d07-88ea-fd2068d2036c
DTSTART:20260430T190000
DTEND:20260430T200000
DESCRIPTION:
LOCATION:Elmira High School
SUMMARY:EHS Orchestra Concert
END:VEVENT
BEGIN:VEVENT
DTSTAMP:20260419T151517Z
UID:c964d613-6651-4744-8ca3-b13a439faed4
DTSTART:20260505T190000
DTEND:20260505T200000
DESCRIPTION:
LOCATION:Broadway
SUMMARY:Broadway Academy Spring Concert
END:VEVENT
BEGIN:VEVENT
DTSTAMP:20260419T151517Z
UID:e5ea7c54-76e4-41f4-b1fd-8a0cebf4c4fe
DTSTART:20260506T190000
DTEND:20260506T200000
DESCRIPTION:
LOCATION:Elmira High School
SUMMARY:EHS Choir Spring Concert
END:VEVENT
BEGIN:VEVENT
DTSTAMP:20260419T151517Z
UID:565a2916-637c-40b9-9fe8-c30a9460e6e1
DTSTART:20260511T170000
DTEND:20260511T180000
DESCRIPTION:
LOCATION:Beecher Elementary 
SUMMARY:Beecher 5th Grade Spring Concert
END:VEVENT
BEGIN:VEVENT
DTSTAMP:20260419T151517Z
UID:363478e7-dd4e-43ca-97b5-741695922293
DTSTART:20260512T190000
DTEND:20260512T200000
DESCRIPTION:
LOCATION:Elmira High School
SUMMARY:EHS Band Spring Concert
END:VEVENT
BEGIN:VEVENT
DTSTAMP:20260419T151517Z
UID:143628c3-2387-41f5-9443-85e8c810c5fe
DTSTART:20260513T173000
DTEND:20260513T183000
DESCRIPTION:
LOCATION:Coburn Elementary
SUMMARY:Coburn Spring Concert
END:VEVENT
BEGIN:VEVENT
DTSTAMP:20260419T151517Z
UID:7ef1a255-3167-47b9-9d7d-f588d689e43a
DTSTART:20260513T180000
DTEND:20260513T190000
DESCRIPTION:
LOCATION:Broadway
SUMMARY:Broadway Elementary 6th Grade Spring Concert
END:VEVENT
BEGIN:VEVENT
DTSTAMP:20260419T151517Z
UID:0955edcd-8e3e-4f75-903d-2e275fad3edc
DTSTART:20260514T180000
DTEND:20260514T190000
DESCRIPTION:
LOCATION:Beecher Elementary
SUMMARY:Beecher 6th Grade Spring Concert
END:VEVENT
BEGIN:VEVENT
DTSTAMP:20260419T151517Z
UID:ed67028f-1ede-4b42-8519-0799a71ccc3e
DTSTART:20260519T180000
DTEND:20260519T190000
DESCRIPTION:
LOCATION:Broadway
SUMMARY:Broadway Elementary 5th Grade Spring Concert
END:VEVENT
BEGIN:VEVENT
DTSTAMP:20260419T151517Z
UID:e7defead-4fb1-40cd-b334-9284bc216f83
DTSTART:20260519T180000
DTEND:20260519T190000
DESCRIPTION:
LOCATION:Hendy Elementary
SUMMARY:Hendy Voca/Drum Ensemble Concert
END:VEVENT
BEGIN:VEVENT
DTSTAMP:20260419T151517Z
UID:517e6427-b21d-4da6-a50b-89d2de239be5
DTSTART:20260522T080000
DTEND:20260522T150000
DESCRIPTION:
LOCATION:Snow Day "Give Back"
SUMMARY:No School (closed)
END:VEVENT
BEGIN:VEVENT
DTSTAMP:20260419T151517Z
UID:67a5778b-e203-4a29-8b20-c4c6b92a8804
DTSTART:20260525T080000
DTEND:20260525T150000
DESCRIPTION:
LOCATION:No School
SUMMARY:Memorial Day
END:VEVENT
BEGIN:VEVENT
DTSTAMP:20260419T151517Z
UID:9c2351d2-17be-40c4-b50a-4c439398ab48
DTSTART:20260526T080000
DTEND:20260526T150000
DESCRIPTION:
LOCATION:Snow Day "Give Back"
SUMMARY:No School (closed)
END:VEVENT
BEGIN:VEVENT
DTSTAMP:20260419T151517Z
UID:b1aec819-5147-4b75-9249-a2d463a44f5e
DTSTART:20260528T180000
DTEND:20260528T190000
DESCRIPTION:
LOCATION:Ernie Davis Academy
SUMMARY:Hendy Instrumental Music Concert at EDA
END:VEVENT
BEGIN:VEVENT
DTSTAMP:20260419T151517Z
UID:690a904c-3157-4fb4-84d4-d33ab8f9b33c
DTSTART:20260602T190000
DTEND:20260602T200000
DESCRIPTION:
LOCATION:Ernie Davis Academy
SUMMARY:EDA Spring Concert #1
END:VEVENT
BEGIN:VEVENT
DTSTAMP:20260419T151517Z
UID:6c1bfa9a-df17-4e9c-8629-5aaa1a14cfe4
DTSTART:20260604T190000
DTEND:20260604T200000
DESCRIPTION:
LOCATION:Ernie Davis Academy
SUMMARY:EDA Spring Concert #2
END:VEVENT
BEGIN:VEVENT
DTSTAMP:20260419T151517Z
UID:91db2272-b1ed-4663-822f-7c8401c698b7
DTSTART:20260609T080000
DTEND:20260609T150000
DESCRIPTION:
LOCATION:TBD: Testing Schedule
SUMMARY:Regents Exams
END:VEVENT
BEGIN:VEVENT
DTSTAMP:20260419T151517Z
UID:f3694ef5-6943-478e-945a-6dae5abba96d
DTSTART:20260610T080000
DTEND:20260610T150000
DESCRIPTION:
LOCATION:TBD: Testing Schedule
SUMMARY:Regents Exams
END:VEVENT
BEGIN:VEVENT
DTSTAMP:20260419T151517Z
UID:23414a13-825f-4416-9718-0baceeb7e93a
DTSTART:20260615T093000
DTEND:20260615T133000
DESCRIPTION:
LOCATION:District-Wide
SUMMARY:Graduate Cap and Gown Parade
END:VEVENT
BEGIN:VEVENT
DTSTAMP:20260419T151517Z
UID:f1194678-6cb4-4c56-aa16-b784691f9cb2
DTSTART:20260617T080000
DTEND:20260617T150000
DESCRIPTION:
LOCATION:TBD: Testing Schedule
SUMMARY:Regents Exams
END:VEVENT
BEGIN:VEVENT
DTSTAMP:20260419T151517Z
UID:26c9ae25-9a65-4425-8ab9-b64b67e9b275
DTSTART:20260618T080000
DTEND:20260618T150000
DESCRIPTION:
LOCATION:TBD: Testing Schedule
SUMMARY:Regents Exams
END:VEVENT
BEGIN:VEVENT
DTSTAMP:20260419T151517Z
UID:eb78376f-bde8-4d5e-8ee0-ef6976924d00
DTSTART:20260619T080000
DTEND:20260619T150000
DESCRIPTION:
LOCATION:No School
SUMMARY:Juneteenth
END:VEVENT
BEGIN:VEVENT
DTSTAMP:20260419T151517Z
UID:e18e0943-8c30-46cc-bab7-0defcf67da9f
DTSTART:20260622T080000
DTEND:20260622T150000
DESCRIPTION:
LOCATION:TBD: Testing Schedule
SUMMARY:Regents Exams
END:VEVENT
BEGIN:VEVENT
DTSTAMP:20260419T151517Z
UID:f08bafc1-7270-46a3-b9c8-2e0f2c7beddd
DTSTART:20260623T080000
DTEND:20260623T150000
DESCRIPTION:
LOCATION:TBD: Testing Schedule
SUMMARY:Regents Exams
END:VEVENT
BEGIN:VEVENT
DTSTAMP:20260419T151517Z
UID:c32115fc-65e4-4b4d-abdd-7bf6ce524536
DTSTART:20260624T080000
DTEND:20260624T150000
DESCRIPTION:
LOCATION:TBD: Testing Schedule
SUMMARY:Regents Exams
END:VEVENT
BEGIN:VEVENT
DTSTAMP:20260419T151517Z
UID:2e40a8a6-c2c4-455e-b53f-f707065439ad
DTSTART:20260625T080000
DTEND:20260625T150000
DESCRIPTION:
LOCATION:TBD: Testing Schedule
SUMMARY:Regents Exams
END:VEVENT
BEGIN:VEVENT
DTSTAMP:20260419T151517Z
UID:2cbe3d0b-0a21-49f5-bd91-850a7ddd83d8
DTSTART:20260626T080000
DTEND:20260626T150000
DESCRIPTION:
LOCATION:
SUMMARY:Rating Day
END:VEVENT
BEGIN:VEVENT
DTSTAMP:20260419T151517Z
UID:7ec95b00-9d55-46a6-bc54-50554bf8bd1f
DTSTART:20260626T080000
DTEND:20260626T150000
DESCRIPTION:
LOCATION:TBD: Testing Schedule
SUMMARY:Regents Exams
END:VEVENT
END:VCALENDAR
