BEGIN:VCALENDAR
VERSION:2.0
PRODID:icalendar-ruby
CALSCALE:GREGORIAN
BEGIN:VTIMEZONE
TZID:America/Chicago
BEGIN:DAYLIGHT
DTSTART:20260308T030000
TZOFFSETFROM:-0600
TZOFFSETTO:-0500
RRULE:FREQ=YEARLY;BYDAY=2SU;BYMONTH=3
TZNAME:CDT
END:DAYLIGHT
BEGIN:STANDARD
DTSTART:20261101T010000
TZOFFSETFROM:-0500
TZOFFSETTO:-0600
RRULE:FREQ=YEARLY;BYDAY=1SU;BYMONTH=11
TZNAME:CST
END:STANDARD
END:VTIMEZONE
BEGIN:VEVENT
DTSTAMP:20260423T132758Z
UID:8c1ea715-69d1-42ac-a7b1-8d5d40c35caf
DTSTART:20260429T180000
DTEND:20260429T200000
DESCRIPTION:
LOCATION:K-W Auditorium
SUMMARY:Jazz Band/Chamber Choir Concert
END:VEVENT
BEGIN:VEVENT
DTSTAMP:20260423T132758Z
UID:39135e40-92fa-4756-a247-b9c3467617e2
DTSTART:20260502T160000
DTEND:20260502T170000
DESCRIPTION:
LOCATION:K-W Schools East Gym
SUMMARY:Prom- Grand March
END:VEVENT
BEGIN:VEVENT
DTSTAMP:20260423T132758Z
UID:504383f7-d1ec-4559-94c7-3a033329c155
DTSTART:20260506T190000
DTEND:20260506T210000
DESCRIPTION:
LOCATION:K-W Auditorium
SUMMARY:Concert HS Chorale/Symphonic Band
END:VEVENT
BEGIN:VEVENT
DTSTAMP:20260423T132758Z
UID:e87a08b9-c25a-4906-b914-f63e634f38ab
DTSTART:20260513T130000
DTEND:20260513T150000
DESCRIPTION:
LOCATION:
SUMMARY:Early Release 1 PM
END:VEVENT
BEGIN:VEVENT
DTSTAMP:20260423T132758Z
UID:16b3c0e5-a710-4be0-9159-bef504da14aa
DTSTART:20260513T180000
DTEND:20260513T190000
DESCRIPTION:
LOCATION:K-W HS Auditorium
SUMMARY:Senior Recognition Night
END:VEVENT
BEGIN:VEVENT
DTSTAMP:20260423T132758Z
UID:f418c818-fbcb-4584-b572-fd015a4829e0
DTSTART:20260513T191500
DTEND:20260513T200000
DESCRIPTION:
LOCATION:First Lutheran Church\, Kenyon
SUMMARY:Baccalaureate
END:VEVENT
BEGIN:VEVENT
DTSTAMP:20260423T132758Z
UID:122beb6d-abb6-4c70-baf8-e2e03607ca3a
DTSTART:20260514T190000
DTEND:20260514T210000
DESCRIPTION:
LOCATION:K-W Auditorium
SUMMARY:Concert MS Band and Choir
END:VEVENT
BEGIN:VEVENT
DTSTAMP:20260423T132758Z
UID:49c3ad5e-4fdd-4900-9eec-159e865d7493
DTSTART:20260518T133000
DTEND:20260518T150000
DESCRIPTION:
LOCATION:K-W Auditorium
SUMMARY:Elementary Music Concert Grades K-4
END:VEVENT
BEGIN:VEVENT
DTSTAMP:20260423T132758Z
UID:11553fdd-4c5f-44ec-9650-80390fb41247
DTSTART:20260518T183000
DTEND:20260518T200000
DESCRIPTION:
LOCATION:K-W Auditorium
SUMMARY:Elementary Music Concert Grades K-4
END:VEVENT
BEGIN:VEVENT
DTSTAMP:20260423T132758Z
UID:9cc5b07f-8580-42cb-82df-d2f41b8e72b8
DTSTART;VALUE=DATE:20260522
DTEND;VALUE=DATE:20260523
DESCRIPTION:
LOCATION:
SUMMARY:Last Day of School
END:VEVENT
BEGIN:VEVENT
DTSTAMP:20260423T132758Z
UID:c204fc8d-c373-46ce-bf62-aa96463ef415
DTSTART:20260531T130000
DTEND:20260531T140000
DESCRIPTION:
LOCATION:K-W East Gym 
SUMMARY:Graduation
END:VEVENT
END:VCALENDAR
