BEGIN:VCALENDAR
VERSION:2.0
PRODID:icalendar-ruby
CALSCALE:GREGORIAN
BEGIN:VTIMEZONE
TZID:America/New_York
BEGIN:DAYLIGHT
DTSTART:20260308T030000
TZOFFSETFROM:-0500
TZOFFSETTO:-0400
RRULE:FREQ=YEARLY;BYDAY=2SU;BYMONTH=3
TZNAME:EDT
END:DAYLIGHT
BEGIN:STANDARD
DTSTART:20261101T010000
TZOFFSETFROM:-0400
TZOFFSETTO:-0500
RRULE:FREQ=YEARLY;BYDAY=1SU;BYMONTH=11
TZNAME:EST
END:STANDARD
END:VTIMEZONE
BEGIN:VEVENT
DTSTAMP:20260422T085144Z
UID:2b31aedf-1faa-49fb-8777-dc8106a0db33
DTSTART;VALUE=DATE:20260422
DTEND;VALUE=DATE:20260423
DESCRIPTION:<p><span>Dismissal Times:</span><br><br><span>High School—12:
 10 p.m.</span><br><span>Middle School—12:20 p.m.</span><br><span>Montagu
 e—1:30 p.m.</span><br><span>Moore—1:37 p.m.</span><br><span>Pinehurst
 —1:50 p.m.</span></p>
LOCATION:
SUMMARY:Reduced Day
END:VEVENT
BEGIN:VEVENT
DTSTAMP:20260422T085144Z
UID:3d72fdba-7240-447d-8f91-94137c0fbb97
DTSTART;VALUE=DATE:20260506
DTEND;VALUE=DATE:20260507
DESCRIPTION:<p><span>Dismissal Times:</span><br><br><span>High School—12:
 10 p.m.</span><br><span>Middle School—12:20 p.m.</span><br><span>Montagu
 e—1:30 p.m.</span><br><span>Moore—1:37 p.m.</span><br><span>Pinehurst
 —1:50 p.m.</span></p>
LOCATION:
SUMMARY:Reduced Day
END:VEVENT
BEGIN:VEVENT
DTSTAMP:20260422T085144Z
UID:d9139cf0-0698-48fa-829b-9cc98f3cb071
DTSTART;VALUE=DATE:20260520
DTEND;VALUE=DATE:20260521
DESCRIPTION:<p><span>Dismissal Times:</span><br><br><span>High School—12:
 10 p.m.</span><br><span>Middle School—12:20 p.m.</span><br><span>Montagu
 e—1:30 p.m.</span><br><span>Moore—1:37 p.m.</span><br><span>Pinehurst
 —1:50 p.m.</span></p>
LOCATION:
SUMMARY:Reduced Day
END:VEVENT
BEGIN:VEVENT
DTSTAMP:20260422T085144Z
UID:fbe7a7b5-5674-4e31-afb9-abc43c8d8e37
DTSTART;VALUE=DATE:20260522
DTEND;VALUE=DATE:20260523
DESCRIPTION:
LOCATION:
SUMMARY:No School
END:VEVENT
BEGIN:VEVENT
DTSTAMP:20260422T085144Z
UID:b86ef785-e83c-4c30-ae2b-3a44864aac8b
DTSTART;VALUE=DATE:20260525
DTEND;VALUE=DATE:20260526
DESCRIPTION:
LOCATION:
SUMMARY:Memorial Day- No School
END:VEVENT
BEGIN:VEVENT
DTSTAMP:20260422T085144Z
UID:ce8afc10-e502-4b48-80bd-2449bb0b9e8e
DTSTART;VALUE=DATE:20260605
DTEND;VALUE=DATE:20260606
DESCRIPTION:<p><span>Dismissal Times:</span><br><br><span>High School—10:
 41 a.m.</span><br><span>Middle School—11:00 a.m.</span><br><span>Montagu
 e—12:05 p.m.</span><br><span>Moore—12:12 p.m.</span><br><span>Pinehurs
 t—12:20 p.m.</span></p>
LOCATION:
SUMMARY:Last Day of School- Half Day
END:VEVENT
END:VCALENDAR
