BEGIN:VCALENDAR
VERSION:2.0
PRODID:icalendar-ruby
CALSCALE:GREGORIAN
BEGIN:VTIMEZONE
TZID:America/New_York
BEGIN:DAYLIGHT
DTSTART:20260308T030000
TZOFFSETFROM:-0500
TZOFFSETTO:-0400
RRULE:FREQ=YEARLY;BYDAY=2SU;BYMONTH=3
TZNAME:EDT
END:DAYLIGHT
BEGIN:STANDARD
DTSTART:20261101T010000
TZOFFSETFROM:-0400
TZOFFSETTO:-0500
RRULE:FREQ=YEARLY;BYDAY=1SU;BYMONTH=11
TZNAME:EST
END:STANDARD
END:VTIMEZONE
BEGIN:VEVENT
DTSTAMP:20260419T125925Z
UID:44197f25-539f-45f0-b1be-377dbddb0d9b
DTSTART:20260420T153000
DTEND:20260420T170000
DESCRIPTION:<p><span>This after-school program hosts the adventures of DM M
 ilo at his table and DM Carl at his table. These groups encourage each par
 ticipant adding their voice to the sagas created.&nbsp\; Any student inter
 ested in running a campaign is welcome to start another world! Participant
 s new to RPGs can learn at DM Carl’s table. Rulebooks\, dice\, miniature
 s and other supplies are provided\, nothing is needed. Prior participants 
 will have the first access to available seats. Come with your imagination\
 , join your friends\, and save the Realms!</span></p><p><br></p><p><span>$
 100 per student</span></p><p><span>Mondays 1/12/26 -&nbsp\; 5/18/26 \, fro
 m 3:30 - 5 p.m. (excluding holidays)</span></p><p><span>For TMA students i
 n Upper Elementary and Junior High</span></p><p><span>Facilitator: Mr. Car
 l Lozar (TMAEL Teacher and current parent)</span></p><p><span>Register her
 e: </span><a href="https://forms.gle/Mn8j1YmrANsrMD188" target="_blank" re
 l="noopener noreferrer nofollow" path-prefix=""><span>https://forms.gle/Mn
 8j1YmrANsrMD188</span></a></p>
LOCATION:530 E Day Rd\, Mishawaka\, IN 46545\, USA
SUMMARY:UE/JH Role Players Enrichment
END:VEVENT
BEGIN:VEVENT
DTSTAMP:20260419T125925Z
UID:dce4530f-197b-425c-aefc-b026a65033b3
DTSTART:20260421T154500
DTEND:20260421T170000
DESCRIPTION:<p>Girls on the Run is an after school program that helps girls
  in grades 3–5 build confidence\, friendships\, and life skills through 
 running and team activities. At TMA\, participants meet twice a week for p
 ractices that combine games\, discussions\, and running to encourage healt
 hy habits\, positive self image\, and teamwork while preparing for a commu
 nity 5K celebration at the end of the season.</p>
LOCATION:530 E Day Rd\, Mishawaka\, IN 46545\, USA
SUMMARY:Girls on the Run (GOTR) Practice
END:VEVENT
BEGIN:VEVENT
DTSTAMP:20260419T125925Z
UID:fcce7c62-e346-492d-8a7b-193cf49a0118
DTSTART:20260422T153000
DTEND:20260422T170000
DESCRIPTION:<p><strong>ALL NEW DISC GOLF CLUB for Upper Elementary and Juni
 or High Students</strong></p><p>Disc Golf is a relaxing sport that is easy
  to learn and helps develop both athleticism and critical thinking skills.
 &nbsp\; And TMA is lucky to have a 9 hole course just across the street!&n
 bsp\; Your student will learn all they need to know about the rules of the
  game and how to use the different discs. This is a great opportunity to i
 ntroduce students to a more "non-traditional" sport.</p><p><a target="_bla
 nk" rel="noopener noreferrer nofollow" href="https://docs.google.com/forms
 /d/e/1FAIpQLSfu6ukHpSmsVzdGVMe43LL4B3ajo1G9sW0dyp7EGonMj2lr7A/viewform?usp
 =sharing&amp\;ouid=109670138953466722125">Click here</a> for more informat
 ion and to register for TMA's Disc Golf Club!</p>
LOCATION:530 E Day Rd\, Mishawaka\, IN 46545\, USA
SUMMARY:Disc Golf Club
END:VEVENT
BEGIN:VEVENT
DTSTAMP:20260419T125925Z
UID:a66955c1-7fac-47a7-a16e-12375b2ab5ce
DTSTART:20260423T154500
DTEND:20260423T170000
DESCRIPTION:<p>Girls on the Run is an after school program that helps girls
  in grades 3–5 build confidence\, friendships\, and life skills through 
 running and team activities. At TMA\, participants meet twice a week for p
 ractices that combine games\, discussions\, and running to encourage healt
 hy habits\, positive self image\, and teamwork while preparing for a commu
 nity 5K celebration at the end of the season.</p>
LOCATION:5530 Grape Rd\, Mishawaka\, IN 46545\, USA
SUMMARY:Girls on the Run (GOTR) Practice
END:VEVENT
BEGIN:VEVENT
DTSTAMP:20260419T125925Z
UID:9e8612ee-04e9-4fd5-9478-b124fd0cb137
DTSTART:20260424T190000
DTEND:20260425T080000
DESCRIPTION:<p>Have you ever wanted to have a sleepover at your school! Wel
 l\, now is your chance! Games\, crafts\, snacks\, and more. Sleep over in 
 the gym with your TMA friends. More details to come.</p>
LOCATION:530 E Day Rd\, Mishawaka\, IN 46545\, USA
SUMMARY:LE/UE Lock-In
END:VEVENT
BEGIN:VEVENT
DTSTAMP:20260419T125925Z
UID:932a45bc-a3e9-4ac2-a709-78313139ead5
DTSTART:20260427T153000
DTEND:20260427T170000
DESCRIPTION:<p><span>This after-school program hosts the adventures of DM M
 ilo at his table and DM Carl at his table. These groups encourage each par
 ticipant adding their voice to the sagas created.&nbsp\; Any student inter
 ested in running a campaign is welcome to start another world! Participant
 s new to RPGs can learn at DM Carl’s table. Rulebooks\, dice\, miniature
 s and other supplies are provided\, nothing is needed. Prior participants 
 will have the first access to available seats. Come with your imagination\
 , join your friends\, and save the Realms!</span></p><p><br></p><p><span>$
 100 per student</span></p><p><span>Mondays 1/12/26 -&nbsp\; 5/18/26 \, fro
 m 3:30 - 5 p.m. (excluding holidays)</span></p><p><span>For TMA students i
 n Upper Elementary and Junior High</span></p><p><span>Facilitator: Mr. Car
 l Lozar (TMAEL Teacher and current parent)</span></p><p><span>Register her
 e: </span><a href="https://forms.gle/Mn8j1YmrANsrMD188" target="_blank" re
 l="noopener noreferrer nofollow" path-prefix=""><span>https://forms.gle/Mn
 8j1YmrANsrMD188</span></a></p>
LOCATION:530 E Day Rd\, Mishawaka\, IN 46545\, USA
SUMMARY:UE/JH Role Players Enrichment
END:VEVENT
BEGIN:VEVENT
DTSTAMP:20260419T125925Z
UID:eed3cf4d-731e-45bf-b1c8-f78e62ace5e9
DTSTART:20260428T154500
DTEND:20260428T170000
DESCRIPTION:<p>Girls on the Run is an after school program that helps girls
  in grades 3–5 build confidence\, friendships\, and life skills through 
 running and team activities. At TMA\, participants meet twice a week for p
 ractices that combine games\, discussions\, and running to encourage healt
 hy habits\, positive self image\, and teamwork while preparing for a commu
 nity 5K celebration at the end of the season.</p>
LOCATION:530 E Day Rd\, Mishawaka\, IN 46545\, USA
SUMMARY:Girls on the Run (GOTR) Practice
END:VEVENT
BEGIN:VEVENT
DTSTAMP:20260419T125925Z
UID:d0f2ae3e-c9c2-4655-a4c4-231dacbd83e9
DTSTART:20260429T153000
DTEND:20260429T170000
DESCRIPTION:<p><strong>ALL NEW DISC GOLF CLUB for Upper Elementary and Juni
 or High Students</strong></p><p>Disc Golf is a relaxing sport that is easy
  to learn and helps develop both athleticism and critical thinking skills.
 &nbsp\; And TMA is lucky to have a 9 hole course just across the street!&n
 bsp\; Your student will learn all they need to know about the rules of the
  game and how to use the different discs. This is a great opportunity to i
 ntroduce students to a more "non-traditional" sport.</p><p><a target="_bla
 nk" rel="noopener noreferrer nofollow" href="https://docs.google.com/forms
 /d/e/1FAIpQLSfu6ukHpSmsVzdGVMe43LL4B3ajo1G9sW0dyp7EGonMj2lr7A/viewform?usp
 =sharing&amp\;ouid=109670138953466722125">Click here</a> for more informat
 ion and to register for TMA's Disc Golf Club!</p>
LOCATION:530 E Day Rd\, Mishawaka\, IN 46545\, USA
SUMMARY:Disc Golf Club
END:VEVENT
BEGIN:VEVENT
DTSTAMP:20260419T125925Z
UID:b0d40c8b-3365-4487-b725-c281dac8423c
DTSTART:20260430T154500
DTEND:20260430T170000
DESCRIPTION:<p>Girls on the Run is an after school program that helps girls
  in grades 3–5 build confidence\, friendships\, and life skills through 
 running and team activities. At TMA\, participants meet twice a week for p
 ractices that combine games\, discussions\, and running to encourage healt
 hy habits\, positive self image\, and teamwork while preparing for a commu
 nity 5K celebration at the end of the season.</p>
LOCATION:5530 Grape Rd\, Mishawaka\, IN 46545\, USA
SUMMARY:Girls on the Run (GOTR) Practice
END:VEVENT
BEGIN:VEVENT
DTSTAMP:20260419T125925Z
UID:bb988782-ed4c-41ea-8b3e-872418c033ca
DTSTART;VALUE=DATE:20260504
DTEND;VALUE=DATE:20260509
DESCRIPTION:<p>Support TMA's fantastic libarary! Buy books at the Book Fair
  this week.</p>
LOCATION:530 E Day Rd\, Mishawaka\, IN 46545\, USA
SUMMARY:Book Fair
END:VEVENT
BEGIN:VEVENT
DTSTAMP:20260419T125925Z
UID:2c30dc8f-279d-4a6d-97bb-07f3352bb1b1
DTSTART:20260504T153000
DTEND:20260504T170000
DESCRIPTION:<p><span>This after-school program hosts the adventures of DM M
 ilo at his table and DM Carl at his table. These groups encourage each par
 ticipant adding their voice to the sagas created.&nbsp\; Any student inter
 ested in running a campaign is welcome to start another world! Participant
 s new to RPGs can learn at DM Carl’s table. Rulebooks\, dice\, miniature
 s and other supplies are provided\, nothing is needed. Prior participants 
 will have the first access to available seats. Come with your imagination\
 , join your friends\, and save the Realms!</span></p><p><br></p><p><span>$
 100 per student</span></p><p><span>Mondays 1/12/26 -&nbsp\; 5/18/26 \, fro
 m 3:30 - 5 p.m. (excluding holidays)</span></p><p><span>For TMA students i
 n Upper Elementary and Junior High</span></p><p><span>Facilitator: Mr. Car
 l Lozar (TMAEL Teacher and current parent)</span></p><p><span>Register her
 e: </span><a href="https://forms.gle/Mn8j1YmrANsrMD188" target="_blank" re
 l="noopener noreferrer nofollow" path-prefix=""><span>https://forms.gle/Mn
 8j1YmrANsrMD188</span></a></p>
LOCATION:530 E Day Rd\, Mishawaka\, IN 46545\, USA
SUMMARY:UE/JH Role Players Enrichment
END:VEVENT
BEGIN:VEVENT
DTSTAMP:20260419T125925Z
UID:0de85643-a4fa-4620-b731-c2378d635e97
DTSTART:20260505T154500
DTEND:20260505T170000
DESCRIPTION:<p>Girls on the Run is an after school program that helps girls
  in grades 3–5 build confidence\, friendships\, and life skills through 
 running and team activities. At TMA\, participants meet twice a week for p
 ractices that combine games\, discussions\, and running to encourage healt
 hy habits\, positive self image\, and teamwork while preparing for a commu
 nity 5K celebration at the end of the season.</p>
LOCATION:530 E Day Rd\, Mishawaka\, IN 46545\, USA
SUMMARY:Girls on the Run (GOTR) Practice
END:VEVENT
BEGIN:VEVENT
DTSTAMP:20260419T125925Z
UID:cc9de6d3-fa04-45b2-b588-0177590fd1dd
DTSTART:20260506T153000
DTEND:20260506T170000
DESCRIPTION:<p><strong>ALL NEW DISC GOLF CLUB for Upper Elementary and Juni
 or High Students</strong></p><p>Disc Golf is a relaxing sport that is easy
  to learn and helps develop both athleticism and critical thinking skills.
 &nbsp\; And TMA is lucky to have a 9 hole course just across the street!&n
 bsp\; Your student will learn all they need to know about the rules of the
  game and how to use the different discs. This is a great opportunity to i
 ntroduce students to a more "non-traditional" sport.</p><p><a target="_bla
 nk" rel="noopener noreferrer nofollow" href="https://docs.google.com/forms
 /d/e/1FAIpQLSfu6ukHpSmsVzdGVMe43LL4B3ajo1G9sW0dyp7EGonMj2lr7A/viewform?usp
 =sharing&amp\;ouid=109670138953466722125">Click here</a> for more informat
 ion and to register for TMA's Disc Golf Club!</p>
LOCATION:530 E Day Rd\, Mishawaka\, IN 46545\, USA
SUMMARY:Disc Golf Club
END:VEVENT
BEGIN:VEVENT
DTSTAMP:20260419T125925Z
UID:d0c31e09-21d9-474b-8426-762fb414570f
DTSTART:20260507T154500
DTEND:20260507T170000
DESCRIPTION:<p>Girls on the Run is an after school program that helps girls
  in grades 3–5 build confidence\, friendships\, and life skills through 
 running and team activities. At TMA\, participants meet twice a week for p
 ractices that combine games\, discussions\, and running to encourage healt
 hy habits\, positive self image\, and teamwork while preparing for a commu
 nity 5K celebration at the end of the season.</p>
LOCATION:5530 Grape Rd\, Mishawaka\, IN 46545\, USA
SUMMARY:Girls on the Run (GOTR) Practice
END:VEVENT
BEGIN:VEVENT
DTSTAMP:20260419T125925Z
UID:1b85c511-116d-459a-afef-a52f04a50dee
DTSTART:20260507T180000
DTEND:20260507T193000
DESCRIPTION:<p>The Board of Trustees will be meeting to support the ongoing
  mission and strategic direction of TMA. These meetings focus on governanc
 e\, long term planning\, and ensuring the strength and sustainability of o
 ur school. We are grateful for the thoughtful leadership and service of ou
 r Board members as they steward TMA’s future.</p>
LOCATION:530 E Day Rd\, Mishawaka\, IN 46545\, USA
SUMMARY:Board of Trustees Meeting
END:VEVENT
BEGIN:VEVENT
DTSTAMP:20260419T125925Z
UID:9c1f9203-5424-40bf-9369-ad2c6df3904a
DTSTART:20260508T103000
DTEND:20260508T113000
DESCRIPTION:<p>Join your child in their EC room and enjoy a special gift ma
 de by them just for you as well as some sweet treats. Afterwards\, browse 
 the Book Fair!</p>
LOCATION:530 E Day Rd\, Mishawaka\, IN 46545\, USA
SUMMARY:EC Mother's Day Tea
END:VEVENT
BEGIN:VEVENT
DTSTAMP:20260419T125925Z
UID:63e7788b-365b-4bc9-af5d-01da3d360cbb
DTSTART:20260509T093000
DTEND:20260509T110000
DESCRIPTION:<p>Elkhart 5K Celebration</p>
LOCATION:2715 E Jackson Blvd\, Elkhart\, IN 46516\, USA
SUMMARY:Girls on the Run (GOTR) 5K Elkhart
END:VEVENT
BEGIN:VEVENT
DTSTAMP:20260419T125925Z
UID:dbe3dbd2-2073-4722-b634-cb5f74813684
DTSTART:20260511T153000
DTEND:20260511T170000
DESCRIPTION:<p><span>This after-school program hosts the adventures of DM M
 ilo at his table and DM Carl at his table. These groups encourage each par
 ticipant adding their voice to the sagas created.&nbsp\; Any student inter
 ested in running a campaign is welcome to start another world! Participant
 s new to RPGs can learn at DM Carl’s table. Rulebooks\, dice\, miniature
 s and other supplies are provided\, nothing is needed. Prior participants 
 will have the first access to available seats. Come with your imagination\
 , join your friends\, and save the Realms!</span></p><p><br></p><p><span>$
 100 per student</span></p><p><span>Mondays 1/12/26 -&nbsp\; 5/18/26 \, fro
 m 3:30 - 5 p.m. (excluding holidays)</span></p><p><span>For TMA students i
 n Upper Elementary and Junior High</span></p><p><span>Facilitator: Mr. Car
 l Lozar (TMAEL Teacher and current parent)</span></p><p><span>Register her
 e: </span><a href="https://forms.gle/Mn8j1YmrANsrMD188" target="_blank" re
 l="noopener noreferrer nofollow" path-prefix=""><span>https://forms.gle/Mn
 8j1YmrANsrMD188</span></a></p>
LOCATION:530 E Day Rd\, Mishawaka\, IN 46545\, USA
SUMMARY:UE/JH Role Players Enrichment
END:VEVENT
BEGIN:VEVENT
DTSTAMP:20260419T125925Z
UID:34ede6dc-de3a-4181-a429-af55f9954790
DTSTART:20260513T153000
DTEND:20260513T170000
DESCRIPTION:<p><strong>ALL NEW DISC GOLF CLUB for Upper Elementary and Juni
 or High Students</strong></p><p>Disc Golf is a relaxing sport that is easy
  to learn and helps develop both athleticism and critical thinking skills.
 &nbsp\; And TMA is lucky to have a 9 hole course just across the street!&n
 bsp\; Your student will learn all they need to know about the rules of the
  game and how to use the different discs. This is a great opportunity to i
 ntroduce students to a more "non-traditional" sport.</p><p><a target="_bla
 nk" rel="noopener noreferrer nofollow" href="https://docs.google.com/forms
 /d/e/1FAIpQLSfu6ukHpSmsVzdGVMe43LL4B3ajo1G9sW0dyp7EGonMj2lr7A/viewform?usp
 =sharing&amp\;ouid=109670138953466722125">Click here</a> for more informat
 ion and to register for TMA's Disc Golf Club!</p>
LOCATION:530 E Day Rd\, Mishawaka\, IN 46545\, USA
SUMMARY:Disc Golf Club
END:VEVENT
BEGIN:VEVENT
DTSTAMP:20260419T125925Z
UID:827f1208-6d82-47af-8926-23833fe6e3d8
DTSTART:20260515T090000
DTEND:20260515T103000
DESCRIPTION:<p>Join us for Cultural Presentations as our Lower Elementary s
 tudents share their continent research with confidence and pride. After we
 eks of reading\, writing\, and exploring\, students present their chosen c
 ountry\, city\, or animal to classmates and families. It is a beautiful gl
 impse into Montessori learning in action and a wonderful opportunity to ce
 lebrate curiosity\, public speaking\, and global understanding.</p>
LOCATION:530 E Day Rd\, Mishawaka\, IN 46545\, USA
SUMMARY:LE Cultural Presentations
END:VEVENT
BEGIN:VEVENT
DTSTAMP:20260419T125925Z
UID:0a5bf32b-a199-432a-bcca-5d1a12bbc14f
DTSTART:20260516T083000
DTEND:20260516T110000
DESCRIPTION:<p>South Bend 5K Celebration</p>
LOCATION:2105 E Mishawaka Ave\, South Bend\, IN 46615\, USA
SUMMARY:Girls on the Run (GOTR) 5K South Bend
END:VEVENT
BEGIN:VEVENT
DTSTAMP:20260419T125925Z
UID:01e62220-924b-4fee-9a9a-b08ae22dca1c
DTSTART:20260518T153000
DTEND:20260518T170000
DESCRIPTION:<p><span>This after-school program hosts the adventures of DM M
 ilo at his table and DM Carl at his table. These groups encourage each par
 ticipant adding their voice to the sagas created.&nbsp\; Any student inter
 ested in running a campaign is welcome to start another world! Participant
 s new to RPGs can learn at DM Carl’s table. Rulebooks\, dice\, miniature
 s and other supplies are provided\, nothing is needed. Prior participants 
 will have the first access to available seats. Come with your imagination\
 , join your friends\, and save the Realms!</span></p><p><br></p><p><span>$
 100 per student</span></p><p><span>Mondays 1/12/26 -&nbsp\; 5/18/26 \, fro
 m 3:30 - 5 p.m. (excluding holidays)</span></p><p><span>For TMA students i
 n Upper Elementary and Junior High</span></p><p><span>Facilitator: Mr. Car
 l Lozar (TMAEL Teacher and current parent)</span></p><p><span>Register her
 e: </span><a href="https://forms.gle/Mn8j1YmrANsrMD188" target="_blank" re
 l="noopener noreferrer nofollow" path-prefix=""><span>https://forms.gle/Mn
 8j1YmrANsrMD188</span></a></p>
LOCATION:530 E Day Rd\, Mishawaka\, IN 46545\, USA
SUMMARY:UE/JH Role Players Enrichment
END:VEVENT
BEGIN:VEVENT
DTSTAMP:20260419T125925Z
UID:ebaf2373-8017-4f0f-aea9-88bfa718ade6
DTSTART:20260520T153000
DTEND:20260520T170000
DESCRIPTION:<p><strong>ALL NEW DISC GOLF CLUB for Upper Elementary and Juni
 or High Students</strong></p><p>Disc Golf is a relaxing sport that is easy
  to learn and helps develop both athleticism and critical thinking skills.
 &nbsp\; And TMA is lucky to have a 9 hole course just across the street!&n
 bsp\; Your student will learn all they need to know about the rules of the
  game and how to use the different discs. This is a great opportunity to i
 ntroduce students to a more "non-traditional" sport.</p><p><a target="_bla
 nk" rel="noopener noreferrer nofollow" href="https://docs.google.com/forms
 /d/e/1FAIpQLSfu6ukHpSmsVzdGVMe43LL4B3ajo1G9sW0dyp7EGonMj2lr7A/viewform?usp
 =sharing&amp\;ouid=109670138953466722125">Click here</a> for more informat
 ion and to register for TMA's Disc Golf Club!</p>
LOCATION:530 E Day Rd\, Mishawaka\, IN 46545\, USA
SUMMARY:Disc Golf Club
END:VEVENT
BEGIN:VEVENT
DTSTAMP:20260419T125925Z
UID:2e5c7f61-c4f5-4ca5-91e0-65ca90c29845
DTSTART:20260520T180000
DTEND:20260520T190000
DESCRIPTION:
LOCATION:530 E Day Rd\, Mishawaka\, IN 46545\, USA
SUMMARY:Spring Concert
END:VEVENT
BEGIN:VEVENT
DTSTAMP:20260419T125925Z
UID:d426eb71-1b11-4ee9-986f-afabd3037be2
DTSTART:20260522T093000
DTEND:20260522T103000
DESCRIPTION:<p>Join us for the 5th Year History Presentations as our Upper 
 Elementary students share the stories and research they have been diving i
 nto this year. Through thoughtful study\, writing\, and discussion\, stude
 nts bring history to life and present their learning with confidence and d
 epth. It is a wonderful opportunity to see their growth as researchers\, c
 ritical thinkers\, and communicators.</p>
LOCATION:530 E Day Rd\, Mishawaka\, IN 46545\, USA
SUMMARY:%th Year Hostory Presentation
END:VEVENT
BEGIN:VEVENT
DTSTAMP:20260419T125925Z
UID:421833ed-3733-4e7b-97ee-2111b1ac8e0a
DTSTART:20260527T153000
DTEND:20260527T170000
DESCRIPTION:<p><strong>ALL NEW DISC GOLF CLUB for Upper Elementary and Juni
 or High Students</strong></p><p>Disc Golf is a relaxing sport that is easy
  to learn and helps develop both athleticism and critical thinking skills.
 &nbsp\; And TMA is lucky to have a 9 hole course just across the street!&n
 bsp\; Your student will learn all they need to know about the rules of the
  game and how to use the different discs. This is a great opportunity to i
 ntroduce students to a more "non-traditional" sport.</p><p><a target="_bla
 nk" rel="noopener noreferrer nofollow" href="https://docs.google.com/forms
 /d/e/1FAIpQLSfu6ukHpSmsVzdGVMe43LL4B3ajo1G9sW0dyp7EGonMj2lr7A/viewform?usp
 =sharing&amp\;ouid=109670138953466722125">Click here</a> for more informat
 ion and to register for TMA's Disc Golf Club!</p>
LOCATION:530 E Day Rd\, Mishawaka\, IN 46545\, USA
SUMMARY:Disc Golf Club
END:VEVENT
BEGIN:VEVENT
DTSTAMP:20260419T125925Z
UID:cafdb64c-7fbc-4732-8982-ba9cce6079d2
DTSTART:20260528T180000
DTEND:20260528T190000
DESCRIPTION:<p>Join us for the TMA Sports Banquet as we celebrate a season 
 of teamwork\, growth\, and Mustang pride. Together we will honor our stude
 nt athletes\, recognize their dedication and sportsmanship\, and thank our
  coaches for their leadership. It is a special evening to reflect on a gre
 at year of athletics and cheer on all that our Mustangs have accomplished.
 </p>
LOCATION:530 E Day Rd\, Mishawaka\, IN 46545\, USA
SUMMARY:Sports Banquet
END:VEVENT
BEGIN:VEVENT
DTSTAMP:20260419T125925Z
UID:ed560c0e-4dfb-4908-b2d2-6ccfb45b9d35
DTSTART:20260529T130000
DTEND:20260529T151500
DESCRIPTION:<p>Get ready for Field Day\, one of our favorite end of year tr
 aditions. Students will spend the day outside enjoying games\, teamwork ch
 allenges\, and plenty of Mustang spirit. It is a joyful celebration of com
 munity\, movement\, and all the hard work that has filled the school year.
 </p>
LOCATION:530 E Day Rd\, Mishawaka\, IN 46545\, USA
SUMMARY:Elementary/JH Fireld Day
END:VEVENT
BEGIN:VEVENT
DTSTAMP:20260419T125925Z
UID:af12353f-16eb-43df-8d36-00f704b69915
DTSTART:20260531T150000
DTEND:20260531T170000
DESCRIPTION:<p>Join us for our Prospective Family Open House and experience
  TMA in action. Tour our classrooms\, meet our teachers\, and learn more a
 bout the Montessori journey from Toddler through Junior High. It is a wond
 erful opportunity to ask questions\, explore our community\, and see how w
 e nurture confident\, capable\, and curious learners.</p>
LOCATION:530 E Day Rd\, Mishawaka\, IN 46545\, USA
SUMMARY:Prospective Family Open House
END:VEVENT
BEGIN:VEVENT
DTSTAMP:20260419T125925Z
UID:f7a81c1b-d485-47b1-999d-186ee4a11cac
DTSTART:20260603T103000
DTEND:20260603T113000
DESCRIPTION:<p>Join us for Kindergarten Recognition as we celebrate our you
 ngest graduates and the beautiful growth they have shown this year. Togeth
 er we will honor their hard work\, independence\, and joyful learning as t
 hey take their next big step in the Montessori journey. It is a sweet and 
 meaningful milestone for our Kindergarten Mustangs and their families.</p>
LOCATION:530 E Day Rd\, Mishawaka\, IN 46545\, USA
SUMMARY:Kindergarten Recognition
END:VEVENT
BEGIN:VEVENT
DTSTAMP:20260419T125925Z
UID:71c19dfc-40c5-459f-9767-4c827933cc10
DTSTART:20260603T153000
DTEND:20260603T170000
DESCRIPTION:<p><strong>ALL NEW DISC GOLF CLUB for Upper Elementary and Juni
 or High Students</strong></p><p>Disc Golf is a relaxing sport that is easy
  to learn and helps develop both athleticism and critical thinking skills.
 &nbsp\; And TMA is lucky to have a 9 hole course just across the street!&n
 bsp\; Your student will learn all they need to know about the rules of the
  game and how to use the different discs. This is a great opportunity to i
 ntroduce students to a more "non-traditional" sport.</p><p><a target="_bla
 nk" rel="noopener noreferrer nofollow" href="https://docs.google.com/forms
 /d/e/1FAIpQLSfu6ukHpSmsVzdGVMe43LL4B3ajo1G9sW0dyp7EGonMj2lr7A/viewform?usp
 =sharing&amp\;ouid=109670138953466722125">Click here</a> for more informat
 ion and to register for TMA's Disc Golf Club!</p>
LOCATION:530 E Day Rd\, Mishawaka\, IN 46545\, USA
SUMMARY:Disc Golf Club
END:VEVENT
BEGIN:VEVENT
DTSTAMP:20260419T125925Z
UID:fb2581ac-f7c9-4a7d-a4a8-4058b18e0d92
DTSTART:20260603T180000
DTEND:20260603T190000
DESCRIPTION:<p>Join us for 8th Year Graduation as we celebrate our Junior H
 igh students and the incredible journey that has brought them to this mile
 stone. Together we will honor their leadership\, perseverance\, and growth
  as they prepare to take their next step beyond TMA. It is a proud and mea
 ningful moment for our graduates\, their families\, and our entire Mustang
  community.</p>
LOCATION:530 E Day Rd\, Mishawaka\, IN 46545\, USA
SUMMARY:8th Year Graduation
END:VEVENT
BEGIN:VEVENT
DTSTAMP:20260419T125925Z
UID:ecaba091-f046-413d-9d39-2549658ef0e3
DTSTART:20260604T083000
DTEND:20260604T113000
DESCRIPTION:<p>Enjoy the last day of the school year! May summer break begi
 n!</p>
LOCATION:530 E Day Rd\, Mishawaka\, IN 46545\, USA
SUMMARY:Half-day All School Dismissal
END:VEVENT
END:VCALENDAR
