BEGIN:VCALENDAR
VERSION:2.0
PRODID:icalendar-ruby
CALSCALE:GREGORIAN
BEGIN:VTIMEZONE
TZID:America/Chicago
BEGIN:DAYLIGHT
DTSTART:20260308T030000
TZOFFSETFROM:-0600
TZOFFSETTO:-0500
RRULE:FREQ=YEARLY;BYDAY=2SU;BYMONTH=3
TZNAME:CDT
END:DAYLIGHT
BEGIN:STANDARD
DTSTART:20261101T010000
TZOFFSETFROM:-0500
TZOFFSETTO:-0600
RRULE:FREQ=YEARLY;BYDAY=1SU;BYMONTH=11
TZNAME:CST
END:STANDARD
END:VTIMEZONE
BEGIN:VEVENT
DTSTAMP:20260425T042616Z
UID:afb7aab8-a2af-4935-bfa2-ea74592096aa
DTSTART;VALUE=DATE:20260420
DTEND;VALUE=DATE:20260426
DESCRIPTION:
LOCATION:
SUMMARY:District Music Contest   
END:VEVENT
BEGIN:VEVENT
DTSTAMP:20260425T042616Z
UID:9e2943ed-0878-484a-8c20-a7c9ffa64742
DTSTART:20260425T083000
DTEND:20260425T083000
DESCRIPTION:Type: nonconference Opponent: Tri County 
LOCATION:Tri County High School
SUMMARY:Track:  Var MUDECAS vs Tri County (Away)  
END:VEVENT
BEGIN:VEVENT
DTSTAMP:20260425T042616Z
UID:0734d8a6-fca9-42e2-997d-150acded0605
DTSTART;VALUE=DATE:20260427
DTEND;VALUE=DATE:20260428
DESCRIPTION:
LOCATION:
SUMMARY:NO KINDERGARTEN CLASSES   
END:VEVENT
BEGIN:VEVENT
DTSTAMP:20260425T042616Z
UID:69c0a8f7-a457-45ba-a5aa-50ccbec42f67
DTSTART;VALUE=DATE:20260427
DTEND;VALUE=DATE:20260428
DESCRIPTION:
LOCATION:
SUMMARY:Preschool Step Up Day   
END:VEVENT
BEGIN:VEVENT
DTSTAMP:20260425T042616Z
UID:7b28ea9a-f44c-4eff-9ffd-16d07e18e103
DTSTART:20260427T143000
DTEND:20260427T143000
DESCRIPTION:Type: nonconference Opponent: Falls City\, Auburn Senior\, John
 son County Central\, Nebraska City\, Southern\, Weeping Water vs. Falls Ci
 ty 
LOCATION:Falls City High School
SUMMARY:Track:  Var Invitational vs Falls City\, Auburn Senior\, Johnson Co
 unty Central\, Nebraska City\, Southern\, Weeping Water vs. Falls City (Aw
 ay)  
END:VEVENT
BEGIN:VEVENT
DTSTAMP:20260425T042616Z
UID:ec4b3936-733d-4e01-bbed-2cc8219c0a5d
DTSTART:20260427T160000
DTEND:20260427T160000
DESCRIPTION:Type: nonconference Opponent: Exeter-Milligan-Friend 
LOCATION:Friend Country Club
SUMMARY:Golf:  Boys Var Dual vs Exeter-Milligan-Friend (Away)  
END:VEVENT
BEGIN:VEVENT
DTSTAMP:20260425T042616Z
UID:22982005-2f69-4b21-ba7d-815253cad3aa
DTSTART:20260429T083000
DTEND:20260429T083000
DESCRIPTION:Type: nonconference Opponent: Palmyra\, Auburn Senior\, David C
 ity\, Elmwood-Murdock\, Falls City\, Exeter-Milligan-Friend\, HTRS\, Johns
 on County Central\, Lewiston\, Lincoln Christian\, Lincoln Lutheran\, Loui
 sville\, Milford\, Pawnee City High School\, Southern\, Syracuse\, Yutan v
 s. Palmyra 
LOCATION:Woodland Hills Golf Course
SUMMARY:Golf:  Boys Var Invitational vs Palmyra\, Auburn Senior\, David Cit
 y\, Elmwood-Murdock\, Falls City\, Exeter-Milligan-Friend\, HTRS\, Johnson
  County Central\, Lewiston\, Lincoln Christian\, Lincoln Lutheran\, Louisv
 ille\, Milford\, Pawnee City High School\, Southern\, Syracuse\, Yutan vs.
  Palmyra (Away)  
END:VEVENT
BEGIN:VEVENT
DTSTAMP:20260425T042616Z
UID:7de60945-f9ec-4fac-9e46-5bebc50a5d69
DTSTART:20260430T100000
DTEND:20260430T100000
DESCRIPTION:Type: nonconference Opponent: Johnson County Central\, Auburn S
 enior\, Conestoga Cougars\, Elmwood-Murdock\, Falls City\, Lincoln Luthera
 n\, Mead Jr./Sr.\, Palmyra\, Southern\, Syracuse\, Tri County vs. Johnson 
 County Central 
LOCATION:Johnson County Central
SUMMARY:Track:  JH Invitational vs Johnson County Central\, Auburn Senior\,
  Conestoga Cougars\, Elmwood-Murdock\, Falls City\, Lincoln Lutheran\, Mea
 d Jr./Sr.\, Palmyra\, Southern\, Syracuse\, Tri County vs. Johnson County 
 Central (Away)  
END:VEVENT
BEGIN:VEVENT
DTSTAMP:20260425T042616Z
UID:ea0a00b3-7120-42f2-a62f-8ea8aac5e895
DTSTART:20260430T190000
DTEND:20260430T190000
DESCRIPTION:Type: school only Opponent:  
LOCATION:HS Auditorium
SUMMARY:Last Hoorah Choir Concert & Award Ceremony   
END:VEVENT
BEGIN:VEVENT
DTSTAMP:20260425T042616Z
UID:3c0e9406-89dc-4d89-918e-1be8377b84b0
DTSTART:20260502T080000
DTEND:20260502T080000
DESCRIPTION:Type: nonconference Opponent: Lewiston\, Diller-Odell\, Exeter-
 Milligan-Friend\, Falls City Sacred Heart\, HTRS\, Johnson-Brock\, Lourdes
  Central Catholic\, Pawnee City High School\, Southern\, Sterling vs. Lewi
 ston 
LOCATION:Lewiston High School
SUMMARY:Track:  Var Meet vs Lewiston\, Diller-Odell\, Exeter-Milligan-Frien
 d\, Falls City Sacred Heart\, HTRS\, Johnson-Brock\, Lourdes Central Catho
 lic\, Pawnee City High School\, Southern\, Sterling vs. Lewiston (Away)  
END:VEVENT
BEGIN:VEVENT
DTSTAMP:20260425T042616Z
UID:d9dd1325-6069-45a4-80fa-688c0db5d67d
DTSTART:20260503T170000
DTEND:20260503T170000
DESCRIPTION:Type: school only Opponent:  
LOCATION:
SUMMARY:FFA Banquet   
END:VEVENT
BEGIN:VEVENT
DTSTAMP:20260425T042616Z
UID:2a7b7ee3-0b29-4db7-83c4-7ff22b0875db
DTSTART:20260504T100000
DTEND:20260504T100000
DESCRIPTION:Type: nonconference Opponent: Tri County\, Johnson County Centr
 al\, Malcolm\, Parkview Christian\, Southern\, Syracuse\, Thayer Central\,
  Wilber-Clatonia vs. Tri County 
LOCATION:Tri County High School
SUMMARY:Track:  JH Invitational vs Tri County\, Johnson County Central\, Ma
 lcolm\, Parkview Christian\, Southern\, Syracuse\, Thayer Central\, Wilber
 -Clatonia vs. Tri County (Away)  
END:VEVENT
BEGIN:VEVENT
DTSTAMP:20260425T042616Z
UID:e70b3a15-0dd6-4222-a7f5-730a65a093a3
DTSTART:20260505T183000
DTEND:20260505T183000
DESCRIPTION:Type: school only Opponent:  
LOCATION:HS Auditorium
SUMMARY:FBLA Awards/Ceremony   
END:VEVENT
BEGIN:VEVENT
DTSTAMP:20260425T042616Z
UID:39ccd4a7-9f3e-4f94-8329-8d880637a55b
DTSTART:20260505T190000
DTEND:20260505T190000
DESCRIPTION:Type: school only Opponent:  
LOCATION:HS Auditorium
SUMMARY:Scholastic/Honors Program   
END:VEVENT
BEGIN:VEVENT
DTSTAMP:20260425T042616Z
UID:3ec7a8d0-4dfa-4f2b-9ef1-fca339e86804
DTSTART:20260507T090000
DTEND:20260507T090000
DESCRIPTION:Type: nonconference Opponent: Johnson County Central\, Auburn S
 enior\, Falls City\, HTRS\, Johnson-Brock\, Lewiston\, Nebraska City\, Pal
 myra\, Pawnee City High School\, Southern vs. Johnson County Central 
LOCATION:Tecumseh Country Club
SUMMARY:Golf:  Boys Var Invitational vs Johnson County Central\, Auburn Sen
 ior\, Falls City\, HTRS\, Johnson-Brock\, Lewiston\, Nebraska City\, Palmy
 ra\, Pawnee City High School\, Southern vs. Johnson County Central (Away) 
  
END:VEVENT
BEGIN:VEVENT
DTSTAMP:20260425T042616Z
UID:6c99c17a-ce7f-447e-adf4-3184718b32c4
DTSTART:20260507T190000
DTEND:20260507T190000
DESCRIPTION:Type: school only Opponent:  
LOCATION:HS Auditorium
SUMMARY:5th-12th Grade Instrumental Concert   
END:VEVENT
BEGIN:VEVENT
DTSTAMP:20260425T042616Z
UID:bc10b663-1c8f-4eb1-ae95-481b79ad9465
DTSTART;VALUE=DATE:20260508
DTEND;VALUE=DATE:20260509
DESCRIPTION:
LOCATION:
SUMMARY:Elementary Fun & Field Day   
END:VEVENT
BEGIN:VEVENT
DTSTAMP:20260425T042616Z
UID:1a7d770b-e605-4734-b6e1-764cb67be2b0
DTSTART;VALUE=DATE:20260508
DTEND;VALUE=DATE:20260509
DESCRIPTION:
LOCATION:
SUMMARY:Seniors Last Day   
END:VEVENT
BEGIN:VEVENT
DTSTAMP:20260425T042616Z
UID:b5a5fd89-30a0-4f17-b41b-fa274462efba
DTSTART;VALUE=DATE:20260508
DTEND;VALUE=DATE:20260509
DESCRIPTION:
LOCATION:
SUMMARY:State Fire Day   
END:VEVENT
BEGIN:VEVENT
DTSTAMP:20260425T042616Z
UID:f5b4a4ac-8c26-4536-b90d-4a9688ea2706
DTSTART:20260508T100000
DTEND:20260508T100000
DESCRIPTION:Type: nonconference Opponent: Johnson County Central\, Elmwood-
 Murdock\, Falls City Sacred Heart\, Lincoln Southwest\, Louisville\, Nebra
 ska City\, Palmyra\, Southern\, Syracuse\, Weeping Water\, Wilber-Clatonia
  vs. Johnson County Central 
LOCATION:Johnson County Central High School
SUMMARY:Track:  Var Invitational vs Johnson County Central\, Elmwood-Murdoc
 k\, Falls City Sacred Heart\, Lincoln Southwest\, Louisville\, Nebraska Ci
 ty\, Palmyra\, Southern\, Syracuse\, Weeping Water\, Wilber-Clatonia vs. J
 ohnson County Central (Away)  
END:VEVENT
BEGIN:VEVENT
DTSTAMP:20260425T042616Z
UID:ce76dd2c-2967-4485-b50b-446634a607b5
DTSTART:20260509T090000
DTEND:20260509T090000
DESCRIPTION:Type: nonconference Opponent: Pawnee City High School 
LOCATION:Pawnee City High School
SUMMARY:Track:  JH Pioneer Conference vs Pawnee City High School (Away)  
END:VEVENT
BEGIN:VEVENT
DTSTAMP:20260425T042616Z
UID:5f4775c8-22cc-4787-955b-e1e6247b3cf1
DTSTART;VALUE=DATE:20260510
DTEND;VALUE=DATE:20260511
DESCRIPTION:
LOCATION:
SUMMARY:Mother's Day   
END:VEVENT
BEGIN:VEVENT
DTSTAMP:20260425T042616Z
UID:6c7c2fc6-5d3b-41d6-8b09-9fd3ea45ac9f
DTSTART:20260511T190000
DTEND:20260511T190000
DESCRIPTION:Type: school only Opponent:  
LOCATION:
SUMMARY:Board Of Education Meeting   
END:VEVENT
BEGIN:VEVENT
DTSTAMP:20260425T042616Z
UID:b9b69cce-2cf4-4f45-95b0-b2d012982775
DTSTART:20260512T183000
DTEND:20260512T183000
DESCRIPTION:Type: school only Opponent:  
LOCATION:HS Gym
SUMMARY:Athletic Banquet   
END:VEVENT
BEGIN:VEVENT
DTSTAMP:20260425T042616Z
UID:0fc4f36c-bfc6-43ae-a8a5-2680c8dd5eb8
DTSTART;VALUE=DATE:20260513
DTEND;VALUE=DATE:20260515
DESCRIPTION:
LOCATION:
SUMMARY:TR Districts   
END:VEVENT
BEGIN:VEVENT
DTSTAMP:20260425T042616Z
UID:124721bf-9a83-442b-afe9-3b81badddeec
DTSTART:20260513T093000
DTEND:20260513T093000
DESCRIPTION:Type: nonconference Opponent: Thayer Central 
LOCATION:Hebron Country Club
SUMMARY:Golf:  Boys Var Invitational vs Thayer Central (Away)  
END:VEVENT
BEGIN:VEVENT
DTSTAMP:20260425T042616Z
UID:c7283dc0-e925-4bb1-a139-b19a88f74e8b
DTSTART:20260514T160000
DTEND:20260514T180000
DESCRIPTION:Type: school only Opponent:  
LOCATION:Elementary
SUMMARY:Elem. Art Show   
END:VEVENT
BEGIN:VEVENT
DTSTAMP:20260425T042616Z
UID:27c34aa5-6074-4544-88a9-7927aaed69e0
DTSTART:20260516T170000
DTEND:20260516T170000
DESCRIPTION:Type: school only Opponent:  
LOCATION:HS Gym
SUMMARY:Graduation   
END:VEVENT
BEGIN:VEVENT
DTSTAMP:20260425T042616Z
UID:c8a146e8-fff8-45aa-9b82-0d973ad04fa7
DTSTART;VALUE=DATE:20260518
DTEND;VALUE=DATE:20260520
DESCRIPTION:
LOCATION:
SUMMARY:Golf Districts   
END:VEVENT
BEGIN:VEVENT
DTSTAMP:20260425T042616Z
UID:af7eaa71-e93a-4d74-b52c-c077e36933c2
DTSTART;VALUE=DATE:20260519
DTEND;VALUE=DATE:20260520
DESCRIPTION:
LOCATION:
SUMMARY:Malcolm X Day   
END:VEVENT
BEGIN:VEVENT
DTSTAMP:20260425T042616Z
UID:5546e249-f1a4-4c4b-9a53-9df676b38141
DTSTART:20260519T141500
DTEND:20260519T141500
DESCRIPTION:Type: school only Opponent:  
LOCATION:HS Auditorium
SUMMARY:Kindergarten Graduation   
END:VEVENT
BEGIN:VEVENT
DTSTAMP:20260425T042616Z
UID:b7f61fe4-7807-411f-8731-2d4a4c4b6390
DTSTART;VALUE=DATE:20260521
DTEND;VALUE=DATE:20260522
DESCRIPTION:
LOCATION:
SUMMARY:Early Dismissal Elementary 1:20 HS 1:30   
END:VEVENT
BEGIN:VEVENT
DTSTAMP:20260425T042616Z
UID:51a20d15-f0df-45d1-94de-7d4fdbf8e321
DTSTART;VALUE=DATE:20260521
DTEND;VALUE=DATE:20260522
DESCRIPTION:
LOCATION:
SUMMARY:End Of 4th Quarter\, Last Day Of School   
END:VEVENT
BEGIN:VEVENT
DTSTAMP:20260425T042616Z
UID:7081795d-2f3f-40e9-aeff-c092741bab50
DTSTART;VALUE=DATE:20260522
DTEND;VALUE=DATE:20260523
DESCRIPTION:
LOCATION:
SUMMARY:Teacher Inservice   
END:VEVENT
BEGIN:VEVENT
DTSTAMP:20260425T042616Z
UID:4928972e-4b6c-4544-9bc9-acec0d45451b
DTSTART;VALUE=DATE:20260522
DTEND;VALUE=DATE:20260524
DESCRIPTION:
LOCATION:Omaha
SUMMARY:TR State Meet   
END:VEVENT
BEGIN:VEVENT
DTSTAMP:20260425T042616Z
UID:1b7bf025-5192-4cb8-bcd2-75dd5e39e6ee
DTSTART;VALUE=DATE:20260525
DTEND;VALUE=DATE:20260526
DESCRIPTION:
LOCATION:
SUMMARY:Memorial Day   
END:VEVENT
BEGIN:VEVENT
DTSTAMP:20260425T042616Z
UID:4898557a-51fc-4925-b8a9-f18b915de435
DTSTART;VALUE=DATE:20260525
DTEND;VALUE=DATE:20260526
DESCRIPTION:
LOCATION:
SUMMARY:Memorial Day Band Performance   
END:VEVENT
BEGIN:VEVENT
DTSTAMP:20260425T042616Z
UID:784a760c-3f15-4516-b3cf-ed4b0ecd5930
DTSTART;VALUE=DATE:20260527
DTEND;VALUE=DATE:20260529
DESCRIPTION:
LOCATION:
SUMMARY:GO State Meet   
END:VEVENT
BEGIN:VEVENT
DTSTAMP:20260425T042616Z
UID:a707f4b3-2a76-4942-8ffc-f2d0d77ecd38
DTSTART:20260608T190000
DTEND:20260608T190000
DESCRIPTION:Type: school only Opponent:  
LOCATION:
SUMMARY:Board Of Education Meeting   
END:VEVENT
BEGIN:VEVENT
DTSTAMP:20260425T042616Z
UID:5a4f820b-f7b5-40d2-be83-49ad1bd36758
DTSTART;VALUE=DATE:20260612
DTEND;VALUE=DATE:20260615
DESCRIPTION:
LOCATION:
SUMMARY:Sam Wymore Days
END:VEVENT
BEGIN:VEVENT
DTSTAMP:20260425T042616Z
UID:93b96f14-96ec-4f53-8cf1-be873dc1421f
DTSTART;VALUE=DATE:20260613
DTEND;VALUE=DATE:20260614
DESCRIPTION:
LOCATION:
SUMMARY:ACT Test Date   
END:VEVENT
BEGIN:VEVENT
DTSTAMP:20260425T042616Z
UID:d4c6f732-1e68-4424-80b6-4e049a962791
DTSTART;VALUE=DATE:20260614
DTEND;VALUE=DATE:20260615
DESCRIPTION:
LOCATION:
SUMMARY:Flag Day   
END:VEVENT
BEGIN:VEVENT
DTSTAMP:20260425T042616Z
UID:827c5d3f-f18d-42e3-bd28-64f2d460929c
DTSTART;VALUE=DATE:20260621
DTEND;VALUE=DATE:20260622
DESCRIPTION:
LOCATION:
SUMMARY:Father's Day   
END:VEVENT
END:VCALENDAR
