BEGIN:VCALENDAR
VERSION:2.0
PRODID:icalendar-ruby
CALSCALE:GREGORIAN
BEGIN:VTIMEZONE
TZID:America/New_York
BEGIN:DAYLIGHT
DTSTART:20260308T030000
TZOFFSETFROM:-0500
TZOFFSETTO:-0400
RRULE:FREQ=YEARLY;BYDAY=2SU;BYMONTH=3
TZNAME:EDT
END:DAYLIGHT
BEGIN:STANDARD
DTSTART:20261101T010000
TZOFFSETFROM:-0400
TZOFFSETTO:-0500
RRULE:FREQ=YEARLY;BYDAY=1SU;BYMONTH=11
TZNAME:EST
END:STANDARD
END:VTIMEZONE
BEGIN:VEVENT
DTSTAMP:20260420T205017Z
UID:3ce51b25-6f38-4a1c-880f-3456d23835f8
DTSTART:20260430T190000
DTEND:20260430T190000
DESCRIPTION:
LOCATION:
SUMMARY:Public Board of Education Meeting (includes annual budget hearing)
END:VEVENT
BEGIN:VEVENT
DTSTAMP:20260420T205017Z
UID:fdc8a734-3505-443a-8d11-28d398cd4cba
DTSTART:20260514T190000
DTEND:20260514T190000
DESCRIPTION:
LOCATION:
SUMMARY:Public Board of Education Meeting
END:VEVENT
BEGIN:VEVENT
DTSTAMP:20260420T205017Z
UID:3a36b252-3c73-44d7-a4af-8e1d77dd5b5b
DTSTART;VALUE=DATE:20260525
DTEND;VALUE=DATE:20260526
DESCRIPTION:
LOCATION:
SUMMARY:DISTRICT CLOSED
END:VEVENT
BEGIN:VEVENT
DTSTAMP:20260420T205017Z
UID:52c2f80a-11c5-4d67-9472-f16f03249d0e
DTSTART:20260611T190000
DTEND:20260611T190000
DESCRIPTION:
LOCATION:
SUMMARY:Public Board of Education Meeting
END:VEVENT
BEGIN:VEVENT
DTSTAMP:20260420T205017Z
UID:df2de10c-3662-4d09-8139-e65a48d2f1fa
DTSTART;VALUE=DATE:20260619
DTEND;VALUE=DATE:20260623
DESCRIPTION:
LOCATION:
SUMMARY:EARLY DISMISSAL:  9-12 STUDENTS ONLY
END:VEVENT
BEGIN:VEVENT
DTSTAMP:20260420T205017Z
UID:1ec42c1c-c1f5-44d9-8274-9e06dafef091
DTSTART;VALUE=DATE:20260623
DTEND;VALUE=DATE:20260626
DESCRIPTION:
LOCATION:
SUMMARY:EARLY DISMISSAL:  PreK-12 STUDENTS
END:VEVENT
BEGIN:VEVENT
DTSTAMP:20260420T205017Z
UID:624b13b4-dfe0-4fba-9922-de419ec24718
DTSTART;VALUE=DATE:20260624
DTEND;VALUE=DATE:20260625
DESCRIPTION:
LOCATION:
SUMMARY:Grades 6-12:  End of Marking Period (Qtr 4)
END:VEVENT
BEGIN:VEVENT
DTSTAMP:20260420T205017Z
UID:c6d253ae-5cf2-4eca-b0f6-2944060a9c1e
DTSTART;VALUE=DATE:20260624
DTEND;VALUE=DATE:20260625
DESCRIPTION:
LOCATION:WRHS Athletic Field or Campbell Auditorium (in the event of inclem
 ent weather)
SUMMARY:MIDDLE SCHOOL CULMINATION (6:30 P.M.)
END:VEVENT
BEGIN:VEVENT
DTSTAMP:20260420T205017Z
UID:c82519a5-9dcf-4215-bc61-744229353c7f
DTSTART;VALUE=DATE:20260625
DTEND;VALUE=DATE:20260626
DESCRIPTION:
LOCATION:
SUMMARY:End of Trimester 3/Report Cards Issued
END:VEVENT
BEGIN:VEVENT
DTSTAMP:20260420T205017Z
UID:370fa09a-534b-461f-81cd-665d774b4abd
DTSTART;VALUE=DATE:20260625
DTEND;VALUE=DATE:20260626
DESCRIPTION:
LOCATION:
SUMMARY:Grades K-5:  End of Marking Period/Report Cards Issued (trimester 3
 )
END:VEVENT
BEGIN:VEVENT
DTSTAMP:20260420T205017Z
UID:ce35b1ed-5778-4e00-8501-8b4ab5be18b5
DTSTART;VALUE=DATE:20260625
DTEND;VALUE=DATE:20260626
DESCRIPTION:
LOCATION:
SUMMARY:LAST DAY for STUDENTS and HS GRADUATION
END:VEVENT
BEGIN:VEVENT
DTSTAMP:20260420T205017Z
UID:64d7483d-381c-42f0-a339-c737e83cd39b
DTSTART;VALUE=DATE:20260626
DTEND;VALUE=DATE:20260627
DESCRIPTION:
LOCATION:
SUMMARY:LAST DAY for STAFF
END:VEVENT
BEGIN:VEVENT
DTSTAMP:20260420T205017Z
UID:289824cf-1d68-4ba7-bc51-daf6904761ad
DTSTART;VALUE=DATE:20260630
DTEND;VALUE=DATE:20260701
DESCRIPTION:
LOCATION:
SUMMARY:Grades 6-12:  Report Cards Issued (Qtr 4)
END:VEVENT
BEGIN:VEVENT
DTSTAMP:20260420T205017Z
UID:c848303f-6d83-4336-8282-a9b8488b6986
DTSTART;VALUE=DATE:20260703
DTEND;VALUE=DATE:20260704
DESCRIPTION:
LOCATION:
SUMMARY:DISTRICT CLOSED
END:VEVENT
BEGIN:VEVENT
DTSTAMP:20260420T205017Z
UID:c988b942-d5bb-4933-baa5-32cd6c85ef4f
DTSTART;VALUE=DATE:20260831
DTEND;VALUE=DATE:20260902
DESCRIPTION:
LOCATION:
SUMMARY:FIRST DAY FOR STAFF (Professional Development Days)
END:VEVENT
BEGIN:VEVENT
DTSTAMP:20260420T205017Z
UID:8eca6615-2d9d-4d6b-9c8e-f3c0821c2891
DTSTART;VALUE=DATE:20260902
DTEND;VALUE=DATE:20260903
DESCRIPTION:
LOCATION:
SUMMARY:FIRST DAY FOR STUDENTS
END:VEVENT
BEGIN:VEVENT
DTSTAMP:20260420T205017Z
UID:e3fab6be-ddca-432d-b01b-623e68c050d3
DTSTART;VALUE=DATE:20260904
DTEND;VALUE=DATE:20260908
DESCRIPTION:
LOCATION:
SUMMARY:DISTRICT CLOSED
END:VEVENT
BEGIN:VEVENT
DTSTAMP:20260420T205017Z
UID:c57cb118-017d-41a8-ab30-3f562a609400
DTSTART;VALUE=DATE:20260921
DTEND;VALUE=DATE:20260922
DESCRIPTION:
LOCATION:
SUMMARY:DISTRICT CLOSED
END:VEVENT
BEGIN:VEVENT
DTSTAMP:20260420T205017Z
UID:f08cb99d-6859-4820-a3d7-2ffbb0b1776b
DTSTART;VALUE=DATE:20261012
DTEND;VALUE=DATE:20261013
DESCRIPTION:
LOCATION:
SUMMARY:SCHOOLS CLOSED for STUDENTS (Staff Professional Day)
END:VEVENT
BEGIN:VEVENT
DTSTAMP:20260420T205017Z
UID:4424d422-11b9-499f-8a1e-22c31b6af8bc
DTSTART;VALUE=DATE:20261102
DTEND;VALUE=DATE:20261103
DESCRIPTION:
LOCATION:
SUMMARY:EARLY DISMISSAL for PreK-5 STUDENTS (evening parent conferences)
END:VEVENT
BEGIN:VEVENT
DTSTAMP:20260420T205017Z
UID:b5cb8f37-f2c7-41b5-bbb8-222f1d378ccd
DTSTART;VALUE=DATE:20261103
DTEND;VALUE=DATE:20261105
DESCRIPTION:
LOCATION:
SUMMARY:EARLY DISMISSAL for PreK-5 STUDENTS (afternoon parent conferences)
END:VEVENT
BEGIN:VEVENT
DTSTAMP:20260420T205017Z
UID:fb33aa55-03ca-4a6a-8295-e4c4cef47b99
DTSTART;VALUE=DATE:20261105
DTEND;VALUE=DATE:20261107
DESCRIPTION:
LOCATION:
SUMMARY:DISTRICT CLOSED
END:VEVENT
BEGIN:VEVENT
DTSTAMP:20260420T205017Z
UID:ec880016-4bd3-4d01-bc5b-996d5f8aa194
DTSTART;VALUE=DATE:20261125
DTEND;VALUE=DATE:20261126
DESCRIPTION:
LOCATION:
SUMMARY:DISTRICT EARLY DISMISSAL
END:VEVENT
BEGIN:VEVENT
DTSTAMP:20260420T205017Z
UID:ee290143-0b5a-42a9-8baa-2584516fabb1
DTSTART;VALUE=DATE:20261126
DTEND;VALUE=DATE:20261128
DESCRIPTION:
LOCATION:
SUMMARY:DISTRICT CLOSED
END:VEVENT
BEGIN:VEVENT
DTSTAMP:20260420T205017Z
UID:e1f41169-388e-433e-970a-fe7627e0d1bb
DTSTART;VALUE=DATE:20261223
DTEND;VALUE=DATE:20261224
DESCRIPTION:
LOCATION:
SUMMARY:DISTRICT EARLY DISMISSAL
END:VEVENT
BEGIN:VEVENT
DTSTAMP:20260420T205017Z
UID:7a57ba53-9055-4cf2-a281-142808eaacf0
DTSTART;VALUE=DATE:20261224
DTEND;VALUE=DATE:20270102
DESCRIPTION:
LOCATION:
SUMMARY:DISTRICT CLOSED
END:VEVENT
BEGIN:VEVENT
DTSTAMP:20260420T205017Z
UID:518b5341-5399-4534-a4b4-237a9c53faa6
DTSTART;VALUE=DATE:20270118
DTEND;VALUE=DATE:20270119
DESCRIPTION:
LOCATION:
SUMMARY:DISTRICT CLOSED
END:VEVENT
BEGIN:VEVENT
DTSTAMP:20260420T205017Z
UID:85657b55-290b-4fb5-b990-c8fa8a807053
DTSTART;VALUE=DATE:20270212
DTEND;VALUE=DATE:20270213
DESCRIPTION:
LOCATION:
SUMMARY:SCHOOLS CLOSED FOR STUDENTS (Staff Professional Day)
END:VEVENT
BEGIN:VEVENT
DTSTAMP:20260420T205017Z
UID:2ba27a05-3a5b-472e-929e-d0ea88afe790
DTSTART;VALUE=DATE:20270215
DTEND;VALUE=DATE:20270217
DESCRIPTION:
LOCATION:
SUMMARY:DISTRICT CLOSED
END:VEVENT
BEGIN:VEVENT
DTSTAMP:20260420T205017Z
UID:6d57d31d-c5fb-4f80-8e1f-93a0c720b83c
DTSTART;VALUE=DATE:20270326
DTEND;VALUE=DATE:20270327
DESCRIPTION:
LOCATION:
SUMMARY:DISTRICT CLOSED
END:VEVENT
BEGIN:VEVENT
DTSTAMP:20260420T205017Z
UID:ac6d9eb2-4793-40d0-8da1-6ea3bf109926
DTSTART;VALUE=DATE:20270329
DTEND;VALUE=DATE:20270330
DESCRIPTION:
LOCATION:
SUMMARY:DISTRICT CLOSED
END:VEVENT
BEGIN:VEVENT
DTSTAMP:20260420T205017Z
UID:0993ebed-3463-4966-aaed-94ce0cd38bf5
DTSTART;VALUE=DATE:20270412
DTEND;VALUE=DATE:20270417
DESCRIPTION:
LOCATION:
SUMMARY:DISTRICT CLOSED
END:VEVENT
BEGIN:VEVENT
DTSTAMP:20260420T205017Z
UID:3de209b6-2856-4853-81a8-b81ab1f89754
DTSTART;VALUE=DATE:20270531
DTEND;VALUE=DATE:20270601
DESCRIPTION:
LOCATION:
SUMMARY:DISTRICT CLOSED
END:VEVENT
BEGIN:VEVENT
DTSTAMP:20260420T205017Z
UID:2aaf3499-de45-4788-921a-251b57545eef
DTSTART;VALUE=DATE:20270618
DTEND;VALUE=DATE:20270619
DESCRIPTION:
LOCATION:
SUMMARY:EARLY DISMISSAL:  9-12 STUDENTS ONLY
END:VEVENT
BEGIN:VEVENT
DTSTAMP:20260420T205017Z
UID:a9a9c7da-c216-4132-83cd-6c0c9d277efc
DTSTART;VALUE=DATE:20270621
DTEND;VALUE=DATE:20270624
DESCRIPTION:
LOCATION:
SUMMARY:EARLY DISMISSAL:  PreK-12 STUDENTS
END:VEVENT
BEGIN:VEVENT
DTSTAMP:20260420T205017Z
UID:a915bdc6-83b5-4cd3-bfe0-2534e0455c2c
DTSTART;VALUE=DATE:20270623
DTEND;VALUE=DATE:20270624
DESCRIPTION:
LOCATION:
SUMMARY:LAST DAY for STUDENTS and HS GRADUATION
END:VEVENT
BEGIN:VEVENT
DTSTAMP:20260420T205017Z
UID:2d0d427d-21c2-44cb-adc1-15e4c2925d72
DTSTART;VALUE=DATE:20270624
DTEND;VALUE=DATE:20270625
DESCRIPTION:
LOCATION:
SUMMARY:LAST DAY for STAFF
END:VEVENT
END:VCALENDAR
