BEGIN:VCALENDAR
VERSION:2.0
PRODID:icalendar-ruby
CALSCALE:GREGORIAN
BEGIN:VTIMEZONE
TZID:America/Chicago
BEGIN:DAYLIGHT
DTSTART:20260308T030000
TZOFFSETFROM:-0600
TZOFFSETTO:-0500
RRULE:FREQ=YEARLY;BYDAY=2SU;BYMONTH=3
TZNAME:CDT
END:DAYLIGHT
BEGIN:STANDARD
DTSTART:20261101T010000
TZOFFSETFROM:-0500
TZOFFSETTO:-0600
RRULE:FREQ=YEARLY;BYDAY=1SU;BYMONTH=11
TZNAME:CST
END:STANDARD
END:VTIMEZONE
BEGIN:VEVENT
DTSTAMP:20260424T164441Z
UID:d3a48e9f-387a-4dbb-8e3c-d8158b6dd818
DTSTART:20260427T083000
DTEND:20260427T153000
DESCRIPTION:<p><a target="_blank" rel="noopener noreferrer nofollow" href="
 https://www.mylearningplan.com/WebReg/ActivityProfile.asp?I=5347509&amp\;D
 =12439" relative-link="">For more information and to register\, click here
 .</a></p>
LOCATION:450 Mamaroneck Ave\, Harrison\, NY 10528\, USA
SUMMARY:Portrait of a Graduate: From Vision to Practice
END:VEVENT
BEGIN:VEVENT
DTSTAMP:20260424T164441Z
UID:5e83a67a-dbe5-410d-85a7-ec57c2ebc271
DTSTART:20260428T083000
DTEND:20260428T153000
DESCRIPTION:<p><a target="_blank" rel="noopener noreferrer nofollow" href="
 https://www.mylearningplan.com/WebReg/ActivityProfile.asp?I=5338029&amp\;D
 =12439" relative-link="">For more information and to register\, click here
 .</a></p>
LOCATION:450 Mamaroneck Ave\, Harrison\, NY 10528\, USA
SUMMARY:PBL 101: Designing Gold Standard Project-Based Learning
END:VEVENT
BEGIN:VEVENT
DTSTAMP:20260424T164441Z
UID:b673cb2a-2169-4977-85e6-33f7c820697a
DTSTART:20260429T083000
DTEND:20260429T153000
DESCRIPTION:<p><a target="_blank" rel="noopener noreferrer nofollow" href="
 https://www.mylearningplan.com/WebReg/ActivityProfile.asp?I=5338029&amp\;D
 =12439" relative-link="">For more information and to register\, click here
 .</a></p>
LOCATION:450 Mamaroneck Ave\, Harrison\, NY 10528\, USA
SUMMARY:PBL 101: Designing Gold Standard Project-Based Learning
END:VEVENT
BEGIN:VEVENT
DTSTAMP:20260424T164441Z
UID:90b4429b-858c-479a-977d-6ac1f5874dca
DTSTART:20260430T083000
DTEND:20260430T153000
DESCRIPTION:<p><a target="_blank" rel="noopener noreferrer nofollow" href="
 https://www.mylearningplan.com/WebReg/ActivityProfile.asp?I=5338029&amp\;D
 =12439" relative-link="">For more information and to register\, click here
 .</a></p>
LOCATION:450 Mamaroneck Ave\, Harrison\, NY 10528\, USA
SUMMARY:PBL 101: Designing Gold Standard Project-Based Learning
END:VEVENT
BEGIN:VEVENT
DTSTAMP:20260424T164441Z
UID:b14c9944-ab85-4d0c-8f41-38796d5f6e5f
DTSTART:20260501T090000
DTEND:20260501T150000
DESCRIPTION:<p><a target="_blank" rel="noopener noreferrer nofollow" href="
 https://www.mylearningplan.com/WebReg/ActivityProfile.asp?I=5323784&amp\;D
 =12439" relative-link="">For more information and to register\, click here
 .</a></p>
LOCATION:450 Mamaroneck Ave\, Harrison\, NY 10528\, USA
SUMMARY:Lit Up: Igniting Reading Engagement & Comprehension in Middle & Hig
 h School Classrooms (Aligned to Science of Reading/NYS Literacy Briefs)
END:VEVENT
BEGIN:VEVENT
DTSTAMP:20260424T164441Z
UID:b33612e0-67a7-4316-affa-9e352916c336
DTSTART:20260504T083000
DTEND:20260504T150000
DESCRIPTION:<p><a target="_blank" rel="noopener noreferrer nofollow" href="
 https://www.mylearningplan.com/WebReg/ActivityProfile.asp?I=5276254&amp\;D
 =12439" relative-link="">For more information and to register\, click here
 .</a></p>
LOCATION:450 Mamaroneck Ave\, Harrison\, NY 10528\, USA
SUMMARY:PE/HE Consortium: Navigating Health Disparities Through a Cultural 
 Lens in Education 
END:VEVENT
BEGIN:VEVENT
DTSTAMP:20260424T164441Z
UID:9976ad24-0c42-443b-84d4-6cb6aa5f530a
DTSTART:20260504T083000
DTEND:20260504T153000
DESCRIPTION:<p><a target="_blank" rel="noopener noreferrer nofollow" href="
 https://www.mylearningplan.com/WebReg/ActivityProfile.asp?I=5321285&amp\;D
 =12439" relative-link="">For more information and to register\, click here
 .</a></p>
LOCATION:450 Mamaroneck Avenue\, Harrison
SUMMARY:Shifting from APPR to NYS‑STEPS: Lead\, Co-Design\, Transform Edu
 cator Evaluation (1 of 2)
END:VEVENT
BEGIN:VEVENT
DTSTAMP:20260424T164441Z
UID:b81a1da5-377d-4d82-b833-fdd2396c4273
DTSTART:20260505T100000
DTEND:20260505T143000
DESCRIPTION:<p><a target="_blank" rel="noopener noreferrer nofollow" href="
 https://www.mylearningplan.com/WebReg/ActivityProfile.asp?I=5343448&amp\;D
 =12439" relative-link="">For more information and to register\, click here
 .</a></p>
LOCATION:364 Manville Rd\, Pleasantville\, NY 10570\, USA
SUMMARY:SLS-Special Screening: "The Librarians" at the Jacob Burns Film Cen
 ter
END:VEVENT
BEGIN:VEVENT
DTSTAMP:20260424T164441Z
UID:31a31342-5fef-4896-9f5e-20bb30fda5de
DTSTART:20260506T090000
DTEND:20260506T150000
DESCRIPTION:<p><a target="_blank" rel="noopener noreferrer nofollow" href="
 https://www.mylearningplan.com/WebReg/ActivityProfile.asp?I=5154820&amp\;D
 =12439" relative-link="">For more information and to register\, click here
 .</a></p>
LOCATION:450 Mamaroneck Ave\, Harrison\, NY 10528\, USA
SUMMARY:Nonviolent Crisis Intervention® Key Points Refresher Recertificati
 on
END:VEVENT
BEGIN:VEVENT
DTSTAMP:20260424T164441Z
UID:f45b5893-0c14-487e-84f4-292b6397b95e
DTSTART:20260506T090000
DTEND:20260506T150000
DESCRIPTION:<p><a target="_blank" rel="noopener noreferrer nofollow" href="
 https://www.mylearningplan.com/WebReg/ActivityProfile.asp?I=5328775&amp\;D
 =12439" relative-link="">For more information and to register\, click here
 .</a></p>
LOCATION:450 Mamaroneck Ave\, Harrison\, NY 10528\, USA
SUMMARY:Organizing for Impact: The Table
END:VEVENT
BEGIN:VEVENT
DTSTAMP:20260424T164441Z
UID:6b56d77f-3230-4f46-960c-4f6944296912
DTSTART:20260506T120000
DTEND:20260506T150000
DESCRIPTION:<p><a target="_blank" rel="noopener noreferrer nofollow" href="
 https://www.mylearningplan.com/WebReg/ActivityProfile.asp?I=5321309&amp\;D
 =12439" relative-link="">For more information and to register\, click here
 .</a></p>
LOCATION:450 Mamaroneck Ave\, Harrison\, NY 10528\, USA
SUMMARY:Leading Leaders: Foundations in APPR (Fulfills NYSED Lead Evaluator
 \, Initial Certification Requirements)
END:VEVENT
BEGIN:VEVENT
DTSTAMP:20260424T164441Z
UID:403980cc-a3eb-4363-b551-f8f390f79625
DTSTART:20260507T090000
DTEND:20260507T150000
DESCRIPTION:<p><a target="_blank" rel="noopener noreferrer nofollow" href="
 https://www.mylearningplan.com/WebReg/ActivityProfile.asp?I=5165059&amp\;D
 =12439" relative-link="">For more information and to register\, click here
 .</a></p>
LOCATION:450 Mamaroneck Ave\, Harrison\, NY 10528\, USA
SUMMARY:Integrating Social Studies into ELA for Grade Level Teams
END:VEVENT
BEGIN:VEVENT
DTSTAMP:20260424T164441Z
UID:3d66848a-be21-43ff-9cdc-041ed1029bf0
DTSTART:20260507T100000
DTEND:20260507T150000
DESCRIPTION:<p><a target="_blank" rel="noopener noreferrer nofollow" href="
 https://www.mylearningplan.com/WebReg/ActivityProfile.asp?I=5321678&amp\;D
 =12439" relative-link="">For more information and to register\, click here
 .</a></p>
LOCATION:450 Mamaroneck Ave\, Harrison\, NY 10528\, USA
SUMMARY:The Writing Revolution: The Hochman Method K-2 (Session 2 of 2)
END:VEVENT
BEGIN:VEVENT
DTSTAMP:20260424T164441Z
UID:81425264-5e16-46fa-800f-bdb4a84f3a8e
DTSTART:20260507T130000
DTEND:20260507T143000
DESCRIPTION:<p><a target="_blank" rel="noopener noreferrer nofollow" href="
 https://www.mylearningplan.com/WebReg/ActivityProfile.asp?I=5218373&amp\;D
 =12439" relative-link="">For more information and to register\, click here
 .</a></p>
LOCATION:via Zoom
SUMMARY:Northwell Mental Health PD - Overview of Child Mental Health (Virtu
 al)
END:VEVENT
BEGIN:VEVENT
DTSTAMP:20260424T164441Z
UID:79a7d231-64e8-4b6d-ba48-84a6e2effbaf
DTSTART:20260513T083000
DTEND:20260513T094500
DESCRIPTION:<p><a target="_blank" rel="noopener noreferrer nofollow" href="
 https://www.mylearningplan.com/WebReg/ActivityProfile.asp?I=5218394&amp\;D
 =12439" relative-link="">For more information and to register\, click here
 .</a></p>
LOCATION:via Zoom
SUMMARY:Northwell Mental Health PD - Project ECHO - LGBTQ+  (Virtual)
END:VEVENT
BEGIN:VEVENT
DTSTAMP:20260424T164441Z
UID:020dabb1-a456-48d2-bb3a-c12086ef4d87
DTSTART:20260513T083000
DTEND:20260513T153000
DESCRIPTION:<p><a target="_blank" rel="noopener noreferrer nofollow" href="
 https://www.mylearningplan.com/WebReg/ActivityProfile.asp?D=12439&amp\;I=5
 367970" relative-link="">For more information and to register\, click here
 .</a></p>
LOCATION:450 Mamaroneck Ave\, Harrison\, NY 10528\, USA
SUMMARY:NYSSLS Physics Cluster Questions - Practice\, Analyze\, and Write
END:VEVENT
BEGIN:VEVENT
DTSTAMP:20260424T164441Z
UID:50d4db06-2dc2-45ca-a6cf-4aeed385081a
DTSTART:20260514T103000
DTEND:20260514T113000
DESCRIPTION:<p><a target="_blank" rel="noopener noreferrer nofollow" href="
 https://www.mylearningplan.com/WebReg/ActivityProfile.asp?I=5217255&amp\;D
 =12439" relative-link="">For more information and to register\, click here
 .</a></p>
LOCATION:via Zoom
SUMMARY:Northwell Mental Health PD - Advanced Stress First Aid (Virtual)
END:VEVENT
BEGIN:VEVENT
DTSTAMP:20260424T164441Z
UID:b5978b34-fd6d-4456-89fe-d3d36c8db5d2
DTSTART:20260514T130000
DTEND:20260514T143000
DESCRIPTION:<p><a target="_blank" rel="noopener noreferrer nofollow" href="
 https://www.mylearningplan.com/WebReg/ActivityProfile.asp?I=5218424&amp\;D
 =12439" relative-link="">For more information and to register\, click here
 .</a></p>
LOCATION:via Zoom
SUMMARY:Northwell Mental Health PD -Self Harm (Virtual)
END:VEVENT
BEGIN:VEVENT
DTSTAMP:20260424T164441Z
UID:1ae0cf88-bd9c-45a2-a21d-6a17407197d7
DTSTART:20260515T083000
DTEND:20260515T113000
DESCRIPTION:<p><a target="_blank" rel="noopener noreferrer nofollow" href="
 https://www.mylearningplan.com/WebReg/ActivityProfile.asp?I=5134240&amp\;D
 =12439" relative-link="">For more information and to register\, click here
 .</a></p>
LOCATION:450 Mamaroneck Ave\, Harrison\, NY 10528\, USA
SUMMARY:SLS- School Libraries as Partners in Realizing the NYS Portrait of 
 a Graduate
END:VEVENT
BEGIN:VEVENT
DTSTAMP:20260424T164441Z
UID:fb0aec13-92c1-43bc-a7b3-0f464dfd7547
DTSTART:20260518T083000
DTEND:20260518T153000
DESCRIPTION:<p><a target="_blank" rel="noopener noreferrer nofollow" href="
 https://www.mylearningplan.com/WebReg/ActivityProfile.asp?I=5321285&amp\;D
 =12439" relative-link="">For more information and to register\, click here
 .</a></p>
LOCATION:
SUMMARY:Shifting from APPR to NYS‑STEPS: Lead\, Co-Design\, Transform Edu
 cator Evaluation (2 of 2)
END:VEVENT
BEGIN:VEVENT
DTSTAMP:20260424T164441Z
UID:f3dd6628-4ea5-43e3-b3dc-d6ddb3ff12d2
DTSTART:20260520T083000
DTEND:20260520T110000
DESCRIPTION:<p><a target="_blank" rel="noopener noreferrer nofollow" href="
 https://www.mylearningplan.com/WebReg/ActivityProfile.asp?I=5104522&amp\;D
 =12439" relative-link="">For more information and to register\, click here
 .</a></p>
LOCATION:450 Mamaroneck Ave\, Harrison\, NY 10528\, USA
SUMMARY:SLS Council Meeting
END:VEVENT
BEGIN:VEVENT
DTSTAMP:20260424T164441Z
UID:84874d13-9645-4d9f-94c4-e19bc98b5c01
DTSTART:20260520T120000
DTEND:20260520T150000
DESCRIPTION:<p><a target="_blank" rel="noopener noreferrer nofollow" href="
 https://www.mylearningplan.com/WebReg/ActivityProfile.asp?I=5104531&amp\;D
 =12439" relative-link="">For more information and to register\, click here
 .</a></p>
LOCATION:450 Mamaroneck Ave\, Harrison\, NY 10528\, USA
SUMMARY:SLS Communication Coordinators Meeting
END:VEVENT
BEGIN:VEVENT
DTSTAMP:20260424T164441Z
UID:9c2106c4-ea57-4dff-affb-7d7b89a89ce1
DTSTART:20260521T130000
DTEND:20260521T143000
DESCRIPTION:<p><a target="_blank" rel="noopener noreferrer nofollow" href="
 https://www.mylearningplan.com/WebReg/ActivityProfile.asp?I=5218597&amp\;D
 =12439" relative-link="">For more information and to register\, click here
 .</a></p>
LOCATION:via Zoom
SUMMARY:Northwell Mental Health PD - Autism and Executive Functioning (Virt
 ual)
END:VEVENT
BEGIN:VEVENT
DTSTAMP:20260424T164441Z
UID:770e66ea-0205-4c5e-841d-73f027a1fa02
DTSTART:20260527T083000
DTEND:20260527T150000
DESCRIPTION:<p><a target="_blank" rel="noopener noreferrer nofollow" href="
 https://www.mylearningplan.com/WebReg/ActivityProfile.asp?I=5324706&amp\;D
 =12439" relative-link="">For more information and to register\, click here
 .</a></p>
LOCATION:450 Mamaroneck Ave\, Harrison\, NY 10528\, USA
SUMMARY:Restorative Practices Educator Training for RECOVS Mental Health Gr
 ant Consortium 
END:VEVENT
BEGIN:VEVENT
DTSTAMP:20260424T164441Z
UID:8ac0c7d3-6d1f-4091-8cd2-e44a19f9da7e
DTSTART:20260527T090000
DTEND:20260527T150000
DESCRIPTION:<p><a target="_blank" rel="noopener noreferrer nofollow" href="
 https://www.mylearningplan.com/WebReg/ActivityProfile.asp?I=5328542&amp\;D
 =12439" relative-link="">For more information and to register\, click here
 .</a></p>
LOCATION:450 Mamaroneck Ave\, Harrison\, NY 10528\, USA
SUMMARY:MTSS Illuminated: From Theory to Practice
END:VEVENT
BEGIN:VEVENT
DTSTAMP:20260424T164441Z
UID:3e0f45d5-55fb-43f9-b517-2bc9ac8d8e51
DTSTART:20260528T083000
DTEND:20260528T150000
DESCRIPTION:<p><a target="_blank" rel="noopener noreferrer nofollow" href="
 https://www.mylearningplan.com/WebReg/ActivityProfile.asp?I=5324706&amp\;D
 =12439" relative-link="">For more information and to register\, click here
 .</a></p>
LOCATION:450 Mamaroneck Ave\, Harrison\, NY 10528\, USA
SUMMARY:Restorative Practices Educator Training for RECOVS Mental Health Gr
 ant Consortium 
END:VEVENT
BEGIN:VEVENT
DTSTAMP:20260424T164441Z
UID:e72d4326-c4d1-4677-b1e5-0f5934806af0
DTSTART:20260529T083000
DTEND:20260529T150000
DESCRIPTION:<p><a target="_blank" rel="noopener noreferrer nofollow" href="
 https://www.mylearningplan.com/WebReg/ActivityProfile.asp?I=5324706&amp\;D
 =12439" relative-link="">For more information and to register\, click here
 .</a></p>
LOCATION:450 Mamaroneck Ave\, Harrison\, NY 10528\, USA
SUMMARY:Restorative Practices Educator Training for RECOVS Mental Health Gr
 ant Consortium 
END:VEVENT
BEGIN:VEVENT
DTSTAMP:20260424T164441Z
UID:be83b59c-e2bc-494b-8f77-7a43be38c07a
DTSTART:20260603T090000
DTEND:20260603T120000
DESCRIPTION:<p><a target="_blank" rel="noopener noreferrer nofollow" href="
 https://www.mylearningplan.com/WebReg/ActivityProfile.asp?I=5328552&amp\;D
 =12439" relative-link="">For more information and to register\, click here
 .</a></p>
LOCATION:450 Mamaroneck Ave\, Harrison\, NY 10528\, USA
SUMMARY:Data Storytelling: Turning Information into Insight
END:VEVENT
BEGIN:VEVENT
DTSTAMP:20260424T164441Z
UID:525c6d8b-7b20-4930-92a0-33d5c4d7d29d
DTSTART:20260604T130000
DTEND:20260604T143000
DESCRIPTION:<p><a target="_blank" rel="noopener noreferrer nofollow" href="
 https://www.mylearningplan.com/WebReg/ActivityProfile.asp?I=5218603&amp\;D
 =12439" relative-link="">For more information and to register\, click here
 .</a></p>
LOCATION:via Zoom
SUMMARY:Northwell Mental Health PD -Managing Oppositional Behaviors  (Virtu
 al)
END:VEVENT
BEGIN:VEVENT
DTSTAMP:20260424T164441Z
UID:1c035a6f-d4d4-4c83-b3f4-e1d46d44d920
DTSTART:20260608T090000
DTEND:20260608T150000
DESCRIPTION:<p><a target="_blank" rel="noopener noreferrer nofollow" href="
 https://www.mylearningplan.com/WebReg/ActivityProfile.asp?I=5154787&amp\;D
 =12439" relative-link="">For more information and to register\, click here
 .</a></p>
LOCATION:450 Mamaroneck Ave\, Harrison\, NY 10528\, USA
SUMMARY:Nonviolent Crisis Intervention® Key Points Refresher Recertificati
 on
END:VEVENT
BEGIN:VEVENT
DTSTAMP:20260424T164441Z
UID:ca63468e-11b7-403c-9cd5-13501aca260c
DTSTART:20260617T083000
DTEND:20260617T094500
DESCRIPTION:<p><a target="_blank" rel="noopener noreferrer nofollow" href="
 https://www.mylearningplan.com/WebReg/ActivityProfile.asp?I=5218618&amp\;D
 =12439" relative-link="">For more information and to register\, click here
 .</a></p>
LOCATION:via Zoom
SUMMARY:Northwell Mental Health PD -Project ECHO - Substance Use and Vaping
   (Virtual)
END:VEVENT
BEGIN:VEVENT
DTSTAMP:20260424T164441Z
UID:baa1ae86-d5ef-4b7d-89ea-029e142cd123
DTSTART:20260727T083000
DTEND:20260727T150000
DESCRIPTION:<p><a target="_blank" rel="noopener noreferrer nofollow" href="
 https://www.mylearningplan.com/WebReg/ActivityProfile.asp?I=5358208&amp\;D
 =12439" relative-link="">For more information and to register\, click here
 .</a></p>
LOCATION:450 Mamaroneck Ave\, Harrison and other NY regions sites TBD
SUMMARY:The 2026 Institute for Opportunities in Education (in Partnership w
 ith NYSCOSS)
END:VEVENT
BEGIN:VEVENT
DTSTAMP:20260424T164441Z
UID:f9b4d7a6-da98-46d8-8db7-9616c643a3dd
DTSTART:20260728T083000
DTEND:20260728T150000
DESCRIPTION:<p><a target="_blank" rel="noopener noreferrer nofollow" href="
 https://www.mylearningplan.com/WebReg/ActivityProfile.asp?I=5358208&amp\;D
 =12439" relative-link="">For more information and to register\, click here
 .</a></p>
LOCATION:450 Mamaroneck Ave\, Harrison and other NY regions sites TBD
SUMMARY:The 2026 Institute for Opportunities in Education (in Partnership w
 ith NYSCOSS)
END:VEVENT
BEGIN:VEVENT
DTSTAMP:20260424T164441Z
UID:a6cab5d9-ca0c-432a-8c55-086e8e199c71
DTSTART:20260729T083000
DTEND:20260729T150000
DESCRIPTION:<p><a target="_blank" rel="noopener noreferrer nofollow" href="
 https://www.mylearningplan.com/WebReg/ActivityProfile.asp?I=5358208&amp\;D
 =12439" relative-link="">For more information and to register\, click here
 .</a></p>
LOCATION:450 Mamaroneck Ave\, Harrison and other NY regions sites TBD
SUMMARY:The 2026 Institute for Opportunities in Education (in Partnership w
 ith NYSCOSS)
END:VEVENT
END:VCALENDAR
