BEGIN:VCALENDAR
VERSION:2.0
PRODID:icalendar-ruby
CALSCALE:GREGORIAN
BEGIN:VTIMEZONE
TZID:America/New_York
BEGIN:DAYLIGHT
DTSTART:20260308T030000
TZOFFSETFROM:-0500
TZOFFSETTO:-0400
RRULE:FREQ=YEARLY;BYDAY=2SU;BYMONTH=3
TZNAME:EDT
END:DAYLIGHT
BEGIN:STANDARD
DTSTART:20261101T010000
TZOFFSETFROM:-0400
TZOFFSETTO:-0500
RRULE:FREQ=YEARLY;BYDAY=1SU;BYMONTH=11
TZNAME:EST
END:STANDARD
END:VTIMEZONE
BEGIN:VEVENT
DTSTAMP:20260425T175501Z
UID:f32f1255-1cf0-4aab-a52b-5f5cece53f91
DTSTART;VALUE=DATE:20260427
DTEND;VALUE=DATE:20260502
DESCRIPTION:
LOCATION:
SUMMARY:Book Fair
END:VEVENT
BEGIN:VEVENT
DTSTAMP:20260425T175501Z
UID:9d4edc63-367a-4c95-a1ab-7ce5777cce12
DTSTART:20260515T140000
DTEND:20260515T150000
DESCRIPTION:
LOCATION:
SUMMARY:EFIT Snow Cones
END:VEVENT
BEGIN:VEVENT
DTSTAMP:20260425T175501Z
UID:b664a50a-935e-4db0-8700-82f6d1397c21
DTSTART:20260518T090000
DTEND:20260518T100000
DESCRIPTION:
LOCATION:
SUMMARY:First Grade Awards
END:VEVENT
BEGIN:VEVENT
DTSTAMP:20260425T175501Z
UID:6f9be5c5-cb72-40de-a482-29711d06a7ba
DTSTART:20260518T100000
DTEND:20260518T110000
DESCRIPTION:
LOCATION:
SUMMARY:Second Grade Awards
END:VEVENT
BEGIN:VEVENT
DTSTAMP:20260425T175501Z
UID:f1669de5-0815-488b-ac0d-f8ee99e7988b
DTSTART:20260519T090000
DTEND:20260519T100000
DESCRIPTION:
LOCATION:
SUMMARY:Third Grade Awards
END:VEVENT
BEGIN:VEVENT
DTSTAMP:20260425T175501Z
UID:c09c5cd2-7f36-4a97-8e4a-eec838a4efd1
DTSTART:20260519T100000
DTEND:20260519T110000
DESCRIPTION:
LOCATION:
SUMMARY:Fourth Grade Awards
END:VEVENT
BEGIN:VEVENT
DTSTAMP:20260425T175501Z
UID:c23723b6-5e4b-4854-a8d7-82dbe321410e
DTSTART:20260520T090000
DTEND:20260520T103000
DESCRIPTION:
LOCATION:
SUMMARY:Fifth Grade Awards
END:VEVENT
BEGIN:VEVENT
DTSTAMP:20260425T175501Z
UID:b77e27b3-558f-44f3-80f7-2616c6d86c26
DTSTART:20260520T103000
DTEND:20260520T113000
DESCRIPTION:
LOCATION:
SUMMARY:Kindergarten Awards
END:VEVENT
BEGIN:VEVENT
DTSTAMP:20260425T175501Z
UID:dcd25601-48dd-4d17-ac7b-b64e33778e2d
DTSTART;VALUE=DATE:20260521
DTEND;VALUE=DATE:20260522
DESCRIPTION:
LOCATION:
SUMMARY:Water Day
END:VEVENT
BEGIN:VEVENT
DTSTAMP:20260425T175501Z
UID:b90bf1b2-62cf-4e9c-bca5-408f653210e7
DTSTART;VALUE=DATE:20260522
DTEND;VALUE=DATE:20260523
DESCRIPTION:
LOCATION:
SUMMARY:3-5 FAST Award Incentive-Extra Water Day
END:VEVENT
BEGIN:VEVENT
DTSTAMP:20260425T175501Z
UID:77510824-af2a-46c7-8e94-87c745957f35
DTSTART;VALUE=DATE:20260525
DTEND;VALUE=DATE:20260526
DESCRIPTION:
LOCATION:
SUMMARY:Memorial Day (students & teachers)
END:VEVENT
BEGIN:VEVENT
DTSTAMP:20260425T175501Z
UID:a4cd4609-2661-4a2b-97ca-94ac32e2bea7
DTSTART:20260526T090000
DTEND:20260526T100000
DESCRIPTION:
LOCATION:
SUMMARY:Pre-K Celebration
END:VEVENT
BEGIN:VEVENT
DTSTAMP:20260425T175501Z
UID:b5fcdac8-b690-47d0-978d-74bce3e80da2
DTSTART;VALUE=DATE:20260528
DTEND;VALUE=DATE:20260529
DESCRIPTION:
LOCATION:
SUMMARY:End of Fourth Nine Weeks
END:VEVENT
BEGIN:VEVENT
DTSTAMP:20260425T175501Z
UID:ac512a55-37e0-4244-aabc-6125015f45ea
DTSTART;VALUE=DATE:20260528
DTEND;VALUE=DATE:20260529
DESCRIPTION:
LOCATION:
SUMMARY:LAST DAY SCHOOL EARLY RELEASE ALL
END:VEVENT
BEGIN:VEVENT
DTSTAMP:20260425T175501Z
UID:ff923bf1-5d69-482c-9cf0-0d083ac081b0
DTSTART;VALUE=DATE:20260609
DTEND;VALUE=DATE:20260610
DESCRIPTION:
LOCATION:
SUMMARY: Report Cards Available in Focus
END:VEVENT
END:VCALENDAR
