BEGIN:VCALENDAR
VERSION:2.0
PRODID:icalendar-ruby
CALSCALE:GREGORIAN
BEGIN:VTIMEZONE
TZID:America/New_York
BEGIN:DAYLIGHT
DTSTART:20260308T030000
TZOFFSETFROM:-0500
TZOFFSETTO:-0400
RRULE:FREQ=YEARLY;BYDAY=2SU;BYMONTH=3
TZNAME:EDT
END:DAYLIGHT
BEGIN:STANDARD
DTSTART:20261101T010000
TZOFFSETFROM:-0400
TZOFFSETTO:-0500
RRULE:FREQ=YEARLY;BYDAY=1SU;BYMONTH=11
TZNAME:EST
END:STANDARD
END:VTIMEZONE
BEGIN:VEVENT
DTSTAMP:20260422T163708Z
UID:ac48df31-eb70-4099-a789-f220c44283fd
DTSTART;VALUE=DATE:20260424
DTEND;VALUE=DATE:20260425
DESCRIPTION:
LOCATION:
SUMMARY:Big 3 Celebration
END:VEVENT
BEGIN:VEVENT
DTSTAMP:20260422T163708Z
UID:8689db4f-345c-420c-827c-90aa0d99311b
DTSTART;VALUE=DATE:20260507
DTEND;VALUE=DATE:20260508
DESCRIPTION:
LOCATION:
SUMMARY:K-Kids Monthly Meeting
END:VEVENT
BEGIN:VEVENT
DTSTAMP:20260422T163708Z
UID:4e274326-59f9-4237-b5d3-1c02bc6e2633
DTSTART:20260518T090000
DTEND:20260518T100000
DESCRIPTION:
LOCATION:
SUMMARY:Pre-K Awards
END:VEVENT
BEGIN:VEVENT
DTSTAMP:20260422T163708Z
UID:6e6ca85b-80cf-43d0-8b71-95138aa2f292
DTSTART:20260519T080000
DTEND:20260519T083000
DESCRIPTION:
LOCATION:
SUMMARY:1st Grade Awards
END:VEVENT
BEGIN:VEVENT
DTSTAMP:20260422T163708Z
UID:2ea7de81-987f-4fbb-8a85-58c77cafe518
DTSTART:20260519T084500
DTEND:20260519T094500
DESCRIPTION:
LOCATION:
SUMMARY:2nd Grade Awards
END:VEVENT
BEGIN:VEVENT
DTSTAMP:20260422T163708Z
UID:76ee3c89-50a0-4438-b41c-43a4aae8b92d
DTSTART:20260519T093000
DTEND:20260519T103000
DESCRIPTION:
LOCATION:
SUMMARY:3rd Grade Awards
END:VEVENT
BEGIN:VEVENT
DTSTAMP:20260422T163708Z
UID:e4de4bb1-bfe2-4006-9113-6e80e37afb21
DTSTART:20260519T101500
DTEND:20260519T111500
DESCRIPTION:
LOCATION:
SUMMARY:4th Grade Awards
END:VEVENT
BEGIN:VEVENT
DTSTAMP:20260422T163708Z
UID:232ac865-5dfb-4004-acbd-a90476a3066a
DTSTART:20260520T080000
DTEND:20260520T090000
DESCRIPTION:
LOCATION:
SUMMARY:Kindergarten Awards
END:VEVENT
BEGIN:VEVENT
DTSTAMP:20260422T163708Z
UID:7616f5e9-4597-4680-8143-e4458ada37d7
DTSTART:20260520T093000
DTEND:20260520T103000
DESCRIPTION:
LOCATION:
SUMMARY:5th Grade Awards
END:VEVENT
BEGIN:VEVENT
DTSTAMP:20260422T163708Z
UID:ed03c406-3fb3-4dc0-b59d-a4506924ac49
DTSTART;VALUE=DATE:20260521
DTEND;VALUE=DATE:20260522
DESCRIPTION:
LOCATION:
SUMMARY:Water Day for Goal Getters!
END:VEVENT
BEGIN:VEVENT
DTSTAMP:20260422T163708Z
UID:a6a70d96-d4a5-4401-a6b1-5f59d4f4a0ce
DTSTART;VALUE=DATE:20260522
DTEND;VALUE=DATE:20260523
DESCRIPTION:
LOCATION:
SUMMARY:Water Day!
END:VEVENT
BEGIN:VEVENT
DTSTAMP:20260422T163708Z
UID:46bb3c05-d4d0-41ea-8e19-2af49307bf4c
DTSTART;VALUE=DATE:20260525
DTEND;VALUE=DATE:20260526
DESCRIPTION:
LOCATION:
SUMMARY:No School - Memorial Day
END:VEVENT
BEGIN:VEVENT
DTSTAMP:20260422T163708Z
UID:6507a919-3842-487c-a829-abaef5b18675
DTSTART;VALUE=DATE:20260528
DTEND;VALUE=DATE:20260529
DESCRIPTION:
LOCATION:
SUMMARY:Early Release/ Last Day!
END:VEVENT
BEGIN:VEVENT
DTSTAMP:20260422T163708Z
UID:486411b6-153f-4093-877a-a32302629789
DTSTART;VALUE=DATE:20260528
DTEND;VALUE=DATE:20260529
DESCRIPTION:
LOCATION:
SUMMARY:End of 4th Nine Weeks
END:VEVENT
END:VCALENDAR
