BEGIN:VCALENDAR
VERSION:2.0
PRODID:icalendar-ruby
CALSCALE:GREGORIAN
BEGIN:VTIMEZONE
TZID:America/New_York
BEGIN:DAYLIGHT
DTSTART:20260308T030000
TZOFFSETFROM:-0500
TZOFFSETTO:-0400
RRULE:FREQ=YEARLY;BYDAY=2SU;BYMONTH=3
TZNAME:EDT
END:DAYLIGHT
BEGIN:STANDARD
DTSTART:20261101T010000
TZOFFSETFROM:-0400
TZOFFSETTO:-0500
RRULE:FREQ=YEARLY;BYDAY=1SU;BYMONTH=11
TZNAME:EST
END:STANDARD
END:VTIMEZONE
BEGIN:VEVENT
DTSTAMP:20260422T115226Z
UID:7e67d8bc-51f6-4fab-9717-06a66ee2985a
DTSTART;VALUE=DATE:20260424
DTEND;VALUE=DATE:20260425
DESCRIPTION:
LOCATION:
SUMMARY:PBIS - Performance (Singer)
END:VEVENT
BEGIN:VEVENT
DTSTAMP:20260422T115226Z
UID:46b2d69d-893e-44f7-b244-bd4d74767f84
DTSTART;VALUE=DATE:20260501
DTEND;VALUE=DATE:20260502
DESCRIPTION:
LOCATION:
SUMMARY:PBIS - Eagle of the Month
END:VEVENT
BEGIN:VEVENT
DTSTAMP:20260422T115226Z
UID:ded61164-0628-4490-a320-f2ad5747d513
DTSTART;VALUE=DATE:20260515
DTEND;VALUE=DATE:20260516
DESCRIPTION:
LOCATION:
SUMMARY:PBIS - Popcorn Friday
END:VEVENT
BEGIN:VEVENT
DTSTAMP:20260422T115226Z
UID:667e76b5-1509-4757-bbb9-bcbde53fb7f6
DTSTART;VALUE=DATE:20260521
DTEND;VALUE=DATE:20260522
DESCRIPTION:
LOCATION:
SUMMARY:Graduation 
END:VEVENT
BEGIN:VEVENT
DTSTAMP:20260422T115226Z
UID:9a12f64d-668e-472d-b867-52203ecd6b31
DTSTART;VALUE=DATE:20260525
DTEND;VALUE=DATE:20260526
DESCRIPTION:
LOCATION:
SUMMARY:Memorial Day - School Closed 
END:VEVENT
BEGIN:VEVENT
DTSTAMP:20260422T115226Z
UID:de44ca8e-11ea-4d14-8435-2629b81b681d
DTSTART;VALUE=DATE:20260528
DTEND;VALUE=DATE:20260529
DESCRIPTION:
LOCATION:
SUMMARY:Last Day of School - Half Day
END:VEVENT
END:VCALENDAR
