BEGIN:VCALENDAR
VERSION:2.0
PRODID:icalendar-ruby
CALSCALE:GREGORIAN
BEGIN:VTIMEZONE
TZID:America/New_York
BEGIN:DAYLIGHT
DTSTART:20260308T030000
TZOFFSETFROM:-0500
TZOFFSETTO:-0400
RRULE:FREQ=YEARLY;BYDAY=2SU;BYMONTH=3
TZNAME:EDT
END:DAYLIGHT
BEGIN:STANDARD
DTSTART:20261101T010000
TZOFFSETFROM:-0400
TZOFFSETTO:-0500
RRULE:FREQ=YEARLY;BYDAY=1SU;BYMONTH=11
TZNAME:EST
END:STANDARD
END:VTIMEZONE
BEGIN:VEVENT
DTSTAMP:20260424T163126Z
UID:959fd449-e7f6-4d86-a027-13de5386b840
DTSTART:20260420T080000
DTEND:20260424T140000
DESCRIPTION:<p>Scholastic Book Fair April 20th-24th</p>
LOCATION:1125 Cherry St\, Panama City\, FL 32401\, USA
SUMMARY:Scholastic Book Fair
END:VEVENT
BEGIN:VEVENT
DTSTAMP:20260424T163126Z
UID:ccb6c4c1-1ba0-4acf-8731-de5ba06fb355
DTSTART;VALUE=DATE:20260428
DTEND;VALUE=DATE:20260501
DESCRIPTION:
LOCATION:
SUMMARY:STAR K-2 Math Testing
END:VEVENT
BEGIN:VEVENT
DTSTAMP:20260424T163126Z
UID:2b67e79a-bc5d-4226-ac5c-d79bc302abe7
DTSTART:20260428T070000
DTEND:20260428T073000
DESCRIPTION:<p>We are a group of dads dedicated to strengthening our relati
 onships with our kids and we would love for you to join us. Our team capta
 in is Myron Guilford. If you have any questions or comments\, would like t
 o learn more\, or would like to know when the next meeting will be\, pleas
 e use the contact form on this page to connect with our team captain.</p><
 p><a target="_blank" rel="noopener noreferrer nofollow" href="https://allp
 rodadchapters.com/chapters/15790">https://allprodadchapters.com/chapters/1
 5790</a></p>
LOCATION:
SUMMARY:All Pro Dad Meeting - Friendliness
END:VEVENT
BEGIN:VEVENT
DTSTAMP:20260424T163126Z
UID:bee177b5-adde-4ee1-be9f-caa944592ce6
DTSTART;VALUE=DATE:20260430
DTEND;VALUE=DATE:20260501
DESCRIPTION:
LOCATION:
SUMMARY:House Day
END:VEVENT
BEGIN:VEVENT
DTSTAMP:20260424T163126Z
UID:a28e8d95-e388-4fed-b121-97aa9c53aae3
DTSTART;VALUE=DATE:20260501
DTEND;VALUE=DATE:20260502
DESCRIPTION:
LOCATION:
SUMMARY:Super Cheetah Day
END:VEVENT
BEGIN:VEVENT
DTSTAMP:20260424T163126Z
UID:f6a6a644-36dc-4d30-9ebe-9e9696224e5e
DTSTART;VALUE=DATE:20260505
DTEND;VALUE=DATE:20260506
DESCRIPTION:
LOCATION:
SUMMARY:FAST Reading (3rd grade)
END:VEVENT
BEGIN:VEVENT
DTSTAMP:20260424T163126Z
UID:46da4424-7477-4456-a156-c8912251beaa
DTSTART;VALUE=DATE:20260505
DTEND;VALUE=DATE:20260506
DESCRIPTION:
LOCATION:
SUMMARY:FAST Science (5th grade)
END:VEVENT
BEGIN:VEVENT
DTSTAMP:20260424T163126Z
UID:f8f58fa3-8555-4ea1-883a-8ab653510df5
DTSTART;VALUE=DATE:20260506
DTEND;VALUE=DATE:20260507
DESCRIPTION:
LOCATION:
SUMMARY:FAST Reading (4th grade)
END:VEVENT
BEGIN:VEVENT
DTSTAMP:20260424T163126Z
UID:c01d1641-2dd8-45ea-bcdf-76a446f99b75
DTSTART;VALUE=DATE:20260507
DTEND;VALUE=DATE:20260508
DESCRIPTION:
LOCATION:
SUMMARY:FAST Reading (5th grade)
END:VEVENT
BEGIN:VEVENT
DTSTAMP:20260424T163126Z
UID:942f44ab-1bc2-4618-8b9d-2deb660d25cc
DTSTART:20260508T133000
DTEND:20260508T143000
DESCRIPTION:
LOCATION:
SUMMARY:Senior walk
END:VEVENT
BEGIN:VEVENT
DTSTAMP:20260424T163126Z
UID:c8915996-51a5-40d8-bdf7-00086f4eb211
DTSTART;VALUE=DATE:20260512
DTEND;VALUE=DATE:20260513
DESCRIPTION:
LOCATION:
SUMMARY:FAST Math (3rd grade)
END:VEVENT
BEGIN:VEVENT
DTSTAMP:20260424T163126Z
UID:8081e41b-fd22-4f23-9e0e-480bccb5e647
DTSTART:20260512T153000
DTEND:20260512T163000
DESCRIPTION:
LOCATION:
SUMMARY:PTO Meeting
END:VEVENT
BEGIN:VEVENT
DTSTAMP:20260424T163126Z
UID:e6e4cb00-3bed-43b3-b27b-b18111b1687e
DTSTART:20260512T153000
DTEND:20260512T163000
DESCRIPTION:
LOCATION:
SUMMARY:PTO Meeting
END:VEVENT
BEGIN:VEVENT
DTSTAMP:20260424T163126Z
UID:76d48471-07db-457c-96a4-be9a7310558d
DTSTART;VALUE=DATE:20260513
DTEND;VALUE=DATE:20260514
DESCRIPTION:
LOCATION:
SUMMARY:FAST Math (4th grade)
END:VEVENT
BEGIN:VEVENT
DTSTAMP:20260424T163126Z
UID:6602e33a-b1f1-44fd-ada8-7bed6f1eaaa5
DTSTART;VALUE=DATE:20260514
DTEND;VALUE=DATE:20260515
DESCRIPTION:
LOCATION:
SUMMARY:FAST Math (5th grade)
END:VEVENT
BEGIN:VEVENT
DTSTAMP:20260424T163126Z
UID:5075dcb0-a16f-49b9-982a-9871340eb940
DTSTART:20260514T141500
DTEND:20260514T144500
DESCRIPTION:Celebration for students with perfect attendance the month befo
 re. Perfect Attendance includes no absences\, no tardies\, and no early ch
 eck-outs
LOCATION:
SUMMARY:Attendance Celebration
END:VEVENT
BEGIN:VEVENT
DTSTAMP:20260424T163126Z
UID:acc7444f-04af-450e-b21b-87a446b43c0c
DTSTART:20260519T070000
DTEND:20260519T073000
DESCRIPTION:<p><span>We are a group of dads dedicated to strengthening our 
 relationships with our kids and we would love for you to join us. Our team
  captain is Myron Guilford. If you have any questions or comments\, would 
 like to learn more\, or would like to know when the next meeting will be\,
  please use the contact form on this page to connect with our team captain
 .</span></p><p><a target="_blank" rel="noopener noreferrer nofollow" href=
 "https://allprodadchapters.com/chapters/15790">https://allprodadchapters.c
 om/chapters/15790</a></p>
LOCATION:
SUMMARY:All Pro Dad Meeting - Compassion
END:VEVENT
BEGIN:VEVENT
DTSTAMP:20260424T163126Z
UID:70298138-451d-4457-b382-65698a5afd3a
DTSTART:20260519T153000
DTEND:20260519T163000
DESCRIPTION:
LOCATION:
SUMMARY:SAC #3
END:VEVENT
BEGIN:VEVENT
DTSTAMP:20260424T163126Z
UID:88732dd7-006d-462b-8984-fefa41314a43
DTSTART:20260521T090000
DTEND:20260521T100000
DESCRIPTION:
LOCATION:
SUMMARY:K Celebration 
END:VEVENT
BEGIN:VEVENT
DTSTAMP:20260424T163126Z
UID:3c34704d-7a18-4f0a-9c46-d9048b9d2a93
DTSTART:20260521T101500
DTEND:20260521T111500
DESCRIPTION:
LOCATION:
SUMMARY:4th Grade Awards 
END:VEVENT
BEGIN:VEVENT
DTSTAMP:20260424T163126Z
UID:e3e4076f-662a-436c-a6eb-ee57e94acb1a
DTSTART;VALUE=DATE:20260522
DTEND;VALUE=DATE:20260523
DESCRIPTION:
LOCATION:
SUMMARY:Field Day
END:VEVENT
BEGIN:VEVENT
DTSTAMP:20260424T163126Z
UID:d1b4c4c7-6957-4aa6-9ac4-af141592c035
DTSTART;VALUE=DATE:20260525
DTEND;VALUE=DATE:20260526
DESCRIPTION:
LOCATION:
SUMMARY:Memorial Day (School Out for Teachers and Students)
END:VEVENT
BEGIN:VEVENT
DTSTAMP:20260424T163126Z
UID:a87b92f0-2b74-40f1-b984-96d3ef5327bc
DTSTART:20260526T090000
DTEND:20260526T100000
DESCRIPTION:
LOCATION:
SUMMARY:PreK Celebration
END:VEVENT
BEGIN:VEVENT
DTSTAMP:20260424T163126Z
UID:9c616301-83bd-437d-96f2-f776efdd358b
DTSTART:20260526T101500
DTEND:20260526T111500
DESCRIPTION:
LOCATION:
SUMMARY:5th Grade Ceremony
END:VEVENT
BEGIN:VEVENT
DTSTAMP:20260424T163126Z
UID:ebc96471-6b44-4983-94ed-b39f538ec4bb
DTSTART:20260526T140000
DTEND:20260526T150000
DESCRIPTION:
LOCATION:
SUMMARY:1st Grade Awards
END:VEVENT
BEGIN:VEVENT
DTSTAMP:20260424T163126Z
UID:f4b4207f-bec1-4525-9100-58d3e0fe839d
DTSTART:20260527T090000
DTEND:20260527T100000
DESCRIPTION:
LOCATION:
SUMMARY:2nd Grade Awards
END:VEVENT
BEGIN:VEVENT
DTSTAMP:20260424T163126Z
UID:5a337a08-3613-44d3-8501-96da42599e2a
DTSTART:20260527T101500
DTEND:20260527T111500
DESCRIPTION:
LOCATION:
SUMMARY:3rd Grade Awards
END:VEVENT
BEGIN:VEVENT
DTSTAMP:20260424T163126Z
UID:2362c848-c5e7-43ad-805d-443b62d15362
DTSTART;VALUE=DATE:20260528
DTEND;VALUE=DATE:20260529
DESCRIPTION:
LOCATION:
SUMMARY:Last Day of School/Early Release for All Students/End of 4th Nine W
 eeks/
END:VEVENT
BEGIN:VEVENT
DTSTAMP:20260424T163126Z
UID:c20d88bd-f17a-4491-84ff-92bb51bf057b
DTSTART;VALUE=DATE:20260529
DTEND;VALUE=DATE:20260530
DESCRIPTION:
LOCATION:
SUMMARY:Post Planning For Teachers
END:VEVENT
BEGIN:VEVENT
DTSTAMP:20260424T163126Z
UID:4720964e-2a15-4852-b20f-2346d5f00ad9
DTSTART;VALUE=DATE:20260601
DTEND;VALUE=DATE:20260603
DESCRIPTION:
LOCATION:
SUMMARY:Post Planning For Teachers
END:VEVENT
BEGIN:VEVENT
DTSTAMP:20260424T163126Z
UID:bd5954e5-c925-4629-812d-63698d36f9a6
DTSTART;VALUE=DATE:20260609
DTEND;VALUE=DATE:20260610
DESCRIPTION:
LOCATION:
SUMMARY:Report Cards Available in Parent Portal (FOCUS)
END:VEVENT
BEGIN:VEVENT
DTSTAMP:20260424T163126Z
UID:4d8e4eaf-ea72-4eef-858c-e875414b5a4d
DTSTART:20260609T153000
DTEND:20260609T163000
DESCRIPTION:
LOCATION:
SUMMARY:PTO Meeting
END:VEVENT
BEGIN:VEVENT
DTSTAMP:20260424T163126Z
UID:93b34372-08e7-4e3d-a985-d512513cd576
DTSTART;VALUE=DATE:20260703
DTEND;VALUE=DATE:20260704
DESCRIPTION:
LOCATION:
SUMMARY:House Day
END:VEVENT
BEGIN:VEVENT
DTSTAMP:20260424T163126Z
UID:0d8e46ef-0993-45f8-868a-9aa9d74ef373
DTSTART:20260714T153000
DTEND:20260714T163000
DESCRIPTION:
LOCATION:
SUMMARY:PTO Meeting
END:VEVENT
BEGIN:VEVENT
DTSTAMP:20260424T163126Z
UID:ed05fa01-56ae-418d-af98-07cbb0ea3d74
DTSTART;VALUE=DATE:20260807
DTEND;VALUE=DATE:20260808
DESCRIPTION:
LOCATION:
SUMMARY:House Day
END:VEVENT
BEGIN:VEVENT
DTSTAMP:20260424T163126Z
UID:f47a0da7-304d-413f-a8d3-0d96d85b5a6b
DTSTART:20260811T153000
DTEND:20260811T163000
DESCRIPTION:
LOCATION:
SUMMARY:PTO Meeting
END:VEVENT
BEGIN:VEVENT
DTSTAMP:20260424T163126Z
UID:d41e6541-b6e3-4b30-9341-9f48907f1f26
DTSTART;VALUE=DATE:20260904
DTEND;VALUE=DATE:20260905
DESCRIPTION:
LOCATION:
SUMMARY:House Day
END:VEVENT
BEGIN:VEVENT
DTSTAMP:20260424T163126Z
UID:d029d035-8105-41b0-ba0c-7aa63893df57
DTSTART:20260908T153000
DTEND:20260908T163000
DESCRIPTION:
LOCATION:
SUMMARY:PTO Meeting
END:VEVENT
BEGIN:VEVENT
DTSTAMP:20260424T163126Z
UID:adcca7c0-d0d7-4098-a0ba-e8fb21961583
DTSTART;VALUE=DATE:20261002
DTEND;VALUE=DATE:20261003
DESCRIPTION:
LOCATION:
SUMMARY:House Day
END:VEVENT
BEGIN:VEVENT
DTSTAMP:20260424T163126Z
UID:0d187725-1323-445d-8fc1-664665c9cc77
DTSTART:20261013T153000
DTEND:20261013T163000
DESCRIPTION:
LOCATION:
SUMMARY:PTO Meeting
END:VEVENT
BEGIN:VEVENT
DTSTAMP:20260424T163126Z
UID:3d1196b3-f93d-40e0-b5e2-dfd73a14b57b
DTSTART:20261110T153000
DTEND:20261110T163000
DESCRIPTION:
LOCATION:
SUMMARY:PTO Meeting
END:VEVENT
BEGIN:VEVENT
DTSTAMP:20260424T163126Z
UID:fb46f60b-d1f9-466c-a6f0-7c62ff80d508
DTSTART:20261208T153000
DTEND:20261208T163000
DESCRIPTION:
LOCATION:
SUMMARY:PTO Meeting
END:VEVENT
BEGIN:VEVENT
DTSTAMP:20260424T163126Z
UID:5dd24d55-376c-4cdc-b662-669c556020fb
DTSTART:20270112T153000
DTEND:20270112T163000
DESCRIPTION:
LOCATION:
SUMMARY:PTO Meeting
END:VEVENT
BEGIN:VEVENT
DTSTAMP:20260424T163126Z
UID:2787c8f2-cf2e-4f96-9f6c-81933cefc8f7
DTSTART:20270209T153000
DTEND:20270209T163000
DESCRIPTION:
LOCATION:
SUMMARY:PTO Meeting
END:VEVENT
BEGIN:VEVENT
DTSTAMP:20260424T163126Z
UID:6110ce81-791f-483a-aebb-91d2ee2ee5db
DTSTART:20270309T153000
DTEND:20270309T163000
DESCRIPTION:
LOCATION:
SUMMARY:PTO Meeting
END:VEVENT
BEGIN:VEVENT
DTSTAMP:20260424T163126Z
UID:17bc98c2-0c03-4016-a00a-b25d19f6bb81
DTSTART:20270413T153000
DTEND:20270413T163000
DESCRIPTION:
LOCATION:
SUMMARY:PTO Meeting
END:VEVENT
END:VCALENDAR
