BEGIN:VCALENDAR
VERSION:2.0
PRODID:icalendar-ruby
CALSCALE:GREGORIAN
BEGIN:VTIMEZONE
TZID:America/Chicago
BEGIN:DAYLIGHT
DTSTART:20260308T030000
TZOFFSETFROM:-0600
TZOFFSETTO:-0500
RRULE:FREQ=YEARLY;BYDAY=2SU;BYMONTH=3
TZNAME:CDT
END:DAYLIGHT
BEGIN:STANDARD
DTSTART:20261101T010000
TZOFFSETFROM:-0500
TZOFFSETTO:-0600
RRULE:FREQ=YEARLY;BYDAY=1SU;BYMONTH=11
TZNAME:CST
END:STANDARD
END:VTIMEZONE
BEGIN:VEVENT
DTSTAMP:20260421T094749Z
UID:2e841294-e29d-48e7-ab72-02dd2930e051
DTSTART:20260421T070000
DTEND:20260421T073000
DESCRIPTION:
LOCATION:
SUMMARY:Next Gen Club Meetings
END:VEVENT
BEGIN:VEVENT
DTSTAMP:20260421T094749Z
UID:01c2f364-872e-4410-9b33-88b0bb14b66e
DTSTART:20260423T141500
DTEND:20260423T151500
DESCRIPTION:
LOCATION:
SUMMARY:Imagination Lab Club Meeting
END:VEVENT
BEGIN:VEVENT
DTSTAMP:20260421T094749Z
UID:5076f933-78b9-45e5-a3cc-dfeda5291720
DTSTART:20260428T070000
DTEND:20260428T073000
DESCRIPTION:
LOCATION:
SUMMARY:Next Gen Club Meetings
END:VEVENT
BEGIN:VEVENT
DTSTAMP:20260421T094749Z
UID:ae471e80-ec23-424f-a9e1-c9e75a5dc904
DTSTART:20260505T070000
DTEND:20260505T073000
DESCRIPTION:
LOCATION:
SUMMARY:Next Gen Club Meetings
END:VEVENT
BEGIN:VEVENT
DTSTAMP:20260421T094749Z
UID:0fc3c9ec-3bb9-4e3b-b6e3-c8311619b88e
DTSTART:20260511T140000
DTEND:20260511T144500
DESCRIPTION:
LOCATION:
SUMMARY:Kindness Club
END:VEVENT
BEGIN:VEVENT
DTSTAMP:20260421T094749Z
UID:23e6106a-8c2c-4e49-a62c-e37f768d5cad
DTSTART:20260512T070000
DTEND:20260512T073000
DESCRIPTION:
LOCATION:
SUMMARY:Next Gen Club Meetings
END:VEVENT
BEGIN:VEVENT
DTSTAMP:20260421T094749Z
UID:45cf6e1a-8133-4e1b-85c9-d990fe58fe2a
DTSTART:20260519T070000
DTEND:20260519T073000
DESCRIPTION:
LOCATION:
SUMMARY:Next Gen Club Meetings
END:VEVENT
BEGIN:VEVENT
DTSTAMP:20260421T094749Z
UID:f8af35e5-ad90-41b8-979e-336ce7ee10c1
DTSTART:20260522T073000
DTEND:20260522T083000
DESCRIPTION:
LOCATION:
SUMMARY:Pre-K Graduation
END:VEVENT
BEGIN:VEVENT
DTSTAMP:20260421T094749Z
UID:6d4d32b6-f209-4aed-95e2-69ec615a17ea
DTSTART:20260525T070000
DTEND:20260525T140000
DESCRIPTION:
LOCATION:
SUMMARY:Memorial Day!!! (No school)
END:VEVENT
BEGIN:VEVENT
DTSTAMP:20260421T094749Z
UID:c5de0d5e-2473-4706-b93e-9f19c4354f1a
DTSTART:20260526T070000
DTEND:20260526T073000
DESCRIPTION:
LOCATION:
SUMMARY:Next Gen Club Meetings
END:VEVENT
BEGIN:VEVENT
DTSTAMP:20260421T094749Z
UID:b56d8d12-9a8e-46bb-bc36-f80ec43dc6fa
DTSTART:20260527T073000
DTEND:20260527T083000
DESCRIPTION:
LOCATION:
SUMMARY:5th Grade Graduation
END:VEVENT
BEGIN:VEVENT
DTSTAMP:20260421T094749Z
UID:1b268e2c-7711-4502-aba5-0e3b0ad05df6
DTSTART;VALUE=DATE:20260528
DTEND;VALUE=DATE:20260529
DESCRIPTION:
LOCATION:
SUMMARY:Last Day of School ~ Early Release @ 11:30
END:VEVENT
BEGIN:VEVENT
DTSTAMP:20260421T094749Z
UID:87e68f7a-43a5-4373-9ec2-d8f6db9e1c5c
DTSTART:20260602T070000
DTEND:20260602T073000
DESCRIPTION:
LOCATION:
SUMMARY:Next Gen Club Meetings
END:VEVENT
BEGIN:VEVENT
DTSTAMP:20260421T094749Z
UID:d240a923-cb31-441a-926a-7ecad4318632
DTSTART:20260608T140000
DTEND:20260608T144500
DESCRIPTION:
LOCATION:
SUMMARY:Kindness Club
END:VEVENT
BEGIN:VEVENT
DTSTAMP:20260421T094749Z
UID:d8a39d57-8fc2-4cfd-8850-39ec1acaa298
DTSTART:20260609T070000
DTEND:20260609T073000
DESCRIPTION:
LOCATION:
SUMMARY:Next Gen Club Meetings
END:VEVENT
BEGIN:VEVENT
DTSTAMP:20260421T094749Z
UID:d077bcb0-4a55-4888-b608-f9b16b2105b8
DTSTART:20260616T070000
DTEND:20260616T073000
DESCRIPTION:
LOCATION:
SUMMARY:Next Gen Club Meetings
END:VEVENT
BEGIN:VEVENT
DTSTAMP:20260421T094749Z
UID:e6d31a39-9adf-41f4-b2a6-077ec6463c56
DTSTART:20260623T070000
DTEND:20260623T073000
DESCRIPTION:
LOCATION:
SUMMARY:Next Gen Club Meetings
END:VEVENT
BEGIN:VEVENT
DTSTAMP:20260421T094749Z
UID:2c5f567a-8cc2-4554-bf9b-672f2ab7c8e7
DTSTART:20260630T070000
DTEND:20260630T073000
DESCRIPTION:
LOCATION:
SUMMARY:Next Gen Club Meetings
END:VEVENT
BEGIN:VEVENT
DTSTAMP:20260421T094749Z
UID:ed4a6e75-9015-4198-a261-8720767238e7
DTSTART:20260707T070000
DTEND:20260707T073000
DESCRIPTION:
LOCATION:
SUMMARY:Next Gen Club Meetings
END:VEVENT
BEGIN:VEVENT
DTSTAMP:20260421T094749Z
UID:ed77e6a3-d3ac-45e6-8c27-d98cb956bb49
DTSTART:20260713T140000
DTEND:20260713T144500
DESCRIPTION:
LOCATION:
SUMMARY:Kindness Club
END:VEVENT
BEGIN:VEVENT
DTSTAMP:20260421T094749Z
UID:db52832a-9af2-42a1-9158-fb3b14a0519e
DTSTART:20260714T070000
DTEND:20260714T073000
DESCRIPTION:
LOCATION:
SUMMARY:Next Gen Club Meetings
END:VEVENT
BEGIN:VEVENT
DTSTAMP:20260421T094749Z
UID:1d76e251-9f9c-49c7-882e-c5e7349f3576
DTSTART:20260721T070000
DTEND:20260721T073000
DESCRIPTION:
LOCATION:
SUMMARY:Next Gen Club Meetings
END:VEVENT
BEGIN:VEVENT
DTSTAMP:20260421T094749Z
UID:1d0afe1e-2c34-44e2-ada2-e2aafd8130fa
DTSTART:20260728T070000
DTEND:20260728T073000
DESCRIPTION:
LOCATION:
SUMMARY:Next Gen Club Meetings
END:VEVENT
BEGIN:VEVENT
DTSTAMP:20260421T094749Z
UID:2fb05a8a-30dc-4d29-9d76-ecb645909413
DTSTART:20260804T070000
DTEND:20260804T073000
DESCRIPTION:
LOCATION:
SUMMARY:Next Gen Club Meetings
END:VEVENT
BEGIN:VEVENT
DTSTAMP:20260421T094749Z
UID:e2c1ab36-5053-4a58-b2b6-949e912ca251
DTSTART:20260810T140000
DTEND:20260810T144500
DESCRIPTION:
LOCATION:
SUMMARY:Kindness Club
END:VEVENT
BEGIN:VEVENT
DTSTAMP:20260421T094749Z
UID:18349fdc-e60c-422e-baa4-6cc14c3fc65c
DTSTART:20260811T070000
DTEND:20260811T073000
DESCRIPTION:
LOCATION:
SUMMARY:Next Gen Club Meetings
END:VEVENT
BEGIN:VEVENT
DTSTAMP:20260421T094749Z
UID:cbe8cd57-a54a-41f1-9b2d-f24378806454
DTSTART:20260818T070000
DTEND:20260818T073000
DESCRIPTION:
LOCATION:
SUMMARY:Next Gen Club Meetings
END:VEVENT
BEGIN:VEVENT
DTSTAMP:20260421T094749Z
UID:769d0efb-9e1b-40c9-91a2-3a2b27d8329c
DTSTART:20260825T070000
DTEND:20260825T073000
DESCRIPTION:
LOCATION:
SUMMARY:Next Gen Club Meetings
END:VEVENT
BEGIN:VEVENT
DTSTAMP:20260421T094749Z
UID:fefe3959-225d-4555-8271-f8fa34ac363d
DTSTART:20260901T070000
DTEND:20260901T073000
DESCRIPTION:
LOCATION:
SUMMARY:Next Gen Club Meetings
END:VEVENT
BEGIN:VEVENT
DTSTAMP:20260421T094749Z
UID:651b05fc-e314-406e-89f1-b20bfa97c140
DTSTART:20260908T070000
DTEND:20260908T073000
DESCRIPTION:
LOCATION:
SUMMARY:Next Gen Club Meetings
END:VEVENT
BEGIN:VEVENT
DTSTAMP:20260421T094749Z
UID:29ba0474-9289-4847-a123-55a95de21288
DTSTART:20260914T140000
DTEND:20260914T144500
DESCRIPTION:
LOCATION:
SUMMARY:Kindness Club
END:VEVENT
BEGIN:VEVENT
DTSTAMP:20260421T094749Z
UID:c1d1f98d-2c40-4e9d-8f86-bbfb7980b54f
DTSTART:20260915T070000
DTEND:20260915T073000
DESCRIPTION:
LOCATION:
SUMMARY:Next Gen Club Meetings
END:VEVENT
BEGIN:VEVENT
DTSTAMP:20260421T094749Z
UID:e5fd9de2-2e15-436f-b147-342dae969bc9
DTSTART:20260922T070000
DTEND:20260922T073000
DESCRIPTION:
LOCATION:
SUMMARY:Next Gen Club Meetings
END:VEVENT
BEGIN:VEVENT
DTSTAMP:20260421T094749Z
UID:3d1836d9-5398-4c06-9c53-245f9bc8c6a2
DTSTART:20260929T070000
DTEND:20260929T073000
DESCRIPTION:
LOCATION:
SUMMARY:Next Gen Club Meetings
END:VEVENT
BEGIN:VEVENT
DTSTAMP:20260421T094749Z
UID:0a310f6f-8bfb-4eb8-bb8c-b75f6fdc2f9a
DTSTART:20261006T070000
DTEND:20261006T073000
DESCRIPTION:
LOCATION:
SUMMARY:Next Gen Club Meetings
END:VEVENT
BEGIN:VEVENT
DTSTAMP:20260421T094749Z
UID:b3eb3705-37d3-482b-bc0c-223931dc2a70
DTSTART:20261012T140000
DTEND:20261012T144500
DESCRIPTION:
LOCATION:
SUMMARY:Kindness Club
END:VEVENT
BEGIN:VEVENT
DTSTAMP:20260421T094749Z
UID:787b362e-f70e-4595-8163-507227fa1fed
DTSTART:20261013T070000
DTEND:20261013T073000
DESCRIPTION:
LOCATION:
SUMMARY:Next Gen Club Meetings
END:VEVENT
BEGIN:VEVENT
DTSTAMP:20260421T094749Z
UID:c5c657aa-a813-4b06-8da0-670a943ff83a
DTSTART:20261020T070000
DTEND:20261020T073000
DESCRIPTION:
LOCATION:
SUMMARY:Next Gen Club Meetings
END:VEVENT
BEGIN:VEVENT
DTSTAMP:20260421T094749Z
UID:87f518a9-2e0c-467a-8c74-944c38eec2e5
DTSTART:20261027T070000
DTEND:20261027T073000
DESCRIPTION:
LOCATION:
SUMMARY:Next Gen Club Meetings
END:VEVENT
BEGIN:VEVENT
DTSTAMP:20260421T094749Z
UID:cbc44227-4d96-47e5-a120-9e6242291545
DTSTART:20261103T070000
DTEND:20261103T073000
DESCRIPTION:
LOCATION:
SUMMARY:Next Gen Club Meetings
END:VEVENT
BEGIN:VEVENT
DTSTAMP:20260421T094749Z
UID:19eb811b-7ab5-4300-892c-98b20ceab9f9
DTSTART:20261109T140000
DTEND:20261109T144500
DESCRIPTION:
LOCATION:
SUMMARY:Kindness Club
END:VEVENT
BEGIN:VEVENT
DTSTAMP:20260421T094749Z
UID:8feb8e7a-44b8-4ac2-a998-52a99e8f87fe
DTSTART:20261110T070000
DTEND:20261110T073000
DESCRIPTION:
LOCATION:
SUMMARY:Next Gen Club Meetings
END:VEVENT
BEGIN:VEVENT
DTSTAMP:20260421T094749Z
UID:e8c9e5bc-aa49-4a79-aaf4-ab2137f7c871
DTSTART:20261117T070000
DTEND:20261117T073000
DESCRIPTION:
LOCATION:
SUMMARY:Next Gen Club Meetings
END:VEVENT
BEGIN:VEVENT
DTSTAMP:20260421T094749Z
UID:571a2a0c-9ac0-4663-b1b7-e29d7c2a8cee
DTSTART:20261124T070000
DTEND:20261124T073000
DESCRIPTION:
LOCATION:
SUMMARY:Next Gen Club Meetings
END:VEVENT
BEGIN:VEVENT
DTSTAMP:20260421T094749Z
UID:c8f796f0-ad45-43e4-b435-ab96eae1f09b
DTSTART:20261201T070000
DTEND:20261201T073000
DESCRIPTION:
LOCATION:
SUMMARY:Next Gen Club Meetings
END:VEVENT
BEGIN:VEVENT
DTSTAMP:20260421T094749Z
UID:d51c70b2-9c33-431b-9488-3a6168049635
DTSTART:20261208T070000
DTEND:20261208T073000
DESCRIPTION:
LOCATION:
SUMMARY:Next Gen Club Meetings
END:VEVENT
BEGIN:VEVENT
DTSTAMP:20260421T094749Z
UID:9974edbf-41a8-4b8e-9fb8-02c399878e6f
DTSTART:20261214T140000
DTEND:20261214T144500
DESCRIPTION:
LOCATION:
SUMMARY:Kindness Club
END:VEVENT
BEGIN:VEVENT
DTSTAMP:20260421T094749Z
UID:4de840d7-3c26-4bba-9c69-e7ffd03b7b24
DTSTART:20261215T070000
DTEND:20261215T073000
DESCRIPTION:
LOCATION:
SUMMARY:Next Gen Club Meetings
END:VEVENT
BEGIN:VEVENT
DTSTAMP:20260421T094749Z
UID:6aca9329-1666-4b9f-9673-06e18b8d4d17
DTSTART:20261222T070000
DTEND:20261222T073000
DESCRIPTION:
LOCATION:
SUMMARY:Next Gen Club Meetings
END:VEVENT
BEGIN:VEVENT
DTSTAMP:20260421T094749Z
UID:14f2e6aa-7ab5-47e0-b758-b43a7c5b3a8e
DTSTART:20261229T070000
DTEND:20261229T073000
DESCRIPTION:
LOCATION:
SUMMARY:Next Gen Club Meetings
END:VEVENT
BEGIN:VEVENT
DTSTAMP:20260421T094749Z
UID:3f7c1784-334e-4747-a3d2-91c4e83d4b87
DTSTART:20270105T070000
DTEND:20270105T073000
DESCRIPTION:
LOCATION:
SUMMARY:Next Gen Club Meetings
END:VEVENT
BEGIN:VEVENT
DTSTAMP:20260421T094749Z
UID:f9a29096-700f-458b-b2e5-fce9b5c7f226
DTSTART:20270111T140000
DTEND:20270111T144500
DESCRIPTION:
LOCATION:
SUMMARY:Kindness Club
END:VEVENT
BEGIN:VEVENT
DTSTAMP:20260421T094749Z
UID:6f172402-0895-40fc-b95e-5965638f99ad
DTSTART:20270112T070000
DTEND:20270112T073000
DESCRIPTION:
LOCATION:
SUMMARY:Next Gen Club Meetings
END:VEVENT
BEGIN:VEVENT
DTSTAMP:20260421T094749Z
UID:9f120904-86d7-447b-a413-ad8abc8ad144
DTSTART:20270119T070000
DTEND:20270119T073000
DESCRIPTION:
LOCATION:
SUMMARY:Next Gen Club Meetings
END:VEVENT
BEGIN:VEVENT
DTSTAMP:20260421T094749Z
UID:03c87b43-d918-4f06-b46e-e242ebff2171
DTSTART:20270126T070000
DTEND:20270126T073000
DESCRIPTION:
LOCATION:
SUMMARY:Next Gen Club Meetings
END:VEVENT
BEGIN:VEVENT
DTSTAMP:20260421T094749Z
UID:1105544f-4e3b-4519-9f89-1b3fe9b78790
DTSTART:20270202T070000
DTEND:20270202T073000
DESCRIPTION:
LOCATION:
SUMMARY:Next Gen Club Meetings
END:VEVENT
END:VCALENDAR
