BEGIN:VCALENDAR
VERSION:2.0
PRODID:icalendar-ruby
CALSCALE:GREGORIAN
BEGIN:VTIMEZONE
TZID:America/New_York
BEGIN:DAYLIGHT
DTSTART:20260308T030000
TZOFFSETFROM:-0500
TZOFFSETTO:-0400
RRULE:FREQ=YEARLY;BYDAY=2SU;BYMONTH=3
TZNAME:EDT
END:DAYLIGHT
BEGIN:STANDARD
DTSTART:20261101T010000
TZOFFSETFROM:-0400
TZOFFSETTO:-0500
RRULE:FREQ=YEARLY;BYDAY=1SU;BYMONTH=11
TZNAME:EST
END:STANDARD
END:VTIMEZONE
BEGIN:VEVENT
DTSTAMP:20260423T065911Z
UID:97a2fc48-7f11-49a1-951e-eff23843068a
DTSTART:20260423T180000
DTEND:20260423T210000
DESCRIPTION:
LOCATION:
SUMMARY:Band Instrument Fitting with Ferguson - Cafe
END:VEVENT
BEGIN:VEVENT
DTSTAMP:20260423T065911Z
UID:80f5a98e-8d60-4831-b5f7-257305deb297
DTSTART:20260428T183000
DTEND:20260428T193000
DESCRIPTION:
LOCATION:
SUMMARY:Stingray Shift: A Successful Transition to Middle School
END:VEVENT
BEGIN:VEVENT
DTSTAMP:20260423T065911Z
UID:2266eb7c-cf50-4885-9619-ee9516f0d108
DTSTART:20260501T140000
DTEND:20260501T144500
DESCRIPTION:
LOCATION:
SUMMARY:Arnold High Senior Walk at BPA
END:VEVENT
BEGIN:VEVENT
DTSTAMP:20260423T065911Z
UID:f48c13f8-92d6-41c7-9b76-231453f2ab04
DTSTART;VALUE=DATE:20260505
DTEND;VALUE=DATE:20260506
DESCRIPTION:
LOCATION:
SUMMARY:3rd & 5th FAST Reading PM3 Assessment
END:VEVENT
BEGIN:VEVENT
DTSTAMP:20260423T065911Z
UID:8cff9ced-42b6-41d8-b45c-a6a60dff3ac6
DTSTART;VALUE=DATE:20260506
DTEND;VALUE=DATE:20260507
DESCRIPTION:
LOCATION:
SUMMARY:4th FAST Reading PM3 Assessment
END:VEVENT
BEGIN:VEVENT
DTSTAMP:20260423T065911Z
UID:7bafc86c-c5c8-4c3e-9b91-568c21609a9e
DTSTART;VALUE=DATE:20260507
DTEND;VALUE=DATE:20260508
DESCRIPTION:
LOCATION:
SUMMARY:6-8 FAST Reading PM3 Assessment
END:VEVENT
BEGIN:VEVENT
DTSTAMP:20260423T065911Z
UID:29f210ca-5b62-4777-abb5-cecf1052af1c
DTSTART:20260507T153000
DTEND:20260507T163000
DESCRIPTION:
LOCATION:
SUMMARY:SAC Meeting #3
END:VEVENT
BEGIN:VEVENT
DTSTAMP:20260423T065911Z
UID:ac6e5922-af81-48c5-9ea3-48d93ac66ee5
DTSTART;VALUE=DATE:20260508
DTEND;VALUE=DATE:20260509
DESCRIPTION:
LOCATION:
SUMMARY:6-8 FAST Math PM3 Assessment
END:VEVENT
BEGIN:VEVENT
DTSTAMP:20260423T065911Z
UID:338eeb99-463c-4e1d-9a75-9a1576548320
DTSTART;VALUE=DATE:20260512
DTEND;VALUE=DATE:20260513
DESCRIPTION:
LOCATION:
SUMMARY:3rd & 5th FAST Math PM3 Assessments
END:VEVENT
BEGIN:VEVENT
DTSTAMP:20260423T065911Z
UID:6395475e-9b32-498a-bc88-9393da61a30b
DTSTART;VALUE=DATE:20260513
DTEND;VALUE=DATE:20260514
DESCRIPTION:
LOCATION:
SUMMARY:4th FAST Math PM3 Assessment
END:VEVENT
BEGIN:VEVENT
DTSTAMP:20260423T065911Z
UID:f7b72900-94c5-4cf4-a76d-b437c33682b6
DTSTART;VALUE=DATE:20260514
DTEND;VALUE=DATE:20260515
DESCRIPTION:
LOCATION:
SUMMARY:5th & 8th Science Test Assessments
END:VEVENT
BEGIN:VEVENT
DTSTAMP:20260423T065911Z
UID:825babf5-e5f6-423c-b7ae-b079aaf5e628
DTSTART;VALUE=DATE:20260514
DTEND;VALUE=DATE:20260515
DESCRIPTION:
LOCATION:
SUMMARY:MS Field Trip: Pirates Voyage
END:VEVENT
BEGIN:VEVENT
DTSTAMP:20260423T065911Z
UID:5b4f78aa-5823-4f5d-9540-275fc14e82d9
DTSTART;VALUE=DATE:20260515
DTEND;VALUE=DATE:20260516
DESCRIPTION:
LOCATION:
SUMMARY:Algebra & Geometry EOC Exams
END:VEVENT
BEGIN:VEVENT
DTSTAMP:20260423T065911Z
UID:7834037b-a6a6-47f0-9c14-b2b93baa4a30
DTSTART;VALUE=DATE:20260518
DTEND;VALUE=DATE:20260519
DESCRIPTION:
LOCATION:
SUMMARY:Civics EOC Exam
END:VEVENT
BEGIN:VEVENT
DTSTAMP:20260423T065911Z
UID:ddf2f4d7-262f-4922-a1c1-6bed190a36e9
DTSTART:20260518T090000
DTEND:20260518T094500
DESCRIPTION:
LOCATION:Breakfast Point Academy\, 601 Richard Jackson Blvd\, Panama City B
 each\, FL 32407\, USA
SUMMARY:2nd grade EOY Awards Ceremony
END:VEVENT
BEGIN:VEVENT
DTSTAMP:20260423T065911Z
UID:8e11de4f-be18-4709-bd9a-7135bfc7519e
DTSTART:20260518T100000
DTEND:20260518T104500
DESCRIPTION:
LOCATION:Breakfast Point Academy\, 601 Richard Jackson Blvd\, Panama City B
 each\, FL 32407\, USA
SUMMARY:1st grade EOY Awards Ceremony
END:VEVENT
BEGIN:VEVENT
DTSTAMP:20260423T065911Z
UID:320c611e-7e60-4b42-831b-6bb72b67f1bd
DTSTART:20260519T090000
DTEND:20260519T094500
DESCRIPTION:
LOCATION:Breakfast Point Academy\, 601 Richard Jackson Blvd\, Panama City B
 each\, FL 32407\, USA
SUMMARY:3rd grade EOY Awards Ceremony
END:VEVENT
BEGIN:VEVENT
DTSTAMP:20260423T065911Z
UID:52988c53-756e-4219-8214-93629f97d35a
DTSTART:20260519T100000
DTEND:20260519T104500
DESCRIPTION:
LOCATION:Breakfast Point Academy\, 601 Richard Jackson Blvd\, Panama City B
 each\, FL 32407\, USA
SUMMARY:4th grade EOY Awards Ceremony
END:VEVENT
BEGIN:VEVENT
DTSTAMP:20260423T065911Z
UID:ecf3d709-2d4d-41fe-b5c5-aaa7727c1acf
DTSTART:20260520T090000
DTEND:20260520T100000
DESCRIPTION:
LOCATION:Breakfast Point Academy\, 601 Richard Jackson Blvd\, Panama City B
 each\, FL 32407\, USA
SUMMARY:8th grade EOY Awards Ceremony
END:VEVENT
BEGIN:VEVENT
DTSTAMP:20260423T065911Z
UID:2b73aa1f-b8e9-4ae3-8bd8-7dfb8096a65b
DTSTART:20260520T113000
DTEND:20260520T121500
DESCRIPTION:
LOCATION:Breakfast Point Academy\, 601 Richard Jackson Blvd\, Panama City B
 each\, FL 32407\, USA
SUMMARY:5th grade EOY Awards Ceremony
END:VEVENT
BEGIN:VEVENT
DTSTAMP:20260423T065911Z
UID:4d57593c-839a-454d-97a2-61d6cf5d0224
DTSTART:20260521T090000
DTEND:20260521T094500
DESCRIPTION:
LOCATION:Breakfast Point Academy\, 601 Richard Jackson Blvd\, Panama City B
 each\, FL 32407\, USA
SUMMARY:6th grade EOY Awards Ceremony
END:VEVENT
BEGIN:VEVENT
DTSTAMP:20260423T065911Z
UID:9e0ea464-0339-40b3-920c-ce96a94eb2e5
DTSTART:20260521T100000
DTEND:20260521T104500
DESCRIPTION:
LOCATION:Breakfast Point Academy\, 601 Richard Jackson Blvd\, Panama City B
 each\, FL 32407\, USA
SUMMARY:7th grade EOY Awards Ceremony
END:VEVENT
BEGIN:VEVENT
DTSTAMP:20260423T065911Z
UID:df879547-1274-41ad-8a0e-40e02662f5ab
DTSTART;VALUE=DATE:20260522
DTEND;VALUE=DATE:20260523
DESCRIPTION:
LOCATION:
SUMMARY:8th Grade to Top Golf
END:VEVENT
BEGIN:VEVENT
DTSTAMP:20260423T065911Z
UID:3fb3ea12-a68f-436e-86c4-8c7ddf8353a0
DTSTART;VALUE=DATE:20260522
DTEND;VALUE=DATE:20260523
DESCRIPTION:
LOCATION:Breakfast Point Academy\, 601 Richard Jackson Blvd\, Panama City B
 each\, FL 32407\, USA
SUMMARY:Kona Ice
END:VEVENT
BEGIN:VEVENT
DTSTAMP:20260423T065911Z
UID:6740a7dc-59ab-49e1-b47f-5470e02fe547
DTSTART:20260522T093000
DTEND:20260522T103000
DESCRIPTION:
LOCATION:Breakfast Point Academy\, 601 Richard Jackson Blvd\, Panama City B
 each\, FL 32407\, USA
SUMMARY:Kindergarten EOY Performance and Awards
END:VEVENT
BEGIN:VEVENT
DTSTAMP:20260423T065911Z
UID:6fd044b9-e784-407d-9ef6-f8bbc1abb1b1
DTSTART;VALUE=DATE:20260525
DTEND;VALUE=DATE:20260526
DESCRIPTION:
LOCATION:
SUMMARY:Memorial Day - No School
END:VEVENT
BEGIN:VEVENT
DTSTAMP:20260423T065911Z
UID:8736f5b5-4461-4aa7-8346-5f95652a2f79
DTSTART;VALUE=DATE:20260528
DTEND;VALUE=DATE:20260529
DESCRIPTION:
LOCATION:
SUMMARY:LAST DAY - Early Release for All
END:VEVENT
BEGIN:VEVENT
DTSTAMP:20260423T065911Z
UID:7f8fb1c6-7cbd-4dc6-a7bc-74904e764f9b
DTSTART;VALUE=DATE:20270109
DTEND;VALUE=DATE:20270110
DESCRIPTION:
LOCATION:
SUMMARY:Law Enforcement Appreciation Day
END:VEVENT
END:VCALENDAR
