BEGIN:VCALENDAR
VERSION:2.0
PRODID:icalendar-ruby
CALSCALE:GREGORIAN
BEGIN:VTIMEZONE
TZID:America/New_York
BEGIN:DAYLIGHT
DTSTART:20260308T030000
TZOFFSETFROM:-0500
TZOFFSETTO:-0400
RRULE:FREQ=YEARLY;BYDAY=2SU;BYMONTH=3
TZNAME:EDT
END:DAYLIGHT
BEGIN:STANDARD
DTSTART:20261101T010000
TZOFFSETFROM:-0400
TZOFFSETTO:-0500
RRULE:FREQ=YEARLY;BYDAY=1SU;BYMONTH=11
TZNAME:EST
END:STANDARD
END:VTIMEZONE
BEGIN:VEVENT
DTSTAMP:20260424T163235Z
UID:80cd7190-d587-47f4-abe7-8769ca378fa3
DTSTART;VALUE=DATE:20260420
DTEND;VALUE=DATE:20260425
DESCRIPTION:
LOCATION:
SUMMARY:Spring Break - No School
END:VEVENT
BEGIN:VEVENT
DTSTAMP:20260424T163235Z
UID:06e25136-b7a8-4c73-90ee-3d03658664c0
DTSTART:20260502T090000
DTEND:20260502T150000
DESCRIPTION:
LOCATION:Gym/parking lot
SUMMARY:MHS Art Dept Spring Craft Fair
END:VEVENT
BEGIN:VEVENT
DTSTAMP:20260424T163235Z
UID:67f2cc43-1937-4b99-8917-2032a7d66cfd
DTSTART:20260506T190000
DTEND:20260506T203000
DESCRIPTION:
LOCATION:Auditorium
SUMMARY:NJROTC Awards Night
END:VEVENT
BEGIN:VEVENT
DTSTAMP:20260424T163235Z
UID:b6d5bc4a-e584-4d07-8e59-ccced52054f2
DTSTART:20260508T183000
DTEND:20260508T203000
DESCRIPTION:
LOCATION:Gym
SUMMARY:MHS Spring Concert
END:VEVENT
BEGIN:VEVENT
DTSTAMP:20260424T163235Z
UID:841a75b2-7a6b-4d86-8ce4-f2baf831b781
DTSTART;VALUE=DATE:20260513
DTEND;VALUE=DATE:20260514
DESCRIPTION:
LOCATION:
SUMMARY:Early Release Day
END:VEVENT
BEGIN:VEVENT
DTSTAMP:20260424T163235Z
UID:d3061f37-d587-41c4-a89a-ee738b418379
DTSTART:20260516T190000
DTEND:20260516T220000
DESCRIPTION:
LOCATION:Italian Heritage Center\, 40 Westland Ave\, Portland\, ME 04102\, 
 USA
SUMMARY:Prom - Italian Heritage Center
END:VEVENT
BEGIN:VEVENT
DTSTAMP:20260424T163235Z
UID:33063424-c1b2-448e-846c-c96a7a8e4a1b
DTSTART;VALUE=DATE:20260525
DTEND;VALUE=DATE:20260526
DESCRIPTION:
LOCATION:
SUMMARY:Memorial Day - District Closed
END:VEVENT
BEGIN:VEVENT
DTSTAMP:20260424T163235Z
UID:12d16f65-6df4-45bc-8542-b5b0a7f40941
DTSTART;VALUE=DATE:20260527
DTEND;VALUE=DATE:20260528
DESCRIPTION:
LOCATION:
SUMMARY:Early Release Day
END:VEVENT
BEGIN:VEVENT
DTSTAMP:20260424T163235Z
UID:569a39b8-ce18-4ea4-96b2-3af1a16075ea
DTSTART:20260604T190000
DTEND:20260604T210000
DESCRIPTION:
LOCATION:
SUMMARY:Graduation Day - Cross Insurance Arena
END:VEVENT
BEGIN:VEVENT
DTSTAMP:20260424T163235Z
UID:40bdcf36-3092-4944-98cc-f70d64e9652f
DTSTART;VALUE=DATE:20260619
DTEND;VALUE=DATE:20260620
DESCRIPTION:
LOCATION:
SUMMARY:Juneteenth - District Closed
END:VEVENT
BEGIN:VEVENT
DTSTAMP:20260424T163235Z
UID:a9fb454e-9226-4058-919c-3923e4fa92df
DTSTART;VALUE=DATE:20260622
DTEND;VALUE=DATE:20260623
DESCRIPTION:
LOCATION:
SUMMARY:Last Day of School
END:VEVENT
BEGIN:VEVENT
DTSTAMP:20260424T163235Z
UID:6f538cb0-4da1-495c-a932-5b02177ba059
DTSTART:20261024T090000
DTEND:20261024T150000
DESCRIPTION:
LOCATION:
SUMMARY:MHS Art Fall Craft Fair
END:VEVENT
END:VCALENDAR
