BEGIN:VCALENDAR
VERSION:2.0
PRODID:icalendar-ruby
CALSCALE:GREGORIAN
BEGIN:VTIMEZONE
TZID:America/Los_Angeles
BEGIN:DAYLIGHT
DTSTART:20260308T030000
TZOFFSETFROM:-0800
TZOFFSETTO:-0700
RRULE:FREQ=YEARLY;BYDAY=2SU;BYMONTH=3
TZNAME:PDT
END:DAYLIGHT
BEGIN:STANDARD
DTSTART:20261101T010000
TZOFFSETFROM:-0700
TZOFFSETTO:-0800
RRULE:FREQ=YEARLY;BYDAY=1SU;BYMONTH=11
TZNAME:PST
END:STANDARD
END:VTIMEZONE
BEGIN:VEVENT
DTSTAMP:20260421T103205Z
UID:0dd1daa2-6754-4fa0-8daa-f99b1724ff76
DTSTART;VALUE=DATE:20260507
DTEND;VALUE=DATE:20260508
DESCRIPTION:
LOCATION:
SUMMARY:Free Dress
END:VEVENT
BEGIN:VEVENT
DTSTAMP:20260421T103205Z
UID:48f77561-8487-4226-979f-e9d7110351f7
DTSTART;VALUE=DATE:20260508
DTEND;VALUE=DATE:20260509
DESCRIPTION:<p>Professional Development </p>
LOCATION:
SUMMARY:11:00 am dismissal  
END:VEVENT
BEGIN:VEVENT
DTSTAMP:20260421T103205Z
UID:7320205c-257e-4a0a-aa12-0f034aa7ef71
DTSTART;VALUE=DATE:20260513
DTEND;VALUE=DATE:20260514
DESCRIPTION:
LOCATION:
SUMMARY:Progress Reports
END:VEVENT
BEGIN:VEVENT
DTSTAMP:20260421T103205Z
UID:a38cd215-f894-46c8-b9c3-a2ffa69afb5e
DTSTART;VALUE=DATE:20260525
DTEND;VALUE=DATE:20260526
DESCRIPTION:
LOCATION:
SUMMARY:No School - Memorial Day
END:VEVENT
BEGIN:VEVENT
DTSTAMP:20260421T103205Z
UID:98e5497e-259b-4ad5-99c5-3a3eca44f9cd
DTSTART;VALUE=DATE:20260605
DTEND;VALUE=DATE:20260606
DESCRIPTION:
LOCATION:
SUMMARY:11:00 am Dismissal  Conferences as needed
END:VEVENT
BEGIN:VEVENT
DTSTAMP:20260421T103205Z
UID:e6309d1b-758d-4053-b034-3b36df5b40aa
DTSTART;VALUE=DATE:20260610
DTEND;VALUE=DATE:20260611
DESCRIPTION:
LOCATION:
SUMMARY:Last Day of School
END:VEVENT
END:VCALENDAR
