BEGIN:VCALENDAR
VERSION:2.0
PRODID:icalendar-ruby
CALSCALE:GREGORIAN
BEGIN:VTIMEZONE
TZID:America/New_York
BEGIN:DAYLIGHT
DTSTART:20260308T030000
TZOFFSETFROM:-0500
TZOFFSETTO:-0400
RRULE:FREQ=YEARLY;BYDAY=2SU;BYMONTH=3
TZNAME:EDT
END:DAYLIGHT
BEGIN:STANDARD
DTSTART:20261101T010000
TZOFFSETFROM:-0400
TZOFFSETTO:-0500
RRULE:FREQ=YEARLY;BYDAY=1SU;BYMONTH=11
TZNAME:EST
END:STANDARD
END:VTIMEZONE
BEGIN:VEVENT
DTSTAMP:20260425T140230Z
UID:1f47d594-67f9-41b2-9817-0a74374e7c8c
DTSTART:20260425T090000
DTEND:20260425T100000
DESCRIPTION:Visit https://nasdathletics.org/main/event/scid/PA180673813/eve
 ntid/80809700 for more information! 
LOCATION:
SUMMARY:Northampton Area High School TR B V Away OPEN (Zephyr Invite)
END:VEVENT
BEGIN:VEVENT
DTSTAMP:20260425T140230Z
UID:7dd5e5d2-9c67-44a1-8560-ce19916f5b1e
DTSTART:20260425T100000
DTEND:20260425T110000
DESCRIPTION:Visit https://nasdathletics.org/main/event/scid/PA180673813/eve
 ntid/79790740 for more information! 
LOCATION:
SUMMARY:Northampton Area High School LAX G V Away Nazareth Area HS (*Non-Le
 ague*)
END:VEVENT
BEGIN:VEVENT
DTSTAMP:20260425T140230Z
UID:e7029fbd-bbca-4ceb-8cbf-29668eefeebc
DTSTART:20260425T110000
DTEND:20260425T120000
DESCRIPTION:Visit https://nasdathletics.org/main/event/scid/PA180673813/eve
 ntid/80660686 for more information! 
LOCATION:5351 Park West Lane Bethlehem\, PA 18017
SUMMARY:CANCELLED: Northampton Area High School BA B JH Home Moravian Acade
 my
END:VEVENT
BEGIN:VEVENT
DTSTAMP:20260425T140230Z
UID:687c17f2-5923-462c-a7c4-730daf79849a
DTSTART:20260425T113000
DTEND:20260425T123000
DESCRIPTION:Visit https://nasdathletics.org/main/event/scid/PA180673813/eve
 ntid/79790743 for more information! 
LOCATION:
SUMMARY:Northampton Area High School LAX G JV Away Nazareth Area HS (Non-Le
 ague)
END:VEVENT
BEGIN:VEVENT
DTSTAMP:20260425T140230Z
UID:f389d77d-96d0-4d87-a7a8-afe7d234ee29
DTSTART:20260425T130000
DTEND:20260425T140000
DESCRIPTION:Visit https://nasdathletics.org/main/event/scid/PA180673813/eve
 ntid/79789783 for more information! 
LOCATION:
SUMMARY:Northampton Area High School LAX B V Away Nazareth Area HS (Non-Lea
 gue)
END:VEVENT
BEGIN:VEVENT
DTSTAMP:20260425T140230Z
UID:d15fb285-c231-46f4-985b-4b072da99bef
DTSTART:20260425T143000
DTEND:20260425T153000
DESCRIPTION:Visit https://nasdathletics.org/main/event/scid/PA180673813/eve
 ntid/79789804 for more information! 
LOCATION:
SUMMARY:Northampton Area High School LAX B JV Away Nazareth Area HS (Non Le
 ague)
END:VEVENT
BEGIN:VEVENT
DTSTAMP:20260425T140230Z
UID:9fca30c3-aefa-4611-adeb-9a4613299028
DTSTART:20260425T170000
DTEND:20260425T180000
DESCRIPTION:Visit https://nasdathletics.org/main/event/scid/PA180673813/eve
 ntid/79926048 for more information! 
LOCATION:
SUMMARY:Northampton Area High School SB G JV Home OPEN (Tunkhannock HS / No
 n-League / Moore Twn Fields)
END:VEVENT
BEGIN:VEVENT
DTSTAMP:20260425T140230Z
UID:7ef74d9d-02b5-4b04-b2d0-3438324e042c
DTSTART:20260425T190000
DTEND:20260425T200000
DESCRIPTION:Visit https://nasdathletics.org/main/event/scid/PA180673813/eve
 ntid/79905100 for more information! 
LOCATION:
SUMMARY:Northampton Area High School SB G V Home OPEN (Tunkhannock HS / Non
 -League / Moore Twn Fields)
END:VEVENT
BEGIN:VEVENT
DTSTAMP:20260425T140230Z
UID:831841d6-c852-4097-aae0-3745ff06738b
DTSTART:20260427T160000
DTEND:20260427T170000
DESCRIPTION:Visit https://nasdathletics.org/main/event/scid/PA180673813/eve
 ntid/79381935 for more information! 
LOCATION:1619 Laubach Ave Northampton\, PA 18067
SUMMARY:Northampton Area High School SB G MS Home Nazareth Area MS
END:VEVENT
BEGIN:VEVENT
DTSTAMP:20260425T140230Z
UID:a4b5df24-2da6-49b1-b8c5-213def96232a
DTSTART:20260427T160000
DTEND:20260427T170000
DESCRIPTION:Visit https://nasdathletics.org/main/event/scid/PA180673813/eve
 ntid/79381859 for more information! 
LOCATION:1619 Laubach Ave Northampton\, PA 18067
SUMMARY:Northampton Area High School SOC BG MS Home Harrison-Morton Middle 
 School
END:VEVENT
BEGIN:VEVENT
DTSTAMP:20260425T140230Z
UID:1ffa0224-75cb-4f52-9bab-479788cf6619
DTSTART:20260427T161500
DTEND:20260427T171500
DESCRIPTION:Visit https://nasdathletics.org/main/event/scid/PA180673813/eve
 ntid/80894524 for more information! 
LOCATION:
SUMMARY:Northampton Area High School BA B JH Away Northwestern Lehigh
END:VEVENT
BEGIN:VEVENT
DTSTAMP:20260425T140230Z
UID:1800338e-c31d-4b95-97ff-0c6c8b7e2644
DTSTART:20260427T173000
DTEND:20260427T183000
DESCRIPTION:Visit https://nasdathletics.org/main/event/scid/PA180673813/eve
 ntid/79117556 for more information! 
LOCATION:
SUMMARY:Northampton Area High School VB B JV Away Parkland High School
END:VEVENT
BEGIN:VEVENT
DTSTAMP:20260425T140230Z
UID:392c7195-2801-4792-a212-e85ade2127cb
DTSTART:20260427T184500
DTEND:20260427T194500
DESCRIPTION:Visit https://nasdathletics.org/main/event/scid/PA180673813/eve
 ntid/79117408 for more information! 
LOCATION:
SUMMARY:Northampton Area High School VB B V Away Parkland High School
END:VEVENT
BEGIN:VEVENT
DTSTAMP:20260425T140230Z
UID:c2091973-05d0-4a39-9e27-dac04ec81e23
DTSTART:20260428T153000
DTEND:20260428T163000
DESCRIPTION:Visit https://nasdathletics.org/main/event/scid/PA180673813/eve
 ntid/80853338 for more information! 
LOCATION:1619 Laubach Ave Northampton\, PA 18067
SUMMARY:Northampton Area High School TR B V Home Bethlehem Catholic High Sc
 hool
END:VEVENT
BEGIN:VEVENT
DTSTAMP:20260425T140230Z
UID:b36f4022-0f0e-48d4-8632-ac537a6bf243
DTSTART:20260428T153000
DTEND:20260428T163000
DESCRIPTION:Visit https://nasdathletics.org/main/event/scid/PA180673813/eve
 ntid/80853342 for more information! 
LOCATION:1619 Laubach Ave Northampton\, PA 18067
SUMMARY:Northampton Area High School TR G V Home Bethlehem Catholic High Sc
 hool
END:VEVENT
BEGIN:VEVENT
DTSTAMP:20260425T140230Z
UID:37a4f359-6e32-47f5-ae14-f4386d58e242
DTSTART:20260428T160000
DTEND:20260428T170000
DESCRIPTION:Visit https://nasdathletics.org/main/event/scid/PA180673813/eve
 ntid/79116710 for more information! 
LOCATION:1619 Laubach Ave Northampton\, PA 18067
SUMMARY:Northampton Area High School BA B JV Home Nazareth Area HS
END:VEVENT
BEGIN:VEVENT
DTSTAMP:20260425T140230Z
UID:3ab7737f-4859-43b1-8435-9486d2407979
DTSTART:20260428T160000
DTEND:20260428T170000
DESCRIPTION:Visit https://nasdathletics.org/main/event/scid/PA180673813/eve
 ntid/79116560 for more information! 
LOCATION:
SUMMARY:Northampton Area High School BA B V Away Nazareth Area HS
END:VEVENT
BEGIN:VEVENT
DTSTAMP:20260425T140230Z
UID:a01dfd07-1f9f-4b29-b59b-a2f84a401614
DTSTART:20260428T160000
DTEND:20260428T170000
DESCRIPTION:Visit https://nasdathletics.org/main/event/scid/PA180673813/eve
 ntid/79117873 for more information! 
LOCATION:1619 Laubach Ave Northampton\, PA 18067
SUMMARY:Northampton Area High School LAX G V Home Northwestern Lehigh  ( )
END:VEVENT
BEGIN:VEVENT
DTSTAMP:20260425T140230Z
UID:dd3c8c2f-bade-49c6-98d2-2fc568d16f4a
DTSTART:20260428T160000
DTEND:20260428T170000
DESCRIPTION:Visit https://nasdathletics.org/main/event/scid/PA180673813/eve
 ntid/79117001 for more information! 
LOCATION:1619 Laubach Ave Northampton\, PA 18067
SUMMARY:Northampton Area High School SB G JV Home Nazareth Area HS
END:VEVENT
BEGIN:VEVENT
DTSTAMP:20260425T140230Z
UID:3a06b9b4-afde-4978-a5de-3af61cbc20d6
DTSTART:20260428T160000
DTEND:20260428T170000
DESCRIPTION:Visit https://nasdathletics.org/main/event/scid/PA180673813/eve
 ntid/79116855 for more information! 
LOCATION:
SUMMARY:Northampton Area High School SB G V Away Nazareth Area HS
END:VEVENT
BEGIN:VEVENT
DTSTAMP:20260425T140230Z
UID:5e7605d8-f546-4a3f-91ee-7cd5bf03c30c
DTSTART:20260428T160000
DTEND:20260428T170000
DESCRIPTION:Visit https://nasdathletics.org/main/event/scid/PA180673813/eve
 ntid/79381698 for more information! 
LOCATION:1619 Laubach Ave Northampton\, PA 18067
SUMMARY:Northampton Area High School VB B MS Home Whitehall Middle School
END:VEVENT
BEGIN:VEVENT
DTSTAMP:20260425T140230Z
UID:7237c7bf-c35a-4443-8d46-b41cdbd161ac
DTSTART:20260428T170000
DTEND:20260428T180000
DESCRIPTION:Visit https://nasdathletics.org/main/event/scid/PA180673813/eve
 ntid/79117768 for more information! 
LOCATION:
SUMMARY:CANCELLED: Northampton Area High School LAX B JV Away Northwestern 
 Lehigh
END:VEVENT
BEGIN:VEVENT
DTSTAMP:20260425T140230Z
UID:6db4199f-f41e-48dc-891f-0ecb01d96088
DTSTART:20260428T173000
DTEND:20260428T183000
DESCRIPTION:Visit https://nasdathletics.org/main/event/scid/PA180673813/eve
 ntid/79117974 for more information! 
LOCATION:1619 Laubach Ave Northampton\, PA 18067
SUMMARY:Northampton Area High School LAX G JV Home Northwestern Lehigh  (Se
 nior Night)
END:VEVENT
BEGIN:VEVENT
DTSTAMP:20260425T140230Z
UID:fb850dd2-7882-473d-8b9b-9ce90011f34c
DTSTART:20260428T180000
DTEND:20260428T190000
DESCRIPTION:Visit https://nasdathletics.org/main/event/scid/PA180673813/eve
 ntid/79117669 for more information! 
LOCATION:
SUMMARY:Northampton Area High School LAX B V Away Northwestern Lehigh
END:VEVENT
BEGIN:VEVENT
DTSTAMP:20260425T140230Z
UID:3d023c37-e4f1-4b86-a3bb-0b57ca2024af
DTSTART:20260429T160000
DTEND:20260429T170000
DESCRIPTION:Visit https://nasdathletics.org/main/event/scid/PA180673813/eve
 ntid/80660697 for more information! 
LOCATION:5351 Park West Lane Bethlehem\, PA 18017
SUMMARY:Northampton Area High School BA B JH Home Easton Area High School
END:VEVENT
BEGIN:VEVENT
DTSTAMP:20260425T140230Z
UID:56125247-b5bb-49e1-b6b7-058bb0fb093e
DTSTART:20260429T160000
DTEND:20260429T170000
DESCRIPTION:Visit https://nasdathletics.org/main/event/scid/PA180673813/eve
 ntid/79381953 for more information! 
LOCATION:
SUMMARY:Northampton Area High School SB G MS Away Northeast MS(Bethlehem)
END:VEVENT
BEGIN:VEVENT
DTSTAMP:20260425T140230Z
UID:d00627aa-4c71-4c6b-b1b1-491d4c1dc212
DTSTART:20260429T160000
DTEND:20260429T170000
DESCRIPTION:Visit https://nasdathletics.org/main/event/scid/PA180673813/eve
 ntid/79381860 for more information! 
LOCATION:
SUMMARY:Northampton Area High School SOC BG MS Away Francis D Raub Middle S
 chool
END:VEVENT
BEGIN:VEVENT
DTSTAMP:20260425T140230Z
UID:e2aaec74-87c5-452a-ad05-4819d7681556
DTSTART:20260429T163000
DTEND:20260429T173000
DESCRIPTION:Visit https://nasdathletics.org/main/event/scid/PA180673813/eve
 ntid/79117559 for more information! 
LOCATION:1619 Laubach Avenue Northampton\, PA 18067
SUMMARY:Northampton Area High School VB B JV Home Whitehall High School
END:VEVENT
BEGIN:VEVENT
DTSTAMP:20260425T140230Z
UID:665b7426-c6ea-4d9d-b4be-73c62b4499fd
DTSTART:20260429T173000
DTEND:20260429T183000
DESCRIPTION:Visit https://nasdathletics.org/main/event/scid/PA180673813/eve
 ntid/79117414 for more information! 
LOCATION:1619 Laubach Avenue Northampton\, PA 18067
SUMMARY:Northampton Area High School VB B V Home Whitehall High School
END:VEVENT
BEGIN:VEVENT
DTSTAMP:20260425T140230Z
UID:4036c19e-3a7f-447d-875f-13e92432914f
DTSTART:20260430T160000
DTEND:20260430T170000
DESCRIPTION:Visit https://nasdathletics.org/main/event/scid/PA180673813/eve
 ntid/79116719 for more information! 
LOCATION:
SUMMARY:Northampton Area High School BA B JV Away Bethlehem Freedom High Sc
 hool
END:VEVENT
BEGIN:VEVENT
DTSTAMP:20260425T140230Z
UID:c7a05189-8518-4f6d-a213-d9e97cce5702
DTSTART:20260430T160000
DTEND:20260430T170000
DESCRIPTION:Visit https://nasdathletics.org/main/event/scid/PA180673813/eve
 ntid/79117009 for more information! 
LOCATION:
SUMMARY:Northampton Area High School SB G JV Away Bethlehem Freedom High Sc
 hool
END:VEVENT
BEGIN:VEVENT
DTSTAMP:20260425T140230Z
UID:69772a4b-a4e2-4b4a-97f7-5a96c5de0539
DTSTART:20260430T160000
DTEND:20260430T170000
DESCRIPTION:Visit https://nasdathletics.org/main/event/scid/PA180673813/eve
 ntid/79116863 for more information! 
LOCATION:1619 Laubach Ave Northampton\, PA 18067
SUMMARY:Northampton Area High School SB G V Home Bethlehem Freedom High Sch
 ool (Senior Night)
END:VEVENT
BEGIN:VEVENT
DTSTAMP:20260425T140230Z
UID:4a3d5b7c-c41f-4b37-83a6-e2b3ea210301
DTSTART:20260430T160000
DTEND:20260430T170000
DESCRIPTION:Visit https://nasdathletics.org/main/event/scid/PA180673813/eve
 ntid/79381702 for more information! 
LOCATION:
SUMMARY:Northampton Area High School VB B MS Away Francis D Raub Middle Sch
 ool
END:VEVENT
BEGIN:VEVENT
DTSTAMP:20260425T140230Z
UID:6684a037-877a-48e0-b2ff-221c1b6623ad
DTSTART:20260430T170000
DTEND:20260430T180000
DESCRIPTION:Visit https://nasdathletics.org/main/event/scid/PA180673813/eve
 ntid/79117782 for more information! 
LOCATION:1619 Laubach Ave Northampton\, PA 18067
SUMMARY:CANCELLED: Northampton Area High School LAX B JV Home Pleasant Vall
 ey
END:VEVENT
BEGIN:VEVENT
DTSTAMP:20260425T140230Z
UID:30eebee1-52d7-4dd4-b032-a27a4b672523
DTSTART:20260430T173000
DTEND:20260430T183000
DESCRIPTION:Visit https://nasdathletics.org/main/event/scid/PA180673813/eve
 ntid/79117881 for more information! 
LOCATION:
SUMMARY:Northampton Area High School LAX G V Away Pleasant Valley
END:VEVENT
BEGIN:VEVENT
DTSTAMP:20260425T140230Z
UID:a38477e3-7aa5-403f-8ef6-7661bae5f97d
DTSTART:20260430T183000
DTEND:20260430T193000
DESCRIPTION:Visit https://nasdathletics.org/main/event/scid/PA180673813/eve
 ntid/79116567 for more information! 
LOCATION:1619 Laubach Ave Northampton\, PA 18067
SUMMARY:Northampton Area High School BA B V Home Bethlehem Freedom High Sch
 ool
END:VEVENT
BEGIN:VEVENT
DTSTAMP:20260425T140230Z
UID:28a94082-72e7-4a6f-9df8-58e6b6825cb9
DTSTART:20260430T183000
DTEND:20260430T193000
DESCRIPTION:Visit https://nasdathletics.org/main/event/scid/PA180673813/eve
 ntid/79117680 for more information! 
LOCATION:1619 Laubach Ave Northampton\, PA 18067
SUMMARY:Northampton Area High School LAX B V Home Pleasant Valley  (Senior 
 Night/Youth Night)
END:VEVENT
BEGIN:VEVENT
DTSTAMP:20260425T140230Z
UID:b253c59c-9969-45b5-b210-444cbe0841e4
DTSTART:20260430T190000
DTEND:20260430T200000
DESCRIPTION:Visit https://nasdathletics.org/main/event/scid/PA180673813/eve
 ntid/79117982 for more information! 
LOCATION:
SUMMARY:Northampton Area High School LAX G JV Away Pleasant Valley
END:VEVENT
BEGIN:VEVENT
DTSTAMP:20260425T140230Z
UID:55748f79-92f9-45b6-b568-a613e9d9547a
DTSTART:20260501T160000
DTEND:20260501T170000
DESCRIPTION:Visit https://nasdathletics.org/main/event/scid/PA180673813/eve
 ntid/79381961 for more information! 
LOCATION:1619 Laubach Ave Northampton\, PA 18067
SUMMARY:CANCELLED: Northampton Area High School SB G MS Home Bethlehem Cath
 olic High School
END:VEVENT
BEGIN:VEVENT
DTSTAMP:20260425T140230Z
UID:bf435589-ff88-4f00-a806-c8d1c1c1e23b
DTSTART:20260501T160000
DTEND:20260501T170000
DESCRIPTION:Visit https://nasdathletics.org/main/event/scid/PA180673813/eve
 ntid/79116628 for more information! 
LOCATION:1619 Laubach Ave Northampton\, PA 18067
SUMMARY:Northampton Area High School BA B JV Home Parkland High School
END:VEVENT
BEGIN:VEVENT
DTSTAMP:20260425T140230Z
UID:3bf6ee57-2826-408f-9940-63e4191117db
DTSTART:20260501T160000
DTEND:20260501T170000
DESCRIPTION:Visit https://nasdathletics.org/main/event/scid/PA180673813/eve
 ntid/80889924 for more information! 
LOCATION:49 S Liberty Street Nazareth\, PA 18064
SUMMARY:Northampton Area High School SB G MS Away Nazareth Area MS
END:VEVENT
BEGIN:VEVENT
DTSTAMP:20260425T140230Z
UID:668d612e-1e91-46b9-9200-2669f25d3031
DTSTART:20260501T160000
DTEND:20260501T170000
DESCRIPTION:Visit https://nasdathletics.org/main/event/scid/PA180673813/eve
 ntid/79381863 for more information! 
LOCATION:1619 Laubach Ave Northampton\, PA 18067
SUMMARY:Northampton Area High School SOC BG MS Home Trexler Middle School
END:VEVENT
BEGIN:VEVENT
DTSTAMP:20260425T140230Z
UID:922248d2-b955-431b-9657-7d82cd732c81
DTSTART:20260501T183000
DTEND:20260501T193000
DESCRIPTION:Visit https://nasdathletics.org/main/event/scid/PA180673813/eve
 ntid/79116472 for more information! 
LOCATION:
SUMMARY:Northampton Area High School BA B V Away Parkland High School
END:VEVENT
BEGIN:VEVENT
DTSTAMP:20260425T140230Z
UID:0b3cafd4-9e7a-45f8-ac52-b957db7aea41
DTSTART:20260504T160000
DTEND:20260504T170000
DESCRIPTION:Visit https://nasdathletics.org/main/event/scid/PA180673813/eve
 ntid/79117023 for more information! 
LOCATION:1619 Laubach Ave Northampton\, PA 18067
SUMMARY:CANCELLED: Northampton Area High School SB G JV Home Bethlehem Cath
 olic High School
END:VEVENT
BEGIN:VEVENT
DTSTAMP:20260425T140230Z
UID:14fbc36d-2ccd-4ac5-ab0a-34200628c872
DTSTART:20260504T160000
DTEND:20260504T170000
DESCRIPTION:Visit https://nasdathletics.org/main/event/scid/PA180673813/eve
 ntid/79116727 for more information! 
LOCATION:1619 Laubach Ave Northampton\, PA 18067
SUMMARY:Northampton Area High School BA B JV Home Bethlehem Catholic High S
 chool
END:VEVENT
BEGIN:VEVENT
DTSTAMP:20260425T140230Z
UID:ea656edc-1c84-45d3-ae48-6f274b06dab9
DTSTART:20260504T160000
DTEND:20260504T170000
DESCRIPTION:Visit https://nasdathletics.org/main/event/scid/PA180673813/eve
 ntid/80640411 for more information! 
LOCATION:
SUMMARY:Northampton Area High School BA B V Away Fleetwood Area (Non-League
 )
END:VEVENT
BEGIN:VEVENT
DTSTAMP:20260425T140230Z
UID:3c46cd31-9e93-4250-9c67-e3ab3a78850f
DTSTART:20260504T160000
DTEND:20260504T170000
DESCRIPTION:Visit https://nasdathletics.org/main/event/scid/PA180673813/eve
 ntid/79116876 for more information! 
LOCATION:
SUMMARY:Northampton Area High School SB G V Away Bethlehem Catholic High Sc
 hool
END:VEVENT
BEGIN:VEVENT
DTSTAMP:20260425T140230Z
UID:56baf9df-748b-4c96-8aed-c4292e7f013c
DTSTART:20260504T160000
DTEND:20260504T170000
DESCRIPTION:Visit https://nasdathletics.org/main/event/scid/PA180673813/eve
 ntid/79381710 for more information! 
LOCATION:1619 Laubach Ave Northampton\, PA 18067
SUMMARY:Northampton Area High School VB B MS Home Nazareth Area MS
END:VEVENT
BEGIN:VEVENT
DTSTAMP:20260425T140230Z
UID:c4b68d23-7fa7-48a2-a2e6-bf484fa96579
DTSTART:20260505T000000
DTEND:20260505T010000
DESCRIPTION:Visit https://nasdathletics.org/main/event/scid/PA180673813/eve
 ntid/80738078 for more information! 
LOCATION:
SUMMARY:Time: TBA -Northampton Area High School TR G V Away OPEN ( EPC Tour
 nament)
END:VEVENT
BEGIN:VEVENT
DTSTAMP:20260425T140230Z
UID:e3f31759-237e-445e-a2db-34a786f858ec
DTSTART:20260505T150000
DTEND:20260505T160000
DESCRIPTION:Visit https://nasdathletics.org/main/event/scid/PA180673813/eve
 ntid/80737994 for more information! 
LOCATION:
SUMMARY:Northampton Area High School TR B V Away OPEN ( EPC Tournament)
END:VEVENT
BEGIN:VEVENT
DTSTAMP:20260425T140230Z
UID:229c3e79-00a8-44e9-afaa-878ba201be8b
DTSTART:20260505T160000
DTEND:20260505T170000
DESCRIPTION:Visit https://nasdathletics.org/main/event/scid/PA180673813/eve
 ntid/80640417 for more information! 
LOCATION:1619 Laubach Ave Northampton\, PA 18067
SUMMARY:Northampton Area High School BA B JV Home Fleetwood Area (Non-Leagu
 e)
END:VEVENT
BEGIN:VEVENT
DTSTAMP:20260425T140230Z
UID:37690861-d011-445e-bf84-2a78dfa527ef
DTSTART:20260505T160000
DTEND:20260505T170000
DESCRIPTION:Visit https://nasdathletics.org/main/event/scid/PA180673813/eve
 ntid/79381964 for more information! 
LOCATION:
SUMMARY:Northampton Area High School SB G MS Away Whitehall Middle School
END:VEVENT
BEGIN:VEVENT
DTSTAMP:20260425T140230Z
UID:52dd49f1-c3ad-4654-bd97-888804a2dba4
DTSTART:20260505T160000
DTEND:20260505T170000
DESCRIPTION:Visit https://nasdathletics.org/main/event/scid/PA180673813/eve
 ntid/79381864 for more information! 
LOCATION:
SUMMARY:Northampton Area High School SOC BG MS Away South Mountain Middle S
 chool
END:VEVENT
BEGIN:VEVENT
DTSTAMP:20260425T140230Z
UID:5f582006-d74c-4e36-8600-ab3b142ebe83
DTSTART:20260505T173000
DTEND:20260505T183000
DESCRIPTION:Visit https://nasdathletics.org/main/event/scid/PA180673813/eve
 ntid/80660709 for more information! 
LOCATION:
SUMMARY:Northampton Area High School BA B JH Away Bangor Area
END:VEVENT
BEGIN:VEVENT
DTSTAMP:20260425T140230Z
UID:d6c2ea6f-9111-4fc5-8db8-3ce8eec30018
DTSTART:20260506T000000
DTEND:20260506T010000
DESCRIPTION:Visit https://nasdathletics.org/main/event/scid/PA180673813/eve
 ntid/80738080 for more information! 
LOCATION:
SUMMARY:Time: TBA -Northampton Area High School TR G V Away OPEN ( EPC Tour
 nament)
END:VEVENT
BEGIN:VEVENT
DTSTAMP:20260425T140230Z
UID:75ffef29-8072-4348-86d2-5be8ea4b7801
DTSTART:20260506T150000
DTEND:20260506T160000
DESCRIPTION:Visit https://nasdathletics.org/main/event/scid/PA180673813/eve
 ntid/80737999 for more information! 
LOCATION:
SUMMARY:Northampton Area High School TR B V Away OPEN (EPC Tournament)
END:VEVENT
BEGIN:VEVENT
DTSTAMP:20260425T140230Z
UID:e477f928-c2f5-448f-8aad-8a952cb9443f
DTSTART:20260506T160000
DTEND:20260506T170000
DESCRIPTION:Visit https://nasdathletics.org/main/event/scid/PA180673813/eve
 ntid/79381718 for more information! 
LOCATION:
SUMMARY:Northampton Area High School VB B MS Away Whitehall Middle School
END:VEVENT
BEGIN:VEVENT
DTSTAMP:20260425T140230Z
UID:c900ae61-9fc5-43de-8315-451be0e048c8
DTSTART:20260507T160000
DTEND:20260507T170000
DESCRIPTION:Visit https://nasdathletics.org/main/event/scid/PA180673813/eve
 ntid/79381865 for more information! 
LOCATION:1619 Laubach Ave Northampton\, PA 18067
SUMMARY:Northampton Area High School SOC BG MS Home Whitehall Middle School
END:VEVENT
BEGIN:VEVENT
DTSTAMP:20260425T140230Z
UID:dac91888-ec86-42d0-9a0b-fd8d4260470c
DTSTART:20260512T000000
DTEND:20260512T010000
DESCRIPTION:Visit https://nasdathletics.org/main/event/scid/PA180673813/eve
 ntid/80738095 for more information! 
LOCATION:
SUMMARY:Time: TBA -Northampton Area High School TR G V Away OPEN (District 
 XI Tournament)
END:VEVENT
BEGIN:VEVENT
DTSTAMP:20260425T140230Z
UID:97aa1666-fdad-4e6c-a9a7-568905819e22
DTSTART:20260512T150000
DTEND:20260512T160000
DESCRIPTION:Visit https://nasdathletics.org/main/event/scid/PA180673813/eve
 ntid/80737907 for more information! 
LOCATION:
SUMMARY:Northampton Area High School TR B V Away OPEN (District XI Tourname
 nt)
END:VEVENT
BEGIN:VEVENT
DTSTAMP:20260425T140230Z
UID:767dd8cd-4746-48b0-90bc-f2a11d9a5a2c
DTSTART:20260513T000000
DTEND:20260513T010000
DESCRIPTION:Visit https://nasdathletics.org/main/event/scid/PA180673813/eve
 ntid/80738100 for more information! 
LOCATION:
SUMMARY:Time: TBA -Northampton Area High School TR G V Away OPEN (District 
 XI Tournament)
END:VEVENT
BEGIN:VEVENT
DTSTAMP:20260425T140230Z
UID:47d662b3-4069-4705-8d47-cf7dae128041
DTSTART:20260513T150000
DTEND:20260513T160000
DESCRIPTION:Visit https://nasdathletics.org/main/event/scid/PA180673813/eve
 ntid/80737915 for more information! 
LOCATION:
SUMMARY:Northampton Area High School TR B V Away OPEN (District XI Tourname
 nt)
END:VEVENT
BEGIN:VEVENT
DTSTAMP:20260425T140230Z
UID:75b4acb9-61db-4c13-b7f4-3e8c217c39ce
DTSTART:20260522T000000
DTEND:20260522T010000
DESCRIPTION:Visit https://nasdathletics.org/main/event/scid/PA180673813/eve
 ntid/80737954 for more information! 
LOCATION:
SUMMARY:Time: TBA -Northampton Area High School TR B V Away OPEN (PIAA Tour
 nament)
END:VEVENT
BEGIN:VEVENT
DTSTAMP:20260425T140230Z
UID:18157c62-1a0c-4cbc-85f0-b846949a4c06
DTSTART:20260522T000000
DTEND:20260522T010000
DESCRIPTION:Visit https://nasdathletics.org/main/event/scid/PA180673813/eve
 ntid/80738131 for more information! 
LOCATION:
SUMMARY:Time: TBA -Northampton Area High School TR G V Away OPEN (PIAA Tour
 nament)
END:VEVENT
BEGIN:VEVENT
DTSTAMP:20260425T140230Z
UID:eef2520d-f2d6-4955-9ef1-30e7572ea97f
DTSTART:20260523T000000
DTEND:20260523T010000
DESCRIPTION:Visit https://nasdathletics.org/main/event/scid/PA180673813/eve
 ntid/80737965 for more information! 
LOCATION:
SUMMARY:Time: TBA -Northampton Area High School TR B V Away OPEN (PIAA Tour
 nament)
END:VEVENT
BEGIN:VEVENT
DTSTAMP:20260425T140230Z
UID:780782d1-e9e6-483e-b362-a17999ea8892
DTSTART:20260523T000000
DTEND:20260523T010000
DESCRIPTION:Visit https://nasdathletics.org/main/event/scid/PA180673813/eve
 ntid/80738135 for more information! 
LOCATION:
SUMMARY:Time: TBA -Northampton Area High School TR G V Away OPEN (PIAA Tour
 nament)
END:VEVENT
END:VCALENDAR
