BEGIN:VCALENDAR
VERSION:2.0
PRODID:icalendar-ruby
CALSCALE:GREGORIAN
BEGIN:VTIMEZONE
TZID:America/Chicago
BEGIN:DAYLIGHT
DTSTART:20260308T030000
TZOFFSETFROM:-0600
TZOFFSETTO:-0500
RRULE:FREQ=YEARLY;BYDAY=2SU;BYMONTH=3
TZNAME:CDT
END:DAYLIGHT
BEGIN:STANDARD
DTSTART:20261101T010000
TZOFFSETFROM:-0500
TZOFFSETTO:-0600
RRULE:FREQ=YEARLY;BYDAY=1SU;BYMONTH=11
TZNAME:CST
END:STANDARD
END:VTIMEZONE
BEGIN:VEVENT
DTSTAMP:20260423T144714Z
UID:b37b0264-3a5c-437a-a508-b1e1ef2a9b19
DTSTART;VALUE=DATE:20260507
DTEND;VALUE=DATE:20260508
DESCRIPTION:
LOCATION:
SUMMARY:All School Mass - May Crowning/Blessings of Cap/Gowns
END:VEVENT
BEGIN:VEVENT
DTSTAMP:20260423T144714Z
UID:ac2f6e34-061b-4f5c-8f8f-56dc22f0bae5
DTSTART;VALUE=DATE:20260513
DTEND;VALUE=DATE:20260514
DESCRIPTION:
LOCATION:
SUMMARY:Eighth Grade Promotion
END:VEVENT
BEGIN:VEVENT
DTSTAMP:20260423T144714Z
UID:8859bc70-b7d4-47ae-8703-ebb34d061f24
DTSTART;VALUE=DATE:20260514
DTEND;VALUE=DATE:20260515
DESCRIPTION:
LOCATION:
SUMMARY:Senior Honors Night
END:VEVENT
BEGIN:VEVENT
DTSTAMP:20260423T144714Z
UID:a2899d2b-2794-4cd0-888c-600975ff93fe
DTSTART;VALUE=DATE:20260515
DTEND;VALUE=DATE:20260516
DESCRIPTION:
LOCATION:
SUMMARY:Grades 7-11 Honors Assembly
END:VEVENT
BEGIN:VEVENT
DTSTAMP:20260423T144714Z
UID:9443cf93-1695-49bb-af1c-5a84a91de4ac
DTSTART;VALUE=DATE:20260517
DTEND;VALUE=DATE:20260518
DESCRIPTION:
LOCATION:Holy Family Catholic Church\, 444 E Main St\, Danville\, IL 61832\
 , USA
SUMMARY:High School Graduation
END:VEVENT
BEGIN:VEVENT
DTSTAMP:20260423T144714Z
UID:b2804930-a58a-4e53-858b-214a5f9a73cb
DTSTART;VALUE=DATE:20260520
DTEND;VALUE=DATE:20260523
DESCRIPTION:
LOCATION:
SUMMARY:Semester Exams (North Campus)
END:VEVENT
BEGIN:VEVENT
DTSTAMP:20260423T144714Z
UID:6ed96d51-36c3-4844-b49b-a6c0dba34eba
DTSTART;VALUE=DATE:20260522
DTEND;VALUE=DATE:20260523
DESCRIPTION:
LOCATION:
SUMMARY:End of Second Semester (North Campus)
END:VEVENT
BEGIN:VEVENT
DTSTAMP:20260423T144714Z
UID:d399131e-0f7d-4e76-b8b6-07501fce9e4f
DTSTART;VALUE=DATE:20260522
DTEND;VALUE=DATE:20260523
DESCRIPTION:
LOCATION:
SUMMARY:Last Day of School
END:VEVENT
BEGIN:VEVENT
DTSTAMP:20260423T144714Z
UID:3b82f946-4208-49e1-ae8d-95777499ba01
DTSTART;VALUE=DATE:20260522
DTEND;VALUE=DATE:20260523
DESCRIPTION:
LOCATION:
SUMMARY:No After Care
END:VEVENT
BEGIN:VEVENT
DTSTAMP:20260423T144714Z
UID:9a06278e-72ca-4ac9-8963-5e1a7f80f5ca
DTSTART:20260522T120000
DTEND:20260522T130000
DESCRIPTION:
LOCATION:
SUMMARY:Dismissal (South Campus)
END:VEVENT
BEGIN:VEVENT
DTSTAMP:20260423T144714Z
UID:2ff263f7-c8a4-4c82-93c7-3f9a132dc7ba
DTSTART;VALUE=DATE:20260525
DTEND;VALUE=DATE:20260526
DESCRIPTION:
LOCATION:
SUMMARY:Memorial Day (No School)
END:VEVENT
BEGIN:VEVENT
DTSTAMP:20260423T144714Z
UID:e350d8c8-05b8-4703-923f-c4471e8a8dc6
DTSTART;VALUE=DATE:20260526
DTEND;VALUE=DATE:20260527
DESCRIPTION:
LOCATION:
SUMMARY:Teacher Inservice Day (No Student Attendance)
END:VEVENT
BEGIN:VEVENT
DTSTAMP:20260423T144714Z
UID:dcbac7e8-7f54-4137-a05e-e50e51fcc242
DTSTART;VALUE=DATE:20260527
DTEND;VALUE=DATE:20260528
DESCRIPTION:
LOCATION:
SUMMARY:Emergency Day #1
END:VEVENT
BEGIN:VEVENT
DTSTAMP:20260423T144714Z
UID:a83ba627-5597-4b4e-909a-80f39463e8f3
DTSTART;VALUE=DATE:20260528
DTEND;VALUE=DATE:20260529
DESCRIPTION:
LOCATION:
SUMMARY:Emergency Day #2
END:VEVENT
BEGIN:VEVENT
DTSTAMP:20260423T144714Z
UID:abb89989-2f6f-4aca-975f-40cfee79487c
DTSTART;VALUE=DATE:20260529
DTEND;VALUE=DATE:20260530
DESCRIPTION:
LOCATION:
SUMMARY:Emergency Day #3
END:VEVENT
BEGIN:VEVENT
DTSTAMP:20260423T144714Z
UID:593ce9e1-02d9-44f4-902b-aff6727e73e5
DTSTART;VALUE=DATE:20260601
DTEND;VALUE=DATE:20260602
DESCRIPTION:
LOCATION:
SUMMARY:Emergency Day #4
END:VEVENT
BEGIN:VEVENT
DTSTAMP:20260423T144714Z
UID:60842648-8eb1-405c-950d-3487195b6e79
DTSTART;VALUE=DATE:20260602
DTEND;VALUE=DATE:20260603
DESCRIPTION:
LOCATION:
SUMMARY:Emergency Day #5
END:VEVENT
END:VCALENDAR
