BEGIN:VCALENDAR
VERSION:2.0
PRODID:icalendar-ruby
CALSCALE:GREGORIAN
BEGIN:VTIMEZONE
TZID:America/Chicago
BEGIN:DAYLIGHT
DTSTART:20260308T030000
TZOFFSETFROM:-0600
TZOFFSETTO:-0500
RRULE:FREQ=YEARLY;BYDAY=2SU;BYMONTH=3
TZNAME:CDT
END:DAYLIGHT
BEGIN:STANDARD
DTSTART:20261101T010000
TZOFFSETFROM:-0500
TZOFFSETTO:-0600
RRULE:FREQ=YEARLY;BYDAY=1SU;BYMONTH=11
TZNAME:CST
END:STANDARD
END:VTIMEZONE
BEGIN:VEVENT
DTSTAMP:20260419T131000Z
UID:cfef92cf-4a64-409b-b094-79e476eb1dbe
DTSTART;VALUE=DATE:20260421
DTEND;VALUE=DATE:20260422
DESCRIPTION:<p>Game will start at 6pm. The Baseball Senior Night Ceremony w
 ill begin at 5:20pm.</p>
LOCATION:
SUMMARY:Baseball Game/Senior Night - Home @ 6pm
END:VEVENT
BEGIN:VEVENT
DTSTAMP:20260419T131000Z
UID:4108c895-f775-4371-a6e8-2caeaad6c0fa
DTSTART;VALUE=DATE:20260423
DTEND;VALUE=DATE:20260424
DESCRIPTION:
LOCATION:
SUMMARY:Athletics Scholarship Deadline
END:VEVENT
BEGIN:VEVENT
DTSTAMP:20260419T131000Z
UID:96c4a9ab-e783-483e-9345-5e425c99b9fb
DTSTART:20260425T193000
DTEND:20260425T230000
DESCRIPTION:<p>Dont forget to purchase your prom tickets! </p><p><a target=
 "_blank" rel="noopener noreferrer nofollow" href="https://www.zeffy.com/en
 -US/ticketing/prom--2026-4" relative-link="">CLICK HERE to purchase your p
 rom tickets!</a></p>
LOCATION:10271 FM 2813\, Flint\, TX 75762\, USA
SUMMARY:CAHS Prom
END:VEVENT
BEGIN:VEVENT
DTSTAMP:20260419T131000Z
UID:e4b3e014-5d52-46f1-8ceb-2797798a8df7
DTSTART;VALUE=DATE:20260428
DTEND;VALUE=DATE:20260430
DESCRIPTION:
LOCATION:
SUMMARY:Middle School Musical Rehearsals
END:VEVENT
BEGIN:VEVENT
DTSTAMP:20260419T131000Z
UID:109cbc2b-7b3e-447d-9b4c-267db5dd8646
DTSTART:20260429T133000
DTEND:20260429T143000
DESCRIPTION:<p>Location will be in the PAC Lobby.</p>
LOCATION:
SUMMARY:Athletics Signing
END:VEVENT
BEGIN:VEVENT
DTSTAMP:20260419T131000Z
UID:6f20c316-ee62-4f57-a90f-ed7a33f60660
DTSTART;VALUE=DATE:20260501
DTEND;VALUE=DATE:20260502
DESCRIPTION:
LOCATION:
SUMMARY:Principal’s Day
END:VEVENT
BEGIN:VEVENT
DTSTAMP:20260419T131000Z
UID:cd6de48e-ed15-4fee-b0c1-654849f77378
DTSTART:20260501T100000
DTEND:20260501T110000
DESCRIPTION:<p>CAHS will be honoring our students who will be joining our n
 ation's armed forces! Parents and Recruiters of the students who will be s
 igning are welcome! </p>
LOCATION:Marker Space at CAHS
SUMMARY:Military Brunch
END:VEVENT
BEGIN:VEVENT
DTSTAMP:20260419T131000Z
UID:4e79d629-3636-43fa-a71e-38ee3b076e08
DTSTART:20260501T183000
DTEND:20260501T193000
DESCRIPTION:
LOCATION:
SUMMARY:Middle School Musical Performance
END:VEVENT
BEGIN:VEVENT
DTSTAMP:20260419T131000Z
UID:ceb53cbc-1329-4313-90ed-4a81097d006b
DTSTART;VALUE=DATE:20260502
DTEND;VALUE=DATE:20260503
DESCRIPTION:
LOCATION:
SUMMARY:Bass Fishing Meet - Palestine
END:VEVENT
BEGIN:VEVENT
DTSTAMP:20260419T131000Z
UID:9102bedf-61a6-4196-98d0-1d2c8dfa8154
DTSTART;VALUE=DATE:20260504
DTEND;VALUE=DATE:20260509
DESCRIPTION:
LOCATION:
SUMMARY:Teacher Appreciation Week
END:VEVENT
BEGIN:VEVENT
DTSTAMP:20260419T131000Z
UID:30c14c3a-e24a-4a20-970f-eed3818b36bc
DTSTART:20260505T183000
DTEND:20260505T193000
DESCRIPTION:
LOCATION:
SUMMARY:Middle School & High School Orchestra Concert
END:VEVENT
BEGIN:VEVENT
DTSTAMP:20260419T131000Z
UID:8f6c0485-a008-4274-8ced-9f121a186398
DTSTART;VALUE=DATE:20260506
DTEND;VALUE=DATE:20260507
DESCRIPTION:
LOCATION:
SUMMARY:School Nurse Day
END:VEVENT
BEGIN:VEVENT
DTSTAMP:20260419T131000Z
UID:beb47e80-5142-47a6-b413-8c1509144499
DTSTART:20260506T111500
DTEND:20260506T130000
DESCRIPTION:
LOCATION:
SUMMARY:Kona Ice Day
END:VEVENT
BEGIN:VEVENT
DTSTAMP:20260419T131000Z
UID:1499c6d4-064b-46a2-b1be-cea3e9f4deee
DTSTART:20260507T183000
DTEND:20260507T193000
DESCRIPTION:
LOCATION:
SUMMARY:Middle School & High School Band Concert
END:VEVENT
BEGIN:VEVENT
DTSTAMP:20260419T131000Z
UID:dc581140-96d8-4e9c-9e7a-8c9f3f549d04
DTSTART:20260508T180000
DTEND:20260508T190000
DESCRIPTION:
LOCATION:
SUMMARY:TLA Spring Concert
END:VEVENT
BEGIN:VEVENT
DTSTAMP:20260419T131000Z
UID:0d7daf24-b818-4433-b981-6d6b5ef2ae80
DTSTART:20260509T183000
DTEND:20260509T193000
DESCRIPTION:
LOCATION:7200 Paluxy Dr\, Tyler\, TX 75703\, USA
SUMMARY:Fine Arts Banquet in the Upper Gym
END:VEVENT
BEGIN:VEVENT
DTSTAMP:20260419T131000Z
UID:103f419a-91c9-43d3-b8ed-f727119a0441
DTSTART:20260512T090000
DTEND:20260512T103000
DESCRIPTION:
LOCATION:
SUMMARY:Senior Awards Ceremony
END:VEVENT
BEGIN:VEVENT
DTSTAMP:20260419T131000Z
UID:d549ea3b-cc9e-4af2-a72e-09c16913ea30
DTSTART:20260512T183000
DTEND:20260512T200000
DESCRIPTION:<p>Join us for the Athletic Awards Banquet on May 12th\, 2026 a
 t 6:30pm in the PAC Building.</p><p>All athletes are invited. Casual dress
 . Refreshments to follow.</p>
LOCATION:
SUMMARY:Athletic Awards Banquet
END:VEVENT
BEGIN:VEVENT
DTSTAMP:20260419T131000Z
UID:1d87b9d9-c2d1-421c-851a-e80412225814
DTSTART;VALUE=DATE:20260514
DTEND;VALUE=DATE:20260515
DESCRIPTION:
LOCATION:
SUMMARY:Senior Commitment Signing
END:VEVENT
BEGIN:VEVENT
DTSTAMP:20260419T131000Z
UID:c448bf9b-c131-4ea3-a040-f2dfac28f707
DTSTART:20260514T190000
DTEND:20260514T210000
DESCRIPTION:<p>Come out and see our Seniors in their Theatre Showcase!</p>
LOCATION:
SUMMARY:Theatre Senior Showcase
END:VEVENT
BEGIN:VEVENT
DTSTAMP:20260419T131000Z
UID:f22a086c-d95b-4dc7-a17d-05cd8fdc92d9
DTSTART;VALUE=DATE:20260518
DTEND;VALUE=DATE:20260519
DESCRIPTION:
LOCATION:
SUMMARY:Speech Pathologist Day
END:VEVENT
BEGIN:VEVENT
DTSTAMP:20260419T131000Z
UID:8908f56d-9122-4436-a2df-feb7c8293e79
DTSTART;VALUE=DATE:20260520
DTEND;VALUE=DATE:20260521
DESCRIPTION:
LOCATION:
SUMMARY:Senior Breakfast / Campus Walks
END:VEVENT
BEGIN:VEVENT
DTSTAMP:20260419T131000Z
UID:6108bb7d-1e49-40f2-a919-5bece2be11c8
DTSTART;VALUE=DATE:20260521
DTEND;VALUE=DATE:20260522
DESCRIPTION:
LOCATION:
SUMMARY:CAHS Early Release- Last day of School
END:VEVENT
BEGIN:VEVENT
DTSTAMP:20260419T131000Z
UID:8722af25-b6ad-4cef-b478-a2f755c20217
DTSTART:20260521T150000
DTEND:20260521T160000
DESCRIPTION:<p>Rehearsals will begin at 3PM at UT Tyler Patriot Center. Stu
 dents may leave once finished and approved to do so.</p>
LOCATION:3900 University Blvd\, Tyler\, TX 75799\, USA
SUMMARY:Senior Graduation Rehearsal
END:VEVENT
BEGIN:VEVENT
DTSTAMP:20260419T131000Z
UID:0222a5d2-64a8-454f-9ef7-54fffd80e8ca
DTSTART:20260521T193000
DTEND:20260521T203000
DESCRIPTION:
LOCATION:
SUMMARY:Senior Sunset
END:VEVENT
BEGIN:VEVENT
DTSTAMP:20260419T131000Z
UID:ab00a360-5c0f-4981-b592-ea049f15453b
DTSTART;VALUE=DATE:20260522
DTEND;VALUE=DATE:20260523
DESCRIPTION:
LOCATION:
SUMMARY:Teacher InService 
END:VEVENT
BEGIN:VEVENT
DTSTAMP:20260419T131000Z
UID:2db3039a-b09f-4024-a317-8c3ef6467e20
DTSTART:20260522T183000
DTEND:20260522T200000
DESCRIPTION:<p>Class of 2026 Graduation for Cumberland Academy High School 
 will be on May 22nd\, 2026.</p><p style="text-align: left">Location: UT Ty
 ler Patriot Center</p><p style="text-align: left">3900 University Blvd. Ty
 ler\, Tx 75799</p><p style="text-align: left">Graduation will begin at 6:3
 0pm and the doors will open at 5:30pm</p><p style="text-align: left">Reher
 sal: May 21st\, 2026 at 3:00pm @ UT Tyler Patriot Center</p><p><br></p>
LOCATION:3900 University Blvd\, Tyler\, TX 75799\, USA
SUMMARY:2026 Senior Graduation
END:VEVENT
BEGIN:VEVENT
DTSTAMP:20260419T131000Z
UID:bbb8da1c-b300-42c4-acd4-b32bf92a781b
DTSTART;VALUE=DATE:20260525
DTEND;VALUE=DATE:20260526
DESCRIPTION:
LOCATION:
SUMMARY:Memorial Day
END:VEVENT
BEGIN:VEVENT
DTSTAMP:20260419T131000Z
UID:95d0f4cf-7500-44e9-81f8-71f654dbac22
DTSTART;VALUE=DATE:20260526
DTEND;VALUE=DATE:20260527
DESCRIPTION:
LOCATION:
SUMMARY:Teacher InService 
END:VEVENT
BEGIN:VEVENT
DTSTAMP:20260419T131000Z
UID:d4b955d9-1d32-43ad-a620-131bdef6858f
DTSTART;VALUE=DATE:20260527
DTEND;VALUE=DATE:20260528
DESCRIPTION:
LOCATION:
SUMMARY:Teacher InService 
END:VEVENT
END:VCALENDAR
