BEGIN:VCALENDAR
VERSION:2.0
PRODID:icalendar-ruby
CALSCALE:GREGORIAN
BEGIN:VTIMEZONE
TZID:America/Chicago
BEGIN:DAYLIGHT
DTSTART:20260308T030000
TZOFFSETFROM:-0600
TZOFFSETTO:-0500
RRULE:FREQ=YEARLY;BYDAY=2SU;BYMONTH=3
TZNAME:CDT
END:DAYLIGHT
BEGIN:STANDARD
DTSTART:20261101T010000
TZOFFSETFROM:-0500
TZOFFSETTO:-0600
RRULE:FREQ=YEARLY;BYDAY=1SU;BYMONTH=11
TZNAME:CST
END:STANDARD
END:VTIMEZONE
BEGIN:VEVENT
DTSTAMP:20260423T194844Z
UID:4d130c74-82b7-4e57-8eed-d6533f3f30b2
DTSTART:20260423T080000
DTEND:20260423T153000
DESCRIPTION:
LOCATION:
SUMMARY:STAAR Assessment - Science 8
END:VEVENT
BEGIN:VEVENT
DTSTAMP:20260423T194844Z
UID:b095e741-71ae-4e3a-9a1b-e74958b2f640
DTSTART:20260424T080000
DTEND:20260424T153000
DESCRIPTION:
LOCATION:
SUMMARY:STAAR Assessment - Science 8 (Make-ups)
END:VEVENT
BEGIN:VEVENT
DTSTAMP:20260423T194844Z
UID:b18c6126-89bc-4525-b3fa-409258291e56
DTSTART;VALUE=DATE:20260428
DTEND;VALUE=DATE:20260430
DESCRIPTION:
LOCATION:
SUMMARY:Middle School Musical Rehearsals @ PAC
END:VEVENT
BEGIN:VEVENT
DTSTAMP:20260423T194844Z
UID:9e5c38d2-08ac-42fb-95e8-eaad8d9781a8
DTSTART:20260428T080000
DTEND:20260428T153000
DESCRIPTION:
LOCATION:
SUMMARY:STAAR Assessment - Math 6-8 & Algebra I
END:VEVENT
BEGIN:VEVENT
DTSTAMP:20260423T194844Z
UID:17205259-c300-403e-8be2-e4b0097ac318
DTSTART:20260429T080000
DTEND:20260429T153000
DESCRIPTION:
LOCATION:
SUMMARY:STAAR Assessment - Math 6-8 & Algebra I (Make-ups)
END:VEVENT
BEGIN:VEVENT
DTSTAMP:20260423T194844Z
UID:700a0edc-c4e3-4446-a553-e2462d4872c2
DTSTART:20260430T173000
DTEND:20260430T183000
DESCRIPTION:<p>Topics being discussed:</p><ul><li><p>New officers</p></li><
 li><p>Spring Fling</p></li><li><p>Field Day</p></li><li><p>8th Grade Comme
 ncement&nbsp\;</p></li></ul>
LOCATION:
SUMMARY:PTO Meeting
END:VEVENT
BEGIN:VEVENT
DTSTAMP:20260423T194844Z
UID:1424f03a-ba83-4fe2-a6e8-330e9582f48d
DTSTART;VALUE=DATE:20260501
DTEND;VALUE=DATE:20260502
DESCRIPTION:
LOCATION:
SUMMARY:Principal Appreciation Day
END:VEVENT
BEGIN:VEVENT
DTSTAMP:20260423T194844Z
UID:0550f1c9-707c-46c8-b84b-3e641be091f4
DTSTART:20260501T183000
DTEND:20260502T193000
DESCRIPTION:
LOCATION:7200 Paluxy Dr\, Tyler\, TX 75703\, USA
SUMMARY:Middle School Musical Performance @ PAC
END:VEVENT
BEGIN:VEVENT
DTSTAMP:20260423T194844Z
UID:d58cb89f-becc-4106-8e3e-c17d838a2166
DTSTART;VALUE=DATE:20260504
DTEND;VALUE=DATE:20260509
DESCRIPTION:
LOCATION:
SUMMARY:Teacher Appreciation Week
END:VEVENT
BEGIN:VEVENT
DTSTAMP:20260423T194844Z
UID:42321ee4-2803-4658-bf7c-eb4557e09dcb
DTSTART:20260505T183000
DTEND:20260505T193000
DESCRIPTION:
LOCATION:7200 Paluxy Dr\, Tyler\, TX 75703\, USA
SUMMARY:Middle School & High School Orchestra Concert @ PAC
END:VEVENT
BEGIN:VEVENT
DTSTAMP:20260423T194844Z
UID:32358de7-d7db-43a6-bfd3-82a318b669bd
DTSTART;VALUE=DATE:20260506
DTEND;VALUE=DATE:20260507
DESCRIPTION:
LOCATION:
SUMMARY:School Nurse Appreciation Day
END:VEVENT
BEGIN:VEVENT
DTSTAMP:20260423T194844Z
UID:de818aad-624f-4e34-a770-f2397d05eb3f
DTSTART:20260506T111500
DTEND:20260506T130000
DESCRIPTION:<p><span>Kona Ice will be available during both lunches.&nbsp\;
 </span></p><p><span>- Classic: $4</span></p><p><span>- Large: $5</span></p
 ><p><span>- Color Changing Cup: $6</span></p><p><span>- Souvenir Cup: $7</
 span></p><p><span>- Refills for Color Changing &amp\; Souvenir Cup: $3</sp
 an></p>
LOCATION:
SUMMARY:Kona Ice Day @ CAMS
END:VEVENT
BEGIN:VEVENT
DTSTAMP:20260423T194844Z
UID:4156c684-30b9-42a3-a433-26116ec5ca3f
DTSTART:20260507T183000
DTEND:20260507T193000
DESCRIPTION:
LOCATION:7200 Paluxy Dr\, Tyler\, TX 75703\, USA
SUMMARY:Middle School & High School Band Concert @ PAC
END:VEVENT
BEGIN:VEVENT
DTSTAMP:20260423T194844Z
UID:b5d0ec93-8069-45b1-825f-9e055e119425
DTSTART;VALUE=DATE:20260508
DTEND;VALUE=DATE:20260509
DESCRIPTION:
LOCATION:
SUMMARY:6th & 7th Grade Field Trip
END:VEVENT
BEGIN:VEVENT
DTSTAMP:20260423T194844Z
UID:d15a08e3-ee5c-42b9-b019-5994200406b7
DTSTART:20260508T180000
DTEND:20260508T200000
DESCRIPTION:
LOCATION:
SUMMARY:Spring Fling Dance
END:VEVENT
BEGIN:VEVENT
DTSTAMP:20260423T194844Z
UID:1ea4c160-8bda-4dce-8e8b-139924476c4f
DTSTART:20260508T180000
DTEND:20260508T190000
DESCRIPTION:
LOCATION:7200 Paluxy Dr\, Tyler\, TX 75703\, USA
SUMMARY:TLA Spring Concert @ PAC
END:VEVENT
BEGIN:VEVENT
DTSTAMP:20260423T194844Z
UID:c5f9ea94-8b74-455a-8765-c70d402b3d57
DTSTART:20260509T183000
DTEND:20260509T193000
DESCRIPTION:
LOCATION:7200 Paluxy Dr\, Tyler\, TX 75703\, USA
SUMMARY:Fine Arts Banquet in the Upper Gym
END:VEVENT
BEGIN:VEVENT
DTSTAMP:20260423T194844Z
UID:e574eb31-edf9-4cbd-81da-699c2fad19de
DTSTART;VALUE=DATE:20260513
DTEND;VALUE=DATE:20260514
DESCRIPTION:
LOCATION:
SUMMARY:8th Grade Field Trip
END:VEVENT
BEGIN:VEVENT
DTSTAMP:20260423T194844Z
UID:414d0ca3-b8f4-4d3b-aa90-d05009ed03e1
DTSTART;VALUE=DATE:20260515
DTEND;VALUE=DATE:20260516
DESCRIPTION:
LOCATION:
SUMMARY:Field Day
END:VEVENT
BEGIN:VEVENT
DTSTAMP:20260423T194844Z
UID:570791cb-055d-4f4b-bed7-9a79d5eb0980
DTSTART:20260515T144500
DTEND:20260515T151500
DESCRIPTION:
LOCATION:
SUMMARY:Pep Rally
END:VEVENT
BEGIN:VEVENT
DTSTAMP:20260423T194844Z
UID:5493e6c1-8127-40b7-b7af-409b74e9ab40
DTSTART:20260515T180000
DTEND:20260515T200000
DESCRIPTION:
LOCATION:7200 Paluxy Dr\, Tyler\, TX 75703\, USA
SUMMARY:Theatre Arts Show
END:VEVENT
BEGIN:VEVENT
DTSTAMP:20260423T194844Z
UID:72ded408-bf9d-47c1-b4e1-59362295cecd
DTSTART;VALUE=DATE:20260518
DTEND;VALUE=DATE:20260519
DESCRIPTION:
LOCATION:
SUMMARY:Speech Pathologist Appreciation Day
END:VEVENT
BEGIN:VEVENT
DTSTAMP:20260423T194844Z
UID:fb38b833-f8ac-4e0c-95ed-2786869b3e0f
DTSTART:20260519T180000
DTEND:20260519T200000
DESCRIPTION:<p>We are excited to announce the <strong>8th Grade Graduation 
 Ceremony</strong> for our 8th-grade students!</p><p style="text-align: lef
 t">📅 <strong>Date:</strong> May 19\, 2026<br>📍 <strong>Location:</st
 rong> CAHS Performing Arts Center (PAC)<br>⏰ <strong>Time:</strong> 6:00
  PM</p><p style="text-align: left">This is a special milestone for our stu
 dents\, and we look forward to celebrating their accomplishments as they t
 ransition to high school.</p><p style="text-align: left">Please note that 
 <strong>balloons (non-latex) or other items that may obstruct the view of 
 others will not be permitted</strong> inside the PAC. We appreciate your c
 ooperation in helping us ensure all families can enjoy the ceremony.</p><p
  style="text-align: left">Additional details regarding the ceremony will b
 e shared soon. Please mark your calendars and plan to join us for this mem
 orable event.</p>
LOCATION:7200 Paluxy Dr\, Tyler\, TX 75703\, USA
SUMMARY:8th Grade Graduation Ceremony
END:VEVENT
BEGIN:VEVENT
DTSTAMP:20260423T194844Z
UID:22767886-48d0-4fc4-8022-10545611d43c
DTSTART;VALUE=DATE:20260521
DTEND;VALUE=DATE:20260522
DESCRIPTION:<p>CALE: 1:15pm</p><p>CAUE: 1:15pm</p><p>CAMS: 1:25pm</p><p>CAH
 S: 1:25pm</p><p>TLA: 12:30pm</p><p>No EDP (No After School Care available 
 on early release days)</p>
LOCATION:
SUMMARY:Early Release Day
END:VEVENT
BEGIN:VEVENT
DTSTAMP:20260423T194844Z
UID:57a80e67-807b-438a-ab27-39f278daf13d
DTSTART;VALUE=DATE:20260522
DTEND;VALUE=DATE:20260523
DESCRIPTION:
LOCATION:
SUMMARY:Teacher Inservice
END:VEVENT
BEGIN:VEVENT
DTSTAMP:20260423T194844Z
UID:788dd46e-a8d7-457d-acff-5420723b60f0
DTSTART;VALUE=DATE:20260525
DTEND;VALUE=DATE:20260526
DESCRIPTION:
LOCATION:
SUMMARY:Memorial Day
END:VEVENT
BEGIN:VEVENT
DTSTAMP:20260423T194844Z
UID:6ad066af-bef9-48be-b4e5-ad851281083e
DTSTART;VALUE=DATE:20260526
DTEND;VALUE=DATE:20260527
DESCRIPTION:
LOCATION:
SUMMARY:Teacher Inservice
END:VEVENT
BEGIN:VEVENT
DTSTAMP:20260423T194844Z
UID:6eb83330-1a4f-4b08-93de-eaeffb232fab
DTSTART;VALUE=DATE:20260527
DTEND;VALUE=DATE:20260528
DESCRIPTION:
LOCATION:
SUMMARY:Teacher Inservice
END:VEVENT
END:VCALENDAR
