BEGIN:VCALENDAR
VERSION:2.0
PRODID:icalendar-ruby
CALSCALE:GREGORIAN
BEGIN:VTIMEZONE
TZID:America/Chicago
BEGIN:DAYLIGHT
DTSTART:20260308T030000
TZOFFSETFROM:-0600
TZOFFSETTO:-0500
RRULE:FREQ=YEARLY;BYDAY=2SU;BYMONTH=3
TZNAME:CDT
END:DAYLIGHT
BEGIN:STANDARD
DTSTART:20261101T010000
TZOFFSETFROM:-0500
TZOFFSETTO:-0600
RRULE:FREQ=YEARLY;BYDAY=1SU;BYMONTH=11
TZNAME:CST
END:STANDARD
END:VTIMEZONE
BEGIN:VEVENT
DTSTAMP:20260419T180044Z
UID:5f73c885-f70c-4e46-99dc-b57c0477cc62
DTSTART;VALUE=DATE:20260422
DTEND;VALUE=DATE:20260423
DESCRIPTION:
LOCATION:
SUMMARY:Middle School Spring Trip
END:VEVENT
BEGIN:VEVENT
DTSTAMP:20260419T180044Z
UID:9d35057a-6daa-40dd-a383-8787bcfa39e7
DTSTART;VALUE=DATE:20260428
DTEND;VALUE=DATE:20260429
DESCRIPTION:
LOCATION:
SUMMARY:Math / Algebra STAAR
END:VEVENT
BEGIN:VEVENT
DTSTAMP:20260419T180044Z
UID:1609e79d-93ca-44b3-b396-9468fa58eaa4
DTSTART:20260430T180000
DTEND:20260430T193000
DESCRIPTION:<p>TLA will be hosting a <strong>Community Night on Thursday\, 
 April 30th at 6 pm</strong>.</p><p>We would like to invite you to an eveni
 ng of connection\, collaboration\, and shared vision at <strong>Growing T
 ogether: TLA Community Night – Vision\, Plans &amp\; Q&amp\;A</strong>.
  </p><p>This special event is an opportunity for our families to hear d
 irectly from district and campus leadership about upcoming plans\, key pro
 jects\, and the direction of The Leadership Academy for the year ahead. To
 gether\, we will explore how our Montessori values continue to guide growt
 h\, innovation\, and student success.<span>While this event is primarily f
 or charter school families\, private school families are very welcome to a
 ttend as well.</span>We invite you to engage in meaningful conversation\, 
 ask questions\, and partner with us as we continue building a strong\, sup
 portive community focused on preparing our students for life.Let's plant t
 he seeds together for TLA's future! </p><p><strong>Registration Link:</st
 rong> </p><p><a target="_blank" rel="noopener noreferrer nofollow" href="
 https://forms.gle/Yc7rCYjHn479r2C3A"><span>https://forms.gle/Yc7rCYjHn479r
 2C3A</span></a></p>
LOCATION:
SUMMARY:TLA Community Night
END:VEVENT
BEGIN:VEVENT
DTSTAMP:20260419T180044Z
UID:97fa6d3d-0664-4bcc-a3d8-10bef05e45e0
DTSTART;VALUE=DATE:20260504
DTEND;VALUE=DATE:20260509
DESCRIPTION:
LOCATION:
SUMMARY:Teacher Appreciation Week
END:VEVENT
BEGIN:VEVENT
DTSTAMP:20260419T180044Z
UID:a74f17be-862c-412c-831b-a3524af71e06
DTSTART:20260504T140000
DTEND:20260504T150000
DESCRIPTION:
LOCATION:
SUMMARY:Fine Arts Week: Piano recitals & Art Exhibition 
END:VEVENT
BEGIN:VEVENT
DTSTAMP:20260419T180044Z
UID:dd0de96c-842b-47d4-8a14-749bc6fac917
DTSTART:20260505T140000
DTEND:20260505T150000
DESCRIPTION:
LOCATION:
SUMMARY:Fine Arts Week: Piano recitals & Art Exhibition 
END:VEVENT
BEGIN:VEVENT
DTSTAMP:20260419T180044Z
UID:7e8a7ab0-9f75-48d3-9abb-ce355fdb995f
DTSTART;VALUE=DATE:20260506
DTEND;VALUE=DATE:20260507
DESCRIPTION:
LOCATION:
SUMMARY:School Nurse Day
END:VEVENT
BEGIN:VEVENT
DTSTAMP:20260419T180044Z
UID:7b8ef256-412d-4a3d-9437-eb8b99e25051
DTSTART:20260506T140000
DTEND:20260506T150000
DESCRIPTION:
LOCATION:
SUMMARY:Fine Arts Week: Piano recitals & Art Exhibition 
END:VEVENT
BEGIN:VEVENT
DTSTAMP:20260419T180044Z
UID:cc32d69d-1e20-42ab-8f43-ff00121bbb06
DTSTART:20260507T140000
DTEND:20260507T150000
DESCRIPTION:
LOCATION:
SUMMARY:Fine Arts Week: Piano recitals & Art Exhibition 
END:VEVENT
BEGIN:VEVENT
DTSTAMP:20260419T180044Z
UID:ad3b742f-d592-465a-a4ae-d404ff236c00
DTSTART:20260508T140000
DTEND:20260508T150000
DESCRIPTION:
LOCATION:
SUMMARY:Fine Arts Week: Piano recitals & Art Exhibition 
END:VEVENT
BEGIN:VEVENT
DTSTAMP:20260419T180044Z
UID:ba4f9697-e50e-4ceb-aae6-d6e5b4261583
DTSTART:20260508T180000
DTEND:20260508T190000
DESCRIPTION:
LOCATION:
SUMMARY:Spring Concert at the CAHS PAC 
END:VEVENT
BEGIN:VEVENT
DTSTAMP:20260419T180044Z
UID:399e78d3-44cc-441b-8c10-ce8a41ee2777
DTSTART;VALUE=DATE:20260512
DTEND;VALUE=DATE:20260513
DESCRIPTION:
LOCATION:
SUMMARY:Living History Museum 
END:VEVENT
BEGIN:VEVENT
DTSTAMP:20260419T180044Z
UID:cd610c13-1804-43af-811f-d8e8e13008d0
DTSTART:20260514T083000
DTEND:20260514T103000
DESCRIPTION:
LOCATION:
SUMMARY:Charter School Field Days: Lower El 1
END:VEVENT
BEGIN:VEVENT
DTSTAMP:20260419T180044Z
UID:7cb92205-be22-4751-98c7-2c77b5712e0f
DTSTART:20260515T083000
DTEND:20260515T103000
DESCRIPTION:
LOCATION:
SUMMARY:Charter School Field Days: Lower El 2 & Private School Water Day
END:VEVENT
BEGIN:VEVENT
DTSTAMP:20260419T180044Z
UID:1aa06090-8459-4649-9577-880dd9ccb43b
DTSTART:20260518T083000
DTEND:20260518T103000
DESCRIPTION:
LOCATION:
SUMMARY:Charter School Field Days: Upper El & Middle School
END:VEVENT
BEGIN:VEVENT
DTSTAMP:20260419T180044Z
UID:f1ad6ef0-b529-436e-817e-9046f458b56c
DTSTART:20260519T180000
DTEND:20260519T193000
DESCRIPTION:
LOCATION:
SUMMARY:Middle School Play
END:VEVENT
BEGIN:VEVENT
DTSTAMP:20260419T180044Z
UID:fc22b34b-19eb-4ff2-a6b6-d6fa22e394c4
DTSTART:20260520T093000
DTEND:20260520T103000
DESCRIPTION:
LOCATION:
SUMMARY:Middle School Graduation Ceremony 
END:VEVENT
BEGIN:VEVENT
DTSTAMP:20260419T180044Z
UID:913144b5-38f3-49e1-9db5-0e5c06e3cf5c
DTSTART;VALUE=DATE:20260521
DTEND;VALUE=DATE:20260522
DESCRIPTION:
LOCATION:
SUMMARY:Early Release Day
END:VEVENT
BEGIN:VEVENT
DTSTAMP:20260419T180044Z
UID:1829c1fe-7b0b-49a3-887b-28e337369266
DTSTART;VALUE=DATE:20260521
DTEND;VALUE=DATE:20260522
DESCRIPTION:
LOCATION:
SUMMARY:End of Year Class Celebrations 
END:VEVENT
BEGIN:VEVENT
DTSTAMP:20260419T180044Z
UID:3b8c6687-48dc-48f6-8797-c03435119bee
DTSTART;VALUE=DATE:20260522
DTEND;VALUE=DATE:20260523
DESCRIPTION:
LOCATION:
SUMMARY:Teacher InService 
END:VEVENT
BEGIN:VEVENT
DTSTAMP:20260419T180044Z
UID:e2a57b3e-24a6-4b4f-aec7-078578dae119
DTSTART;VALUE=DATE:20260525
DTEND;VALUE=DATE:20260526
DESCRIPTION:
LOCATION:
SUMMARY:Memorial Day 
END:VEVENT
BEGIN:VEVENT
DTSTAMP:20260419T180044Z
UID:11dd9d29-9b3c-4fa8-98a4-8ca7780ceba2
DTSTART;VALUE=DATE:20260526
DTEND;VALUE=DATE:20260527
DESCRIPTION:
LOCATION:
SUMMARY:Teacher InService 
END:VEVENT
BEGIN:VEVENT
DTSTAMP:20260419T180044Z
UID:a6e99c01-06b8-43c8-923d-bbcf99813eb5
DTSTART;VALUE=DATE:20260527
DTEND;VALUE=DATE:20260528
DESCRIPTION:
LOCATION:
SUMMARY:Teacher InService 
END:VEVENT
END:VCALENDAR
