BEGIN:VCALENDAR
VERSION:2.0
PRODID:icalendar-ruby
CALSCALE:GREGORIAN
BEGIN:VTIMEZONE
TZID:America/Chicago
BEGIN:DAYLIGHT
DTSTART:20260308T030000
TZOFFSETFROM:-0600
TZOFFSETTO:-0500
RRULE:FREQ=YEARLY;BYDAY=2SU;BYMONTH=3
TZNAME:CDT
END:DAYLIGHT
BEGIN:STANDARD
DTSTART:20261101T010000
TZOFFSETFROM:-0500
TZOFFSETTO:-0600
RRULE:FREQ=YEARLY;BYDAY=1SU;BYMONTH=11
TZNAME:CST
END:STANDARD
END:VTIMEZONE
BEGIN:VEVENT
DTSTAMP:20260420T010414Z
UID:8663da05-f458-4fa4-af8f-464324bbd339
DTSTART:20260427T173000
DTEND:20260427T183000
DESCRIPTION:
LOCATION:7200 Paluxy Dr\, Tyler\, TX 75703\, USA
SUMMARY:Cumberland Board Meeting
END:VEVENT
BEGIN:VEVENT
DTSTAMP:20260420T010414Z
UID:cd8de50e-6b8c-414e-8471-f258275151d8
DTSTART;VALUE=DATE:20260521
DTEND;VALUE=DATE:20260522
DESCRIPTION:
LOCATION:
SUMMARY:Early Release Day
END:VEVENT
BEGIN:VEVENT
DTSTAMP:20260420T010414Z
UID:e07d05da-a880-43f7-bbc1-e4181f622ff8
DTSTART;VALUE=DATE:20260521
DTEND;VALUE=DATE:20260522
DESCRIPTION:
LOCATION:
SUMMARY:Last Day Of School
END:VEVENT
BEGIN:VEVENT
DTSTAMP:20260420T010414Z
UID:950d9380-7755-4a27-9bef-85d8bfce44e8
DTSTART;VALUE=DATE:20260522
DTEND;VALUE=DATE:20260523
DESCRIPTION:
LOCATION:
SUMMARY:CAHS Graduation
END:VEVENT
BEGIN:VEVENT
DTSTAMP:20260420T010414Z
UID:d3743b23-2c0b-43c8-a6c9-a5a2db148ce6
DTSTART;VALUE=DATE:20260522
DTEND;VALUE=DATE:20260523
DESCRIPTION:
LOCATION:
SUMMARY:Teacher InService 
END:VEVENT
BEGIN:VEVENT
DTSTAMP:20260420T010414Z
UID:02f5fb85-f6f0-4a67-9ba8-08fd5060b03e
DTSTART;VALUE=DATE:20260525
DTEND;VALUE=DATE:20260526
DESCRIPTION:
LOCATION:
SUMMARY:Memorial Day
END:VEVENT
BEGIN:VEVENT
DTSTAMP:20260420T010414Z
UID:78ceb47c-ebea-4086-86f6-64df7b787e00
DTSTART;VALUE=DATE:20260526
DTEND;VALUE=DATE:20260527
DESCRIPTION:
LOCATION:
SUMMARY:Teacher Inservice Day - No School
END:VEVENT
BEGIN:VEVENT
DTSTAMP:20260420T010414Z
UID:bcb9cee2-54ec-4fde-b432-aa9371bb1021
DTSTART;VALUE=DATE:20260527
DTEND;VALUE=DATE:20260528
DESCRIPTION:
LOCATION:
SUMMARY:Teacher Inservice Day - No School
END:VEVENT
BEGIN:VEVENT
DTSTAMP:20260420T010414Z
UID:4e07431d-5ca6-49fd-9c24-03f00ef72476
DTSTART;VALUE=DATE:20260528
DTEND;VALUE=DATE:20260529
DESCRIPTION:
LOCATION:
SUMMARY:Cumberland Board Meeting
END:VEVENT
BEGIN:VEVENT
DTSTAMP:20260420T010414Z
UID:07231dc2-bf04-42d3-a876-e72ee5a3e3cc
DTSTART;VALUE=DATE:20260625
DTEND;VALUE=DATE:20260626
DESCRIPTION:
LOCATION:
SUMMARY:Cumberland Board Meeting
END:VEVENT
BEGIN:VEVENT
DTSTAMP:20260420T010414Z
UID:df70b10a-b6d7-4adb-88c1-80ee5e97cd9f
DTSTART;VALUE=DATE:20260723
DTEND;VALUE=DATE:20260724
DESCRIPTION:
LOCATION:
SUMMARY:Cumberland Board Meeting
END:VEVENT
BEGIN:VEVENT
DTSTAMP:20260420T010414Z
UID:d116dfe1-9882-4ef6-b8a9-afac1123da61
DTSTART;VALUE=DATE:20260827
DTEND;VALUE=DATE:20260828
DESCRIPTION:
LOCATION:
SUMMARY:Cumberland Board Meeting
END:VEVENT
END:VCALENDAR
