BEGIN:VCALENDAR
VERSION:2.0
PRODID:icalendar-ruby
CALSCALE:GREGORIAN
BEGIN:VTIMEZONE
TZID:America/Chicago
BEGIN:DAYLIGHT
DTSTART:20260308T030000
TZOFFSETFROM:-0600
TZOFFSETTO:-0500
RRULE:FREQ=YEARLY;BYDAY=2SU;BYMONTH=3
TZNAME:CDT
END:DAYLIGHT
BEGIN:STANDARD
DTSTART:20261101T010000
TZOFFSETFROM:-0500
TZOFFSETTO:-0600
RRULE:FREQ=YEARLY;BYDAY=1SU;BYMONTH=11
TZNAME:CST
END:STANDARD
END:VTIMEZONE
BEGIN:VEVENT
DTSTAMP:20260423T075352Z
UID:2f5ff1ce-44fc-4e0b-aa56-c8955fa8e475
DTSTART;VALUE=DATE:20260505
DTEND;VALUE=DATE:20260506
DESCRIPTION:
LOCATION:
SUMMARY:Early Release 12:00 VE\, 12:20 NE\, 12:30 HS/MS
END:VEVENT
BEGIN:VEVENT
DTSTAMP:20260423T075352Z
UID:72e71fdf-dca7-474f-8fd8-94d4b6e59586
DTSTART:20260506T170000
DTEND:20260506T183000
DESCRIPTION:
LOCATION:Newfolden City Park\, 221 E 3rd St\, Newfolden\, MN 56738\, USA
SUMMARY:ECFE - Picnic at the Park
END:VEVENT
BEGIN:VEVENT
DTSTAMP:20260423T075352Z
UID:235c3262-1452-44f4-bd0c-4a372bb2d519
DTSTART;VALUE=DATE:20260515
DTEND;VALUE=DATE:20260516
DESCRIPTION:
LOCATION:
SUMMARY:Kindergarten Field Trip
END:VEVENT
BEGIN:VEVENT
DTSTAMP:20260423T075352Z
UID:34697690-572b-40df-a4f3-d7f2ab134c6f
DTSTART:20260515T134500
DTEND:20260515T143000
DESCRIPTION:
LOCATION:
SUMMARY:1st Grade Spring Program
END:VEVENT
BEGIN:VEVENT
DTSTAMP:20260423T075352Z
UID:14c4e91d-6c18-4df5-aa69-312f7e98c0c5
DTSTART:20260520T133000
DTEND:20260520T141500
DESCRIPTION:
LOCATION:
SUMMARY:Preschool Graduation
END:VEVENT
BEGIN:VEVENT
DTSTAMP:20260423T075352Z
UID:8cb834b9-395e-43e2-8524-11faea66d477
DTSTART;VALUE=DATE:20260521
DTEND;VALUE=DATE:20260522
DESCRIPTION:
LOCATION:
SUMMARY:Preschool Field Trip
END:VEVENT
BEGIN:VEVENT
DTSTAMP:20260423T075352Z
UID:c13de70c-2975-49d7-9122-0ef482393030
DTSTART;VALUE=DATE:20260525
DTEND;VALUE=DATE:20260526
DESCRIPTION:
LOCATION:
SUMMARY:No School Memorial Day
END:VEVENT
BEGIN:VEVENT
DTSTAMP:20260423T075352Z
UID:bb7fd369-8032-4f42-8201-20c051f5104e
DTSTART;VALUE=DATE:20260527
DTEND;VALUE=DATE:20260528
DESCRIPTION:
LOCATION:
SUMMARY:Kindergarten Program & Graduation
END:VEVENT
BEGIN:VEVENT
DTSTAMP:20260423T075352Z
UID:e939522d-8e65-4872-8804-353639d5f16d
DTSTART;VALUE=DATE:20260528
DTEND;VALUE=DATE:20260529
DESCRIPTION:
LOCATION:
SUMMARY:Last Day of Quarter 4/Semester 2/Year
END:VEVENT
BEGIN:VEVENT
DTSTAMP:20260423T075352Z
UID:b94dfcf1-e8bb-4068-bb28-046cdd8aec51
DTSTART;VALUE=DATE:20260529
DTEND;VALUE=DATE:20260530
DESCRIPTION:
LOCATION:
SUMMARY:Teacher In-Service Day
END:VEVENT
BEGIN:VEVENT
DTSTAMP:20260423T075352Z
UID:6fec243f-21d3-4df3-8389-95f1e070615c
DTSTART;VALUE=DATE:20260901
DTEND;VALUE=DATE:20260902
DESCRIPTION:
LOCATION:
SUMMARY:Teacher In-Service Day
END:VEVENT
BEGIN:VEVENT
DTSTAMP:20260423T075352Z
UID:49ccc326-e37a-412b-af07-cd0e69c19b85
DTSTART;VALUE=DATE:20260902
DTEND;VALUE=DATE:20260903
DESCRIPTION:
LOCATION:
SUMMARY:Teacher In-Service Day
END:VEVENT
BEGIN:VEVENT
DTSTAMP:20260423T075352Z
UID:1d06305b-1e87-4cd0-b97b-9599946af128
DTSTART;VALUE=DATE:20260903
DTEND;VALUE=DATE:20260904
DESCRIPTION:
LOCATION:
SUMMARY:Teacher In-Service Day
END:VEVENT
BEGIN:VEVENT
DTSTAMP:20260423T075352Z
UID:2dcb4156-43fd-4b91-b71f-ac3d54b87bef
DTSTART;VALUE=DATE:20260904
DTEND;VALUE=DATE:20260905
DESCRIPTION:
LOCATION:
SUMMARY:Teacher In-Service Day
END:VEVENT
BEGIN:VEVENT
DTSTAMP:20260423T075352Z
UID:6c782252-9fb1-4279-a362-15a4f39e01b8
DTSTART;VALUE=DATE:20260907
DTEND;VALUE=DATE:20260908
DESCRIPTION:
LOCATION:
SUMMARY:No School - Labor Day
END:VEVENT
BEGIN:VEVENT
DTSTAMP:20260423T075352Z
UID:d28fbbbc-7bd0-44c1-848a-6f34c3cfe307
DTSTART;VALUE=DATE:20260908
DTEND;VALUE=DATE:20260909
DESCRIPTION:
LOCATION:
SUMMARY:First Day of School
END:VEVENT
BEGIN:VEVENT
DTSTAMP:20260423T075352Z
UID:d929079e-4398-42d5-80d0-974bcb687f68
DTSTART;VALUE=DATE:20260914
DTEND;VALUE=DATE:20260915
DESCRIPTION:
LOCATION:
SUMMARY:First Day of Preschool/Head Start
END:VEVENT
BEGIN:VEVENT
DTSTAMP:20260423T075352Z
UID:b6483945-7c42-447f-b07e-76943f6f7ff3
DTSTART;VALUE=DATE:20261015
DTEND;VALUE=DATE:20261017
DESCRIPTION:
LOCATION:
SUMMARY:No School Education Minnesota
END:VEVENT
BEGIN:VEVENT
DTSTAMP:20260423T075352Z
UID:80ec6a1e-2392-4e13-9ea1-74110cd4ec8f
DTSTART;VALUE=DATE:20261106
DTEND;VALUE=DATE:20261107
DESCRIPTION:
LOCATION:
SUMMARY:Last Day of Quarter 1
END:VEVENT
BEGIN:VEVENT
DTSTAMP:20260423T075352Z
UID:0ec73332-a47f-4f68-8f72-ffd0f456cec9
DTSTART;VALUE=DATE:20261109
DTEND;VALUE=DATE:20261110
DESCRIPTION:
LOCATION:
SUMMARY:No School - Teacher In-Service Day
END:VEVENT
BEGIN:VEVENT
DTSTAMP:20260423T075352Z
UID:50821507-6937-4f9b-9851-a39afc37c2a6
DTSTART;VALUE=DATE:20261126
DTEND;VALUE=DATE:20261128
DESCRIPTION:
LOCATION:
SUMMARY:No School - Thanksgiving Break
END:VEVENT
BEGIN:VEVENT
DTSTAMP:20260423T075352Z
UID:001af9dd-f2bc-4f38-b9a8-932beba02ecb
DTSTART;VALUE=DATE:20261223
DTEND;VALUE=DATE:20261224
DESCRIPTION:
LOCATION:
SUMMARY:Early Release Day (VE 12:00\, NE 12:20\, MS/HS 12:30)
END:VEVENT
BEGIN:VEVENT
DTSTAMP:20260423T075352Z
UID:14276f1c-bbf1-4aae-ad8d-177c5f66f506
DTSTART;VALUE=DATE:20261224
DTEND;VALUE=DATE:20261226
DESCRIPTION:
LOCATION:
SUMMARY:No School Holiday Break
END:VEVENT
BEGIN:VEVENT
DTSTAMP:20260423T075352Z
UID:ca7ed1a7-55af-44e3-918e-9c0fe469fe45
DTSTART;VALUE=DATE:20261228
DTEND;VALUE=DATE:20270102
DESCRIPTION:
LOCATION:
SUMMARY:No School - Holiday Break
END:VEVENT
BEGIN:VEVENT
DTSTAMP:20260423T075352Z
UID:af99a65b-c171-4678-8342-0a1580ef949e
DTSTART;VALUE=DATE:20270118
DTEND;VALUE=DATE:20270119
DESCRIPTION:
LOCATION:
SUMMARY:No School - Teacher In-service Day
END:VEVENT
BEGIN:VEVENT
DTSTAMP:20260423T075352Z
UID:4a24f80c-e2ed-4260-8882-788f98110d6d
DTSTART;VALUE=DATE:20270122
DTEND;VALUE=DATE:20270123
DESCRIPTION:
LOCATION:
SUMMARY:Last Day of Quarter 2/Semester 1
END:VEVENT
BEGIN:VEVENT
DTSTAMP:20260423T075352Z
UID:f3582984-8930-460f-8fb4-441e147c9be2
DTSTART;VALUE=DATE:20270125
DTEND;VALUE=DATE:20270126
DESCRIPTION:
LOCATION:
SUMMARY:No School - Teacher In-service Day
END:VEVENT
BEGIN:VEVENT
DTSTAMP:20260423T075352Z
UID:d3bc8c65-f144-4a8b-b0ae-83c47a3aa9e9
DTSTART;VALUE=DATE:20270215
DTEND;VALUE=DATE:20270216
DESCRIPTION:
LOCATION:
SUMMARY:No School - Teacher In-Service Day
END:VEVENT
BEGIN:VEVENT
DTSTAMP:20260423T075352Z
UID:6f5816fe-06b1-4d38-beac-eb52c55ae024
DTSTART;VALUE=DATE:20270325
DTEND;VALUE=DATE:20270326
DESCRIPTION:
LOCATION:
SUMMARY:Last Day of Quarter 3
END:VEVENT
BEGIN:VEVENT
DTSTAMP:20260423T075352Z
UID:0874bce3-53ba-421b-992d-620aaeb22042
DTSTART;VALUE=DATE:20270326
DTEND;VALUE=DATE:20270327
DESCRIPTION:
LOCATION:
SUMMARY:No School - Spring Holiday
END:VEVENT
BEGIN:VEVENT
DTSTAMP:20260423T075352Z
UID:67368dd6-8b39-431a-9b15-e8a6927ff17e
DTSTART;VALUE=DATE:20270329
DTEND;VALUE=DATE:20270330
DESCRIPTION:
LOCATION:
SUMMARY:No School - Teacher In-Service
END:VEVENT
BEGIN:VEVENT
DTSTAMP:20260423T075352Z
UID:b0d3302d-7971-4f54-83ea-4ef1fc5eef0e
DTSTART;VALUE=DATE:20270520
DTEND;VALUE=DATE:20270521
DESCRIPTION:
LOCATION:
SUMMARY:Last Day of Preschool/HS
END:VEVENT
BEGIN:VEVENT
DTSTAMP:20260423T075352Z
UID:a2390ac3-939e-4925-8e13-4088694af620
DTSTART;VALUE=DATE:20270527
DTEND;VALUE=DATE:20270528
DESCRIPTION:
LOCATION:
SUMMARY:Early Release VE 12:00\, NE 12:20\, MS/HS 12:30
END:VEVENT
BEGIN:VEVENT
DTSTAMP:20260423T075352Z
UID:001912a6-8cc9-41c4-8f00-4f3f296edc5c
DTSTART;VALUE=DATE:20270527
DTEND;VALUE=DATE:20270528
DESCRIPTION:
LOCATION:
SUMMARY:Last Day of School
END:VEVENT
BEGIN:VEVENT
DTSTAMP:20260423T075352Z
UID:b1433596-acb0-4064-ae11-5ecb30a763c7
DTSTART;VALUE=DATE:20270528
DTEND;VALUE=DATE:20270529
DESCRIPTION:
LOCATION:
SUMMARY:No School - Teacher In-Service
END:VEVENT
END:VCALENDAR
