BEGIN:VCALENDAR
VERSION:2.0
PRODID:icalendar-ruby
CALSCALE:GREGORIAN
BEGIN:VTIMEZONE
TZID:America/Chicago
BEGIN:DAYLIGHT
DTSTART:20260308T030000
TZOFFSETFROM:-0600
TZOFFSETTO:-0500
RRULE:FREQ=YEARLY;BYDAY=2SU;BYMONTH=3
TZNAME:CDT
END:DAYLIGHT
BEGIN:STANDARD
DTSTART:20261101T010000
TZOFFSETFROM:-0500
TZOFFSETTO:-0600
RRULE:FREQ=YEARLY;BYDAY=1SU;BYMONTH=11
TZNAME:CST
END:STANDARD
END:VTIMEZONE
BEGIN:VEVENT
DTSTAMP:20260425T175351Z
UID:27d3b437-0c50-45a5-b53b-11f77f56eeee
DTSTART;VALUE=DATE:20260418
DTEND;VALUE=DATE:20260426
DESCRIPTION:
LOCATION:TBD
SUMMARY:Softball DRVC Tournament
END:VEVENT
BEGIN:VEVENT
DTSTAMP:20260425T175351Z
UID:d2247a6c-40fc-4a8f-ab86-1d7c1b699d3c
DTSTART:20260427T173000
DTEND:20260427T183000
DESCRIPTION:
LOCATION:3470 US-41A\, Unionville\, TN 37160\, USA
SUMMARY:Boys Soccer Conference Game vs. Webb
END:VEVENT
BEGIN:VEVENT
DTSTAMP:20260425T175351Z
UID:43c197b0-142d-4de1-a287-4bce026468ce
DTSTART;VALUE=DATE:20260428
DTEND;VALUE=DATE:20260429
DESCRIPTION:
LOCATION:
SUMMARY:Special Olympics
END:VEVENT
BEGIN:VEVENT
DTSTAMP:20260425T175351Z
UID:2cb3cabf-0d07-42bc-9cfc-c03c512f8d87
DTSTART;VALUE=DATE:20260429
DTEND;VALUE=DATE:20260430
DESCRIPTION:
LOCATION:TBA
SUMMARY:Boys Soccer Conference- TBA
END:VEVENT
BEGIN:VEVENT
DTSTAMP:20260425T175351Z
UID:805b38ea-7ebc-4a4d-9bf0-dc0044e23dea
DTSTART;VALUE=DATE:20260501
DTEND;VALUE=DATE:20260502
DESCRIPTION:
LOCATION:TBA
SUMMARY:Boys Soccer Conference- TBA
END:VEVENT
BEGIN:VEVENT
DTSTAMP:20260425T175351Z
UID:66cbbd66-2a90-4713-8ee8-fe1c5892d6cc
DTSTART;VALUE=DATE:20260501
DTEND;VALUE=DATE:20260502
DESCRIPTION:
LOCATION:
SUMMARY:National Principal Appreciation Day
END:VEVENT
BEGIN:VEVENT
DTSTAMP:20260425T175351Z
UID:0ad33e29-927f-4e32-84fc-d4f6d0c27596
DTSTART;VALUE=DATE:20260501
DTEND;VALUE=DATE:20260502
DESCRIPTION:
LOCATION:
SUMMARY:School Lunch Hero Day 
END:VEVENT
BEGIN:VEVENT
DTSTAMP:20260425T175351Z
UID:36edfd61-7c2a-4bc0-a94b-aac62646d349
DTSTART:20260501T150000
DTEND:20260501T173000
DESCRIPTION:
LOCATION:
SUMMARY:D & D Club Meeting
END:VEVENT
BEGIN:VEVENT
DTSTAMP:20260425T175351Z
UID:ef66eee1-28cb-44cf-9b9c-da3832f91385
DTSTART;VALUE=DATE:20260504
DTEND;VALUE=DATE:20260505
DESCRIPTION:
LOCATION:
SUMMARY:Aimsweb Window Opens
END:VEVENT
BEGIN:VEVENT
DTSTAMP:20260425T175351Z
UID:36b8c8cf-a335-4eb7-b2a1-443511ea6f39
DTSTART;VALUE=DATE:20260504
DTEND;VALUE=DATE:20260509
DESCRIPTION:
LOCATION:
SUMMARY:Teacher Appreciation Week 
END:VEVENT
BEGIN:VEVENT
DTSTAMP:20260425T175351Z
UID:3fcfb189-f100-4dd8-b556-f4a568df7d58
DTSTART;VALUE=DATE:20260505
DTEND;VALUE=DATE:20260506
DESCRIPTION:
LOCATION:
SUMMARY:National Teacher Day
END:VEVENT
BEGIN:VEVENT
DTSTAMP:20260425T175351Z
UID:35e56831-7115-44d8-a59c-0a259e6bf1cf
DTSTART:20260505T080000
DTEND:20260505T150000
DESCRIPTION:
LOCATION:
SUMMARY:Staff Development/Election Day - No School for Students 
END:VEVENT
BEGIN:VEVENT
DTSTAMP:20260425T175351Z
UID:3a878ed9-7fdb-404b-980b-1e92899522c7
DTSTART:20260505T083000
DTEND:20260505T140000
DESCRIPTION:
LOCATION:Every Elementary School
SUMMARY:Kindergarten Registration
END:VEVENT
BEGIN:VEVENT
DTSTAMP:20260425T175351Z
UID:b99f5005-a328-4c4d-99f5-0f0ac36e5e30
DTSTART:20260505T083000
DTEND:20260505T160000
DESCRIPTION:
LOCATION:Harris Middle School
SUMMARY:Pre-K Registration
END:VEVENT
BEGIN:VEVENT
DTSTAMP:20260425T175351Z
UID:8b2795ca-545f-41d2-8d0b-a3d677d70172
DTSTART:20260505T230000
DTEND:20260506T000000
DESCRIPTION:
LOCATION:
SUMMARY:Staff Development Day/Election Day (No School for Students)  (Event
 s)
END:VEVENT
BEGIN:VEVENT
DTSTAMP:20260425T175351Z
UID:3ff51f23-be2d-4742-aaec-b65d3b176044
DTSTART;VALUE=DATE:20260506
DTEND;VALUE=DATE:20260507
DESCRIPTION:
LOCATION:
SUMMARY:6th Grade Choir Field Trip County Music HOF
END:VEVENT
BEGIN:VEVENT
DTSTAMP:20260425T175351Z
UID:5c69f228-ca0b-421f-bdde-3392d295f8f3
DTSTART;VALUE=DATE:20260506
DTEND;VALUE=DATE:20260507
DESCRIPTION:
LOCATION:
SUMMARY:Interpreter Appreciation Day 
END:VEVENT
BEGIN:VEVENT
DTSTAMP:20260425T175351Z
UID:17fbf8bc-ca7b-4fc0-aa02-586469d5c0d2
DTSTART;VALUE=DATE:20260506
DTEND;VALUE=DATE:20260507
DESCRIPTION:
LOCATION:
SUMMARY:School Nurse Appreciation Day
END:VEVENT
BEGIN:VEVENT
DTSTAMP:20260425T175351Z
UID:11c40f98-f5a0-4b40-bfc1-aa91a0d9232d
DTSTART;VALUE=DATE:20260507
DTEND;VALUE=DATE:20260510
DESCRIPTION:
LOCATION:
SUMMARY:Band Trip to Atlanta
END:VEVENT
BEGIN:VEVENT
DTSTAMP:20260425T175351Z
UID:6cfefc3b-0e2e-4752-a228-40fb67751e94
DTSTART:20260507T173000
DTEND:20260507T200000
DESCRIPTION:
LOCATION:Board of Education 500 Madison St. Shelbyville\, TN  37160
SUMMARY:Bedford County Board of Education Budget Work Session
END:VEVENT
BEGIN:VEVENT
DTSTAMP:20260425T175351Z
UID:be9d7d0c-887e-4496-8200-2d978c06e502
DTSTART:20260507T180000
DTEND:20260507T200000
DESCRIPTION:
LOCATION:3470 US-41A\, Unionville\, TN 37160\, USA
SUMMARY:CMS Athletic Banquet
END:VEVENT
BEGIN:VEVENT
DTSTAMP:20260425T175351Z
UID:5e952c8c-0d8a-4f37-bd39-bca116d1d660
DTSTART:20260507T180000
DTEND:20260507T190000
DESCRIPTION:<html><head><meta http-equiv="Content-Type" content="text/html\
 ; charset=utf-8"></head><body><p>This is a FREE event for ALL BCS parents 
 on a wide variety of topics to help your child succeed! See link below for
  more details and monthly topics.<br><a href="https://www.bedfordk12tn.com
 /o/bcs/page/parent-university">https://www.bedfordk12tn.com/o/bcs/page/par
 ent-university</a></p></body></html>
LOCATION:Harris Middle School\, 570 Eagle Blvd\, Shelbyville
SUMMARY:Parent University (Events)
END:VEVENT
BEGIN:VEVENT
DTSTAMP:20260425T175351Z
UID:d0e8551a-3fea-4997-b62c-1da812bdbc7f
DTSTART:20260507T180000
DTEND:20260507T190000
DESCRIPTION:<html><head><meta http-equiv="Content-Type" content="text/html\
 ; charset=utf-8"></head><body><p>This is a FREE event for ALL BCS parents 
 on a wide variety of topics to help your child succeed! See link below for
  more details and monthly topics.<a href="https://www.bedfordk12tn.com/o/b
 cs/page/parent-university">https://www.bedfordk12tn.com/o/bcs/page/parent-
 university</a></p></body></html>
LOCATION:Harris Middle School\, 570 Eagle Blvd\, Shelbyville
SUMMARY:Parent University (Events)
END:VEVENT
BEGIN:VEVENT
DTSTAMP:20260425T175351Z
UID:0a6b6bd0-5360-4e5e-8d24-9febbd2431fa
DTSTART;VALUE=DATE:20260508
DTEND;VALUE=DATE:20260509
DESCRIPTION:
LOCATION:
SUMMARY:National School Communicators Appreciation Day
END:VEVENT
BEGIN:VEVENT
DTSTAMP:20260425T175351Z
UID:425237cf-d5de-40f3-9727-06f036d90395
DTSTART:20260508T150000
DTEND:20260508T173000
DESCRIPTION:
LOCATION:
SUMMARY:D & D Club Meeting
END:VEVENT
BEGIN:VEVENT
DTSTAMP:20260425T175351Z
UID:a0bec552-30b6-4444-86cb-e20934657d7b
DTSTART:20260508T170000
DTEND:20260508T190000
DESCRIPTION:
LOCATION:
SUMMARY:CMS Atten-DANCE
END:VEVENT
BEGIN:VEVENT
DTSTAMP:20260425T175351Z
UID:c347b463-67cf-409f-b181-3e48608df6a8
DTSTART:20260509T080000
DTEND:20260509T120000
DESCRIPTION:<html><head><meta http-equiv="Content-Type" content="text/html\
 ; charset=utf-8"></head><body><p>Over 1\,100 people participated at the in
 augural event in May of 2025!</p><p>Get signed up for the 2nd Annual <stro
 ng>Connected Community 5K!</strong> Run or walk and be part of something s
 pecial as we come together to support<strong>Bedford County Schools</stron
 g> and other important community initiatives.</p><p>See what people are sa
 ying: <a href="https://www.facebook.com/BRIDGEBEDFORDTN">https://www.faceb
 ook.com/BRIDGEBEDFORDTN</a></p><p>Every Bedford County School will have a 
 team\, and community teams are welcome too — or you can join as an indiv
 idual. However you choose to participate\, everyone is welcome!</p><p>Bonu
 s: The event will take place Mother’s Day weekend\, giving us the perfec
 t opportunity to celebrate moms in a meaningful way. All mothers will be h
 onored on this day! Make plans to participate with your mom\, or if she’
 s no longer with us\, walk or run in her memory.</p><p>Register here: <a h
 ref="https://runsignup.com/connectedcommunity5k"><strong>https://runsignup
 .com/connectedcommunity5k</strong></a></p></body></html>
LOCATION:
SUMMARY:Connected Community 5K
END:VEVENT
BEGIN:VEVENT
DTSTAMP:20260425T175351Z
UID:cbff4042-f304-4867-aec7-373227653fee
DTSTART;VALUE=DATE:20260511
DTEND;VALUE=DATE:20260512
DESCRIPTION:
LOCATION:
SUMMARY:Edmentum Window Opens
END:VEVENT
BEGIN:VEVENT
DTSTAMP:20260425T175351Z
UID:2357878e-5731-4740-95b1-af2e255b8261
DTSTART:20260511T163000
DTEND:20260511T180000
DESCRIPTION:
LOCATION:
SUMMARY:CMS Spring Family Night
END:VEVENT
BEGIN:VEVENT
DTSTAMP:20260425T175351Z
UID:f9ca0a20-e36f-454b-8b53-94dd461bbae8
DTSTART;VALUE=DATE:20260512
DTEND;VALUE=DATE:20260513
DESCRIPTION:
LOCATION:
SUMMARY:Move Up Day
END:VEVENT
BEGIN:VEVENT
DTSTAMP:20260425T175351Z
UID:16770df4-9056-4d35-bfba-99976f61e9d7
DTSTART;VALUE=DATE:20260514
DTEND;VALUE=DATE:20260515
DESCRIPTION:
LOCATION:
SUMMARY:CMS Awards Day
END:VEVENT
BEGIN:VEVENT
DTSTAMP:20260425T175351Z
UID:46a4192c-a623-48e9-a7a0-5db387bee023
DTSTART:20260514T170000
DTEND:20260514T193000
DESCRIPTION:
LOCATION:
SUMMARY:CHS Senior Sunset on Football Field (Events)
END:VEVENT
BEGIN:VEVENT
DTSTAMP:20260425T175351Z
UID:e17eb0e4-a05e-4ec8-a6b8-083a7e194f3e
DTSTART:20260515T150000
DTEND:20260515T173000
DESCRIPTION:
LOCATION:
SUMMARY:D & D Club Meeting
END:VEVENT
BEGIN:VEVENT
DTSTAMP:20260425T175351Z
UID:83023022-fd92-4366-aa35-77c39800681e
DTSTART:20260515T190000
DTEND:20260515T210000
DESCRIPTION:
LOCATION:SCHS Football Field\, 401 Eagle Blvd\, Shelbyville\, TN 37160\, US
 A
SUMMARY:Shelbyville Central High School Graduation
END:VEVENT
BEGIN:VEVENT
DTSTAMP:20260425T175351Z
UID:9a37c0d9-e4da-451a-811c-9887188b63d7
DTSTART:20260515T200000
DTEND:20260515T220000
DESCRIPTION:
LOCATION:
SUMMARY:CHS Graduation Practice on Football Field (Events)
END:VEVENT
BEGIN:VEVENT
DTSTAMP:20260425T175351Z
UID:a770506a-cd42-43f1-b430-2074967626ab
DTSTART:20260516T100000
DTEND:20260516T113000
DESCRIPTION:<html><head><meta http-equiv="Content-Type" content="text/html\
 ; charset=utf-8"></head><body><p>In case of rain\, the graduation ceremony
  will move from the football field to the Cascade High School gymnasium\, 
 3035 Fairfield Pike\, Bell Buckle\, TN 37020</p></body></html>
LOCATION:Cascade High School Football Field\, 1165 Bell Buckle Wartrace Roa
 d\, Wartrace\, TN 37183
SUMMARY:Cascade High School Graduation
END:VEVENT
BEGIN:VEVENT
DTSTAMP:20260425T175351Z
UID:fea27f64-b16a-4503-ab74-9563fe7cd66c
DTSTART:20260516T170000
DTEND:20260516T190000
DESCRIPTION:
LOCATION:CMS Football Field
SUMMARY:CHS Graduation  (Events)
END:VEVENT
BEGIN:VEVENT
DTSTAMP:20260425T175351Z
UID:122ab3a1-6418-41c9-a8c5-0942e5cd4514
DTSTART:20260516T190000
DTEND:20260516T203000
DESCRIPTION:
LOCATION:Community High School Football Field\, 3470 Highway 41A\, Unionvil
 le\, TN 37180
SUMMARY:Community High School Graduation
END:VEVENT
BEGIN:VEVENT
DTSTAMP:20260425T175351Z
UID:06fdfa40-a607-4af3-a5ae-ced8936c511e
DTSTART:20260517T090000
DTEND:20260517T110000
DESCRIPTION:
LOCATION:
SUMMARY:Graduation Rain Date (Events)
END:VEVENT
BEGIN:VEVENT
DTSTAMP:20260425T175351Z
UID:1b74d22d-e177-46b9-9a61-4e62d96d8953
DTSTART:20260517T150000
DTEND:20260517T163000
DESCRIPTION:
LOCATION:Community High School Football Field\, 3470 Highway 41A\, Unionvil
 le\, TN 37180
SUMMARY:RAIN DATE - Community High School Graduation - RAIN DATE
END:VEVENT
BEGIN:VEVENT
DTSTAMP:20260425T175351Z
UID:5685bb18-8148-4433-a8f2-2dcaa7450b8e
DTSTART:20260517T190000
DTEND:20260517T210000
DESCRIPTION:
LOCATION:401 Eagle Blvd\, Shelbyville\, TN 37160\, Football Field
SUMMARY:RAIN DATE - Shelbyville Central High School Graduation - RAIN DATE
END:VEVENT
BEGIN:VEVENT
DTSTAMP:20260425T175351Z
UID:c2423efb-a9da-4522-a5ad-83b5c7b38ac0
DTSTART;VALUE=DATE:20260518
DTEND;VALUE=DATE:20260519
DESCRIPTION:
LOCATION:
SUMMARY:Speech Pathologist Appreciation Day
END:VEVENT
BEGIN:VEVENT
DTSTAMP:20260425T175351Z
UID:da0d18c5-9144-4fdd-84de-5aafc82548f8
DTSTART:20260521T170000
DTEND:20260521T170000
DESCRIPTION:Individuals who wish to appear before the Board should consult 
 Board policy 1.404 Appeals to and Appearances Before the Board.  See link 
 to board policy below.\n<a href=' https://communityms.bedfordk12tn.com/app
 s/events/28887582/'>Read more</a>
LOCATION:Board of Education Central Office\n500 Madison St.\nShelbyville\, 
 TN  37160
SUMMARY:Board of Education Regular Monthly Meeting (Events)
END:VEVENT
BEGIN:VEVENT
DTSTAMP:20260425T175351Z
UID:b4e80625-7949-4c01-b34d-3a9fd1135df9
DTSTART:20260521T180000
DTEND:20260521T200000
DESCRIPTION:<html><head><meta http-equiv="Content-Type" content="text/html\
 ; charset=utf-8"></head><body><p>Individuals who wish to appear before the
  Board should consult Board policy 1.404 Appeals to and Appearances Before
  the Board.<a href="https://bedfordcountyschoolstn.sites.thrillshare.com/d
 ocuments/26253258">See link to board policy</a>.</p></body></html>
LOCATION:Harris Middle School Library 570 Eagle Blvd.\, Shelbyville\, TN  3
 7160
SUMMARY:Board of Education Regular Monthly Meeting (Events)
END:VEVENT
BEGIN:VEVENT
DTSTAMP:20260425T175351Z
UID:c1ae3980-5170-40fd-b536-4dc671c32910
DTSTART:20260522T080000
DTEND:20260522T150000
DESCRIPTION:
LOCATION:
SUMMARY:Abbreviated Day/Report Cards
END:VEVENT
BEGIN:VEVENT
DTSTAMP:20260425T175351Z
UID:f6b7bc80-fa70-4604-89c4-6221c650ce05
DTSTART:20260522T230000
DTEND:20260523T000000
DESCRIPTION:
LOCATION:
SUMMARY:Abbreviated Day/Report Card Day (Events)
END:VEVENT
BEGIN:VEVENT
DTSTAMP:20260425T175351Z
UID:ee963387-7e5d-46c9-acc5-18bdc6bc7882
DTSTART:20260525T080000
DTEND:20260525T150000
DESCRIPTION:
LOCATION:
SUMMARY:Memorial Day - No School 
END:VEVENT
BEGIN:VEVENT
DTSTAMP:20260425T175351Z
UID:7e2a2983-8ffd-4b02-b7bb-035836158ecb
DTSTART:20260525T230000
DTEND:20260526T000000
DESCRIPTION:
LOCATION:
SUMMARY:Memorial Day (No School) (Events)
END:VEVENT
BEGIN:VEVENT
DTSTAMP:20260425T175351Z
UID:5856eda7-c639-4831-885b-b855bfd38055
DTSTART:20260526T080000
DTEND:20260526T150000
DESCRIPTION:
LOCATION:
SUMMARY:Administrative Day - No School
END:VEVENT
BEGIN:VEVENT
DTSTAMP:20260425T175351Z
UID:824b4bd8-8f8b-4214-8c1f-5bdc7bc75b6d
DTSTART:20260526T230000
DTEND:20260527T000000
DESCRIPTION:
LOCATION:
SUMMARY:Administrative Day (No School) (Events)
END:VEVENT
BEGIN:VEVENT
DTSTAMP:20260425T175351Z
UID:3c6c1e39-50e4-4860-a09e-af14dc93ee38
DTSTART:20260618T170000
DTEND:20260618T170000
DESCRIPTION:Individuals who wish to appear before the Board should consult 
 Board policy 1.404 Appeals to and Appearances Before the Board.  See link 
 to board policy below.\n<a href=' https://communityms.bedfordk12tn.com/app
 s/events/28887601/'>Read more</a>
LOCATION:Board of Education Central Office\n500 Madison St.\nShelbyville\, 
 TN  37160
SUMMARY:Board of Education Regular Monthly Meeting (Events)
END:VEVENT
BEGIN:VEVENT
DTSTAMP:20260425T175351Z
UID:5e6f9ebb-dab6-4425-9589-dd719136fc0a
DTSTART:20260618T180000
DTEND:20260618T190000
DESCRIPTION:<html><head><meta http-equiv="Content-Type" content="text/html\
 ; charset=utf-8"></head><body><p>Individuals who wish to appear before the
  Board should consult Board policy 1.404 Appeals to and Appearances Before
  the Board.<a href="https://bedfordcountyschoolstn.sites.thrillshare.com/d
 ocuments/26253258">See link to board policy</a>.</p></body></html>
LOCATION:Board of Education Central Office\n500 Madison St.\nShelbyville\, 
 TN  37160
SUMMARY:Board of Education Regular Monthly Meeting (Events)
END:VEVENT
BEGIN:VEVENT
DTSTAMP:20260425T175351Z
UID:e412cb55-c2cd-4ef2-b6fd-09c1bc9438de
DTSTART:20260721T080000
DTEND:20260721T120000
DESCRIPTION:
LOCATION:All Schools Across the County
SUMMARY:New Student Registration
END:VEVENT
BEGIN:VEVENT
DTSTAMP:20260425T175351Z
UID:9bd5fa87-ebe2-406b-b121-c9b9d7a45cc7
DTSTART:20260721T080000
DTEND:20260721T120000
DESCRIPTION:
LOCATION:All Schools Across the County
SUMMARY:New Student Registration
END:VEVENT
BEGIN:VEVENT
DTSTAMP:20260425T175351Z
UID:de389bb7-cb33-4372-b891-a87a62d77f21
DTSTART:20260730T183000
DTEND:20260730T210000
DESCRIPTION:
LOCATION:505 Taylor St\, Manchester\, TN 37355\, USA
SUMMARY:Football @ Westwood
END:VEVENT
BEGIN:VEVENT
DTSTAMP:20260425T175351Z
UID:f72c05e6-89be-45bf-a1af-be3e1ac29a29
DTSTART;VALUE=DATE:20260803
DTEND;VALUE=DATE:20260804
DESCRIPTION:
LOCATION:
SUMMARY:Welcome Back to School! Abbreviated Day
END:VEVENT
BEGIN:VEVENT
DTSTAMP:20260425T175351Z
UID:504aafe4-8c56-4b87-b785-50fc093f5d4f
DTSTART:20260806T183000
DTEND:20260806T210000
DESCRIPTION:
LOCATION:3470 US-41A\, Unionville\, TN 37160\, USA
SUMMARY:Football vs. Forrest
END:VEVENT
BEGIN:VEVENT
DTSTAMP:20260425T175351Z
UID:bf1d4127-a268-4fd8-9dd9-5c0869e0ed5c
DTSTART:20260820T183000
DTEND:20260820T210000
DESCRIPTION:
LOCATION:Eagleville High School\, Eagleville\, TN 37060\, USA
SUMMARY:Football @ Eagleville
END:VEVENT
BEGIN:VEVENT
DTSTAMP:20260425T175351Z
UID:d0c98629-b79b-4fb2-aae5-cc1015019f9a
DTSTART:20260827T183000
DTEND:20260827T210000
DESCRIPTION:
LOCATION:1 Lion Dr\, Woodbury\, TN 37190\, USA
SUMMARY:Football @ Cannon County
END:VEVENT
BEGIN:VEVENT
DTSTAMP:20260425T175351Z
UID:99d22c77-d874-49fa-99af-9ad8d8e727b2
DTSTART:20260901T183000
DTEND:20260901T210000
DESCRIPTION:
LOCATION:3470 US-41A\, Unionville\, TN 37160\, USA
SUMMARY:Football vs.Liberty
END:VEVENT
BEGIN:VEVENT
DTSTAMP:20260425T175351Z
UID:360d83c0-89c5-4380-b803-f07de5efe4eb
DTSTART:20260910T183000
DTEND:20260910T210000
DESCRIPTION:
LOCATION:1800 Wilson Pkwy A\, Fayetteville\, TN 37334\, USA
SUMMARY:Football @ Fayetteville City
END:VEVENT
BEGIN:VEVENT
DTSTAMP:20260425T175351Z
UID:46ae3898-0473-48f9-b6b7-59e67ae6475c
DTSTART:20260917T183000
DTEND:20260917T210000
DESCRIPTION:<html><head><meta http-equiv="Content-Type" content="text/html\
 ; charset=utf-8"></head><body><p>Homecoming Game</p></body></html>
LOCATION:3470 US-41A\, Unionville\, TN 37160\, USA
SUMMARY:Football vs. North Franklin
END:VEVENT
BEGIN:VEVENT
DTSTAMP:20260425T175351Z
UID:0f65c60d-993f-47d1-820c-810c8937c37a
DTSTART:20260924T183000
DTEND:20260924T210000
DESCRIPTION:<html><head><meta http-equiv="Content-Type" content="text/html\
 ; charset=utf-8"></head><body><p>8th Grade Night</p></body></html>
LOCATION:3470 US-41A\, Unionville\, TN 37160\, USA
SUMMARY:Football vs. Cascade
END:VEVENT
BEGIN:VEVENT
DTSTAMP:20260425T175351Z
UID:293761bc-7fa8-4940-8e25-9a7c07dfd1b6
DTSTART;VALUE=DATE:20261026
DTEND;VALUE=DATE:20261031
DESCRIPTION:
LOCATION:310 N Horton Pkwy\, Chapel Hill\, TN 37034\, USA
SUMMARY:Basketball @ World Tournament in Forrest
END:VEVENT
BEGIN:VEVENT
DTSTAMP:20260425T175351Z
UID:003c516f-5cba-4b10-9aa0-ced3d1a67a14
DTSTART:20261102T180000
DTEND:20261102T203000
DESCRIPTION:<html><head><meta http-equiv="Content-Type" content="text/html\
 ; charset=utf-8"></head><body><p>JV games:</p><p>Girls 4:00</p><p>Boys 4:4
 5</p></body></html>
LOCATION:3470 US-41A\, Unionville\, TN 37160\, USA
SUMMARY:Basketball vs. Forrest
END:VEVENT
BEGIN:VEVENT
DTSTAMP:20260425T175351Z
UID:04bb66c2-e85a-4edd-9364-0a7fb898d086
DTSTART:20261105T180000
DTEND:20261105T203000
DESCRIPTION:<html><head><meta http-equiv="Content-Type" content="text/html\
 ; charset=utf-8"></head><body><p>JV games:</p><p>Girls 4:00</p><p>Boys 4:4
 5</p></body></html>
LOCATION:1165 Bell Buckle Wartrace Rd\, Wartrace\, TN 37183\, USA
SUMMARY:Basketball @ Cascade
END:VEVENT
BEGIN:VEVENT
DTSTAMP:20260425T175351Z
UID:bb696731-f55f-4978-8bda-3cddb7c953e3
DTSTART:20261112T180000
DTEND:20261112T203000
DESCRIPTION:<html><head><meta http-equiv="Content-Type" content="text/html\
 ; charset=utf-8"></head><body><p>JV games:</p><p>Girls 4:00</p><p>Boys 4:4
 5</p></body></html>
LOCATION:505 Taylor St\, Manchester\, TN 37355\, USA
SUMMARY:Basketball @ Westwood
END:VEVENT
BEGIN:VEVENT
DTSTAMP:20260425T175351Z
UID:d3faa6f7-89c3-4dec-bcf7-7ba4f4260a0f
DTSTART:20261116T180000
DTEND:20261116T203000
DESCRIPTION:<html><head><meta http-equiv="Content-Type" content="text/html\
 ; charset=utf-8"></head><body><p>JV games:</p><p>Girls 4:00</p><p>Boys 4:4
 5</p></body></html>
LOCATION:3470 US-41A\, Unionville\, TN 37160\, USA
SUMMARY:Basketball vs. Lewisburg
END:VEVENT
BEGIN:VEVENT
DTSTAMP:20260425T175351Z
UID:12f1dacc-9bed-42b0-a271-10e4a4875792
DTSTART:20261119T180000
DTEND:20261119T203000
DESCRIPTION:<html><head><meta http-equiv="Content-Type" content="text/html\
 ; charset=utf-8"></head><body><p>JV games:</p><p>Girls 4:00</p><p>Boys 4:4
 5</p></body></html>
LOCATION:310 N Horton Pkwy\, Chapel Hill\, TN 37034\, USA
SUMMARY:Basketball @ Forrest
END:VEVENT
BEGIN:VEVENT
DTSTAMP:20260425T175351Z
UID:7d141818-dde0-403d-9c2e-b5ea8bd3d1d0
DTSTART:20261130T180000
DTEND:20261130T203000
DESCRIPTION:<html><head><meta http-equiv="Content-Type" content="text/html\
 ; charset=utf-8"></head><body><p>JV games:</p><p>Girls 4:00</p><p>Boys 4:4
 5</p></body></html>
LOCATION:3470 US-41A\, Unionville\, TN 37160\, USA
SUMMARY:Basketball vs. Cascade
END:VEVENT
BEGIN:VEVENT
DTSTAMP:20260425T175351Z
UID:437c0401-6352-4ef1-b068-4944d3dbc9cf
DTSTART:20261207T180000
DTEND:20261207T203000
DESCRIPTION:<html><head><meta http-equiv="Content-Type" content="text/html\
 ; charset=utf-8"></head><body><p>JV games:</p><p>Girls 4:00</p><p>Boys 4:4
 5</p></body></html>
LOCATION:3470 US-41A\, Unionville\, TN 37160\, USA
SUMMARY:Basketball vs. Westwood
END:VEVENT
BEGIN:VEVENT
DTSTAMP:20260425T175351Z
UID:d06ed27d-77fe-46d8-aff2-bdca3ed089b9
DTSTART:20261210T180000
DTEND:20261210T203000
DESCRIPTION:<html><head><meta http-equiv="Content-Type" content="text/html\
 ; charset=utf-8"></head><body><p>JV games:</p><p>Girls 4:00</p><p>Boys 4:4
 5</p></body></html>
LOCATION:500 Tiger Blvd\, Lewisburg\, TN 37091\, USA
SUMMARY:Basketball @ Lewisburg
END:VEVENT
BEGIN:VEVENT
DTSTAMP:20260425T175351Z
UID:0b1d2b77-ce75-41c7-b156-68b318f29d1a
DTSTART;VALUE=DATE:20261214
DTEND;VALUE=DATE:20261219
DESCRIPTION:
LOCATION:
SUMMARY:DRVC Tournament @ Community
END:VEVENT
END:VCALENDAR
