BEGIN:VCALENDAR
VERSION:2.0
PRODID:icalendar-ruby
CALSCALE:GREGORIAN
BEGIN:VTIMEZONE
TZID:America/Chicago
BEGIN:DAYLIGHT
DTSTART:20260308T030000
TZOFFSETFROM:-0600
TZOFFSETTO:-0500
RRULE:FREQ=YEARLY;BYDAY=2SU;BYMONTH=3
TZNAME:CDT
END:DAYLIGHT
BEGIN:STANDARD
DTSTART:20261101T010000
TZOFFSETFROM:-0500
TZOFFSETTO:-0600
RRULE:FREQ=YEARLY;BYDAY=1SU;BYMONTH=11
TZNAME:CST
END:STANDARD
END:VTIMEZONE
BEGIN:VEVENT
DTSTAMP:20260421T163246Z
UID:56675278-092d-45f2-9b9f-37dda874e31d
DTSTART;VALUE=DATE:20260420
DTEND;VALUE=DATE:20260425
DESCRIPTION:
LOCATION:
SUMMARY:After School Professionals Appreciation Week 
END:VEVENT
BEGIN:VEVENT
DTSTAMP:20260421T163246Z
UID:ee10c8ca-396b-4500-89a7-5cee1ed65df5
DTSTART:20260421T160000
DTEND:20260421T210000
DESCRIPTION:
LOCATION:
SUMMARY:Baseball @ Community
END:VEVENT
BEGIN:VEVENT
DTSTAMP:20260421T163246Z
UID:59c45373-126e-489c-afbf-c4efc18475d8
DTSTART:20260421T173000
DTEND:20260421T210000
DESCRIPTION:
LOCATION:
SUMMARY:Softball @ Loretto 
END:VEVENT
BEGIN:VEVENT
DTSTAMP:20260421T163246Z
UID:229093bf-15ca-4694-a60a-11838ce63263
DTSTART;VALUE=DATE:20260422
DTEND;VALUE=DATE:20260423
DESCRIPTION:
LOCATION:
SUMMARY:Administrative Professional Appreciation Day
END:VEVENT
BEGIN:VEVENT
DTSTAMP:20260421T163246Z
UID:ec48c842-fc9e-4fab-979b-6c050f3df022
DTSTART;VALUE=DATE:20260422
DTEND;VALUE=DATE:20260423
DESCRIPTION:
LOCATION:
SUMMARY:EOC Testing: ELA Part 1
END:VEVENT
BEGIN:VEVENT
DTSTAMP:20260421T163246Z
UID:54afdbb7-7857-444c-b55f-0dc8ab3c9f4a
DTSTART:20260422T173000
DTEND:20260422T210000
DESCRIPTION:
LOCATION:
SUMMARY:Softball @ Coffee County
END:VEVENT
BEGIN:VEVENT
DTSTAMP:20260421T163246Z
UID:7614f541-12e4-4e24-bc9f-f72ad6cb1aaf
DTSTART:20260424T180000
DTEND:20260424T200000
DESCRIPTION:
LOCATION:3035 Fairfield Pike\, Bell Buckle\, TN 37020\, USA
SUMMARY:Jazz Concert
END:VEVENT
BEGIN:VEVENT
DTSTAMP:20260421T163246Z
UID:d34b76f2-efd8-4022-8c8a-e29e6390fac8
DTSTART;VALUE=DATE:20260427
DTEND;VALUE=DATE:20260428
DESCRIPTION:
LOCATION:
SUMMARY:EOC Testing: ELA Part 2
END:VEVENT
BEGIN:VEVENT
DTSTAMP:20260421T163246Z
UID:ddc05acb-9a96-4dfb-908d-57335d9ef9a5
DTSTART:20260427T180000
DTEND:20260427T210000
DESCRIPTION:
LOCATION:
SUMMARY:Softball vs. Huntland
END:VEVENT
BEGIN:VEVENT
DTSTAMP:20260421T163246Z
UID:777431dd-5c2d-4731-878a-f56063031235
DTSTART;VALUE=DATE:20260428
DTEND;VALUE=DATE:20260429
DESCRIPTION:
LOCATION:
SUMMARY:EOC Testing: ELA Part 3
END:VEVENT
BEGIN:VEVENT
DTSTAMP:20260421T163246Z
UID:d9e8b0f0-c826-4826-b20b-514d00408395
DTSTART:20260428T173000
DTEND:20260428T210000
DESCRIPTION:
LOCATION:
SUMMARY:Softball vs Loretto
END:VEVENT
BEGIN:VEVENT
DTSTAMP:20260421T163246Z
UID:69cf0202-2ec1-44ba-817c-7dd181ec31ce
DTSTART;VALUE=DATE:20260429
DTEND;VALUE=DATE:20260430
DESCRIPTION:
LOCATION:
SUMMARY:SDC Criminal Justice
END:VEVENT
BEGIN:VEVENT
DTSTAMP:20260421T163246Z
UID:335daa1e-b7fe-45af-9a6e-6c73fa7b316c
DTSTART;VALUE=DATE:20260430
DTEND;VALUE=DATE:20260501
DESCRIPTION:
LOCATION:
SUMMARY:EOC Testing: Math Part 1\, US History Part 1
END:VEVENT
BEGIN:VEVENT
DTSTAMP:20260421T163246Z
UID:59c3514b-1ece-470c-ac5b-d37e1b9d8a85
DTSTART:20260430T180000
DTEND:20260430T210000
DESCRIPTION:
LOCATION:
SUMMARY:Softball vs Moore County
END:VEVENT
BEGIN:VEVENT
DTSTAMP:20260421T163246Z
UID:c40fc481-73dc-4a80-82f5-837a77496481
DTSTART;VALUE=DATE:20260501
DTEND;VALUE=DATE:20260502
DESCRIPTION:
LOCATION:
SUMMARY:EOC Testing: Math Part 2\, US History Part 2
END:VEVENT
BEGIN:VEVENT
DTSTAMP:20260421T163246Z
UID:dbc47301-570c-43fe-a432-001f3ba57de7
DTSTART;VALUE=DATE:20260501
DTEND;VALUE=DATE:20260502
DESCRIPTION:
LOCATION:
SUMMARY:National Principal Appreciation Day
END:VEVENT
BEGIN:VEVENT
DTSTAMP:20260421T163246Z
UID:18591aa3-9ee2-4b81-988f-73a82dd7f33e
DTSTART;VALUE=DATE:20260501
DTEND;VALUE=DATE:20260502
DESCRIPTION:
LOCATION:
SUMMARY:School Lunch Hero Day 
END:VEVENT
BEGIN:VEVENT
DTSTAMP:20260421T163246Z
UID:20f85d43-c53f-4acf-b7c4-34f2d7042c64
DTSTART:20260501T113000
DTEND:20260501T124500
DESCRIPTION:
LOCATION:3035 Fairfield Pike\, Bell Buckle\, TN 37020\, USA
SUMMARY:Top 10 Luncheon
END:VEVENT
BEGIN:VEVENT
DTSTAMP:20260421T163246Z
UID:1da0d8db-d17b-4f61-ad4a-b4e8253291f8
DTSTART:20260501T190000
DTEND:20260501T210000
DESCRIPTION:
LOCATION:
SUMMARY:Spring Concert
END:VEVENT
BEGIN:VEVENT
DTSTAMP:20260421T163246Z
UID:72a0719a-fa61-4157-a4ac-8e560a1a8927
DTSTART;VALUE=DATE:20260504
DTEND;VALUE=DATE:20260505
DESCRIPTION:
LOCATION:
SUMMARY:EOC Testing: Math Part 3
END:VEVENT
BEGIN:VEVENT
DTSTAMP:20260421T163246Z
UID:6098a7b1-725b-4c63-94eb-0e6df9070731
DTSTART;VALUE=DATE:20260504
DTEND;VALUE=DATE:20260509
DESCRIPTION:
LOCATION:
SUMMARY:Teacher Appreciation Week 
END:VEVENT
BEGIN:VEVENT
DTSTAMP:20260421T163246Z
UID:c657d985-3e5d-44c3-ab44-22b1ab3478b7
DTSTART;VALUE=DATE:20260505
DTEND;VALUE=DATE:20260506
DESCRIPTION:
LOCATION:
SUMMARY:National Teacher Day
END:VEVENT
BEGIN:VEVENT
DTSTAMP:20260421T163246Z
UID:be6e8ace-9a15-41b2-8330-a8a2fa4f4a32
DTSTART;VALUE=DATE:20260505
DTEND;VALUE=DATE:20260506
DESCRIPTION:
LOCATION:
SUMMARY:Staff Development Day (No School for Students)
END:VEVENT
BEGIN:VEVENT
DTSTAMP:20260421T163246Z
UID:9272b5a7-0ade-46d1-b94f-1697ed615715
DTSTART:20260505T080000
DTEND:20260505T150000
DESCRIPTION:
LOCATION:
SUMMARY:Staff Development/Election Day - No School for Students 
END:VEVENT
BEGIN:VEVENT
DTSTAMP:20260421T163246Z
UID:fbf44ef7-cfaa-43f1-96d6-f6aa964732c2
DTSTART:20260505T083000
DTEND:20260505T140000
DESCRIPTION:
LOCATION:Every Elementary School
SUMMARY:Kindergarten Registration
END:VEVENT
BEGIN:VEVENT
DTSTAMP:20260421T163246Z
UID:21cc2e7e-3b7b-4a15-b898-fcbf20a42583
DTSTART:20260505T083000
DTEND:20260505T160000
DESCRIPTION:
LOCATION:Harris Middle School
SUMMARY:Pre-K Registration
END:VEVENT
BEGIN:VEVENT
DTSTAMP:20260421T163246Z
UID:f4597da4-a4db-4150-babf-57ea69128aef
DTSTART;VALUE=DATE:20260506
DTEND;VALUE=DATE:20260507
DESCRIPTION:
LOCATION:
SUMMARY:EOC Testing: Biology
END:VEVENT
BEGIN:VEVENT
DTSTAMP:20260421T163246Z
UID:bb88238c-077e-4714-aae7-c43ad2dcc3d3
DTSTART;VALUE=DATE:20260506
DTEND;VALUE=DATE:20260507
DESCRIPTION:
LOCATION:
SUMMARY:Interpreter Appreciation Day 
END:VEVENT
BEGIN:VEVENT
DTSTAMP:20260421T163246Z
UID:1c55ad60-aaa8-4caf-8b39-549d69230b20
DTSTART;VALUE=DATE:20260506
DTEND;VALUE=DATE:20260507
DESCRIPTION:
LOCATION:
SUMMARY:School Nurse Appreciation Day
END:VEVENT
BEGIN:VEVENT
DTSTAMP:20260421T163246Z
UID:0b7568e3-a73c-45d4-83fe-793d1a375bb1
DTSTART:20260507T093000
DTEND:20260507T123000
DESCRIPTION:
LOCATION:
SUMMARY:Senior Picture and Honors Day practice
END:VEVENT
BEGIN:VEVENT
DTSTAMP:20260421T163246Z
UID:d79c4ef1-cd59-469c-b6a5-8ca9f0251e0e
DTSTART:20260507T173000
DTEND:20260507T200000
DESCRIPTION:
LOCATION:Board of Education 500 Madison St. Shelbyville\, TN  37160
SUMMARY:Bedford County Board of Education Budget Work Session
END:VEVENT
BEGIN:VEVENT
DTSTAMP:20260421T163246Z
UID:a8c9bcbf-e006-41cb-8c29-42408a183410
DTSTART:20260507T180000
DTEND:20260507T190000
DESCRIPTION:<html><head><meta http-equiv="Content-Type" content="text/html\
 ; charset=utf-8"></head><body><p>This is a FREE event for ALL BCS parents 
 on a wide variety of topics to help your child succeed! See link below for
  more details and monthly topics.<br><a href="https://www.bedfordk12tn.com
 /o/bcs/page/parent-university">https://www.bedfordk12tn.com/o/bcs/page/par
 ent-university</a></p></body></html>
LOCATION:Harris Middle School\, 570 Eagle Blvd\, Shelbyville
SUMMARY:Parent University (Events)
END:VEVENT
BEGIN:VEVENT
DTSTAMP:20260421T163246Z
UID:17e1defc-cfb0-4057-a068-1484d2b85007
DTSTART:20260507T180000
DTEND:20260507T190000
DESCRIPTION:<html><head><meta http-equiv="Content-Type" content="text/html\
 ; charset=utf-8"></head><body><p>This is a FREE event for ALL BCS parents 
 on a wide variety of topics to help your child succeed! See link below for
  more details and monthly topics.<a href="https://www.bedfordk12tn.com/o/b
 cs/page/parent-university">https://www.bedfordk12tn.com/o/bcs/page/parent-
 university</a></p></body></html>
LOCATION:Harris Middle School\, 570 Eagle Blvd\, Shelbyville
SUMMARY:Parent University (Events)
END:VEVENT
BEGIN:VEVENT
DTSTAMP:20260421T163246Z
UID:bb4e7ff7-5681-4f61-89b7-d8b7f201a0d5
DTSTART;VALUE=DATE:20260508
DTEND;VALUE=DATE:20260509
DESCRIPTION:
LOCATION:
SUMMARY:National School Communicators Appreciation Day
END:VEVENT
BEGIN:VEVENT
DTSTAMP:20260421T163246Z
UID:c65f2523-ea6a-459c-9a71-4c52660b541a
DTSTART;VALUE=DATE:20260508
DTEND;VALUE=DATE:20260509
DESCRIPTION:
LOCATION:
SUMMARY:Spring Fling
END:VEVENT
BEGIN:VEVENT
DTSTAMP:20260421T163246Z
UID:1da957cc-cfbb-4500-b136-7596292ef59e
DTSTART:20260509T080000
DTEND:20260509T120000
DESCRIPTION:<html><head><meta http-equiv="Content-Type" content="text/html\
 ; charset=utf-8"></head><body><p>Over 1\,100 people participated at the in
 augural event in May of 2025!</p><p>Get signed up for the 2nd Annual <stro
 ng>Connected Community 5K!</strong> Run or walk and be part of something s
 pecial as we come together to support<strong>Bedford County Schools</stron
 g> and other important community initiatives.</p><p>See what people are sa
 ying: <a href="https://www.facebook.com/BRIDGEBEDFORDTN">https://www.faceb
 ook.com/BRIDGEBEDFORDTN</a></p><p>Every Bedford County School will have a 
 team\, and community teams are welcome too — or you can join as an indiv
 idual. However you choose to participate\, everyone is welcome!</p><p>Bonu
 s: The event will take place Mother’s Day weekend\, giving us the perfec
 t opportunity to celebrate moms in a meaningful way. All mothers will be h
 onored on this day! Make plans to participate with your mom\, or if she’
 s no longer with us\, walk or run in her memory.</p><p>Register here: <a h
 ref="https://runsignup.com/connectedcommunity5k"><strong>https://runsignup
 .com/connectedcommunity5k</strong></a></p></body></html>
LOCATION:
SUMMARY:Connected Community 5K
END:VEVENT
BEGIN:VEVENT
DTSTAMP:20260421T163246Z
UID:1462934b-3306-4318-be0c-c0403448c345
DTSTART:20260510T140000
DTEND:20260510T170000
DESCRIPTION:
LOCATION:
SUMMARY:School Play
END:VEVENT
BEGIN:VEVENT
DTSTAMP:20260421T163246Z
UID:f56d6d2a-f02b-4f8a-b2b3-af13000eeed6
DTSTART;VALUE=DATE:20260511
DTEND;VALUE=DATE:20260512
DESCRIPTION:
LOCATION:
SUMMARY:Honor's Day & Walk the Halls
END:VEVENT
BEGIN:VEVENT
DTSTAMP:20260421T163246Z
UID:26718f3a-8f85-4757-ae1f-0a20b6cdee71
DTSTART;VALUE=DATE:20260512
DTEND;VALUE=DATE:20260513
DESCRIPTION:
LOCATION:
SUMMARY:SDC PreCal
END:VEVENT
BEGIN:VEVENT
DTSTAMP:20260421T163246Z
UID:dae693ef-50e6-4d6b-bc33-ab86a724b60b
DTSTART;VALUE=DATE:20260513
DTEND;VALUE=DATE:20260514
DESCRIPTION:
LOCATION:
SUMMARY:Senior Final Exams (1st and 3rd)
END:VEVENT
BEGIN:VEVENT
DTSTAMP:20260421T163246Z
UID:5f9dfcc1-cda5-4f5b-961b-6b74485cf2a4
DTSTART:20260514T080000
DTEND:20260514T090000
DESCRIPTION:
LOCATION:
SUMMARY:Senior Final Exams (4th and 5th)
END:VEVENT
BEGIN:VEVENT
DTSTAMP:20260421T163246Z
UID:40713cb6-9430-4bf6-a9b1-02e4fe350875
DTSTART:20260515T080000
DTEND:20260515T090000
DESCRIPTION:
LOCATION:
SUMMARY:Graduation Practice for Seniors
END:VEVENT
BEGIN:VEVENT
DTSTAMP:20260421T163246Z
UID:1f4d4ae8-31a9-4d8c-9f2b-45aaba1ac314
DTSTART:20260515T190000
DTEND:20260515T210000
DESCRIPTION:
LOCATION:SCHS Football Field\, 401 Eagle Blvd\, Shelbyville\, TN 37160\, US
 A
SUMMARY:Shelbyville Central High School Graduation
END:VEVENT
BEGIN:VEVENT
DTSTAMP:20260421T163246Z
UID:74076f7d-bbd8-40b2-952c-fe51df7075cb
DTSTART:20260516T100000
DTEND:20260516T113000
DESCRIPTION:<html><head><meta http-equiv="Content-Type" content="text/html\
 ; charset=utf-8"></head><body><p>In case of rain\, the graduation ceremony
  will move from the football field to the Cascade High School gymnasium\, 
 3035 Fairfield Pike\, Bell Buckle\, TN 37020</p></body></html>
LOCATION:Cascade High School Football Field\, 1165 Bell Buckle Wartrace Roa
 d\, Wartrace\, TN 37183
SUMMARY:Cascade High School Graduation
END:VEVENT
BEGIN:VEVENT
DTSTAMP:20260421T163246Z
UID:3d999e80-0efc-402c-8063-a11abc82c40e
DTSTART:20260516T100000
DTEND:20260516T120000
DESCRIPTION:
LOCATION:1165 Bell Buckle Wartrace Rd\, Wartrace\, TN 37183
SUMMARY:Graduation
END:VEVENT
BEGIN:VEVENT
DTSTAMP:20260421T163246Z
UID:1201c0d9-57e5-4585-8084-1185302b9bd8
DTSTART:20260516T190000
DTEND:20260516T203000
DESCRIPTION:
LOCATION:Community High School Football Field\, 3470 Highway 41A\, Unionvil
 le\, TN 37180
SUMMARY:Community High School Graduation
END:VEVENT
BEGIN:VEVENT
DTSTAMP:20260421T163246Z
UID:ab2a34dd-c4cc-4fd5-9da7-fd3d3bae72b1
DTSTART:20260517T150000
DTEND:20260517T163000
DESCRIPTION:
LOCATION:Community High School Football Field\, 3470 Highway 41A\, Unionvil
 le\, TN 37180
SUMMARY:RAIN DATE - Community High School Graduation - RAIN DATE
END:VEVENT
BEGIN:VEVENT
DTSTAMP:20260421T163246Z
UID:ec20e536-a4ff-457b-9690-5820d1e3b795
DTSTART:20260517T190000
DTEND:20260517T210000
DESCRIPTION:
LOCATION:401 Eagle Blvd\, Shelbyville\, TN 37160\, Football Field
SUMMARY:RAIN DATE - Shelbyville Central High School Graduation - RAIN DATE
END:VEVENT
BEGIN:VEVENT
DTSTAMP:20260421T163246Z
UID:e4449457-e386-41c6-bcc8-410fdddb0f60
DTSTART;VALUE=DATE:20260518
DTEND;VALUE=DATE:20260519
DESCRIPTION:
LOCATION:
SUMMARY:Speech Pathologist Appreciation Day
END:VEVENT
BEGIN:VEVENT
DTSTAMP:20260421T163246Z
UID:29a73ddd-5f07-4382-a734-d58bdeb116e7
DTSTART:20260518T083000
DTEND:20260518T090000
DESCRIPTION:
LOCATION:
SUMMARY:Underclassman Awards
END:VEVENT
BEGIN:VEVENT
DTSTAMP:20260421T163246Z
UID:cc2293da-9be0-4297-bb02-72cb3442b40e
DTSTART;VALUE=DATE:20260520
DTEND;VALUE=DATE:20260521
DESCRIPTION:
LOCATION:
SUMMARY:Final Exams (1st and 3rd)
END:VEVENT
BEGIN:VEVENT
DTSTAMP:20260421T163246Z
UID:3d72b3ef-52ba-49e5-8960-ece5f28dc2b2
DTSTART;VALUE=DATE:20260521
DTEND;VALUE=DATE:20260522
DESCRIPTION:
LOCATION:
SUMMARY:Final Exams (4th and 5th)
END:VEVENT
BEGIN:VEVENT
DTSTAMP:20260421T163246Z
UID:8c9980c8-942e-4437-9b84-8cc98d0727fb
DTSTART:20260521T180000
DTEND:20260521T200000
DESCRIPTION:<html><head><meta http-equiv="Content-Type" content="text/html\
 ; charset=utf-8"></head><body><p>Individuals who wish to appear before the
  Board should consult Board policy 1.404 Appeals to and Appearances Before
  the Board.<a href="https://bedfordcountyschoolstn.sites.thrillshare.com/d
 ocuments/26253258">See link to board policy</a>.</p></body></html>
LOCATION:Harris Middle School Library 570 Eagle Blvd.\, Shelbyville\, TN  3
 7160
SUMMARY:Board of Education Regular Monthly Meeting (Events)
END:VEVENT
BEGIN:VEVENT
DTSTAMP:20260421T163246Z
UID:e3df887e-0057-4e99-8a6a-4c44f82aa891
DTSTART;VALUE=DATE:20260522
DTEND;VALUE=DATE:20260523
DESCRIPTION:
LOCATION:
SUMMARY:1/2 Day of School
END:VEVENT
BEGIN:VEVENT
DTSTAMP:20260421T163246Z
UID:948920a5-b0d2-4267-95e2-33a8c4238c66
DTSTART:20260522T080000
DTEND:20260522T150000
DESCRIPTION:
LOCATION:
SUMMARY:Abbreviated Day/Report Cards
END:VEVENT
BEGIN:VEVENT
DTSTAMP:20260421T163246Z
UID:d6fe6e31-5463-416d-a78c-b6f649515225
DTSTART:20260525T080000
DTEND:20260525T150000
DESCRIPTION:
LOCATION:
SUMMARY:Memorial Day - No School 
END:VEVENT
BEGIN:VEVENT
DTSTAMP:20260421T163246Z
UID:83e86c52-9f87-4bf4-9405-1946307914bd
DTSTART:20260526T080000
DTEND:20260526T150000
DESCRIPTION:
LOCATION:
SUMMARY:Administrative Day - No School
END:VEVENT
BEGIN:VEVENT
DTSTAMP:20260421T163246Z
UID:d23ac8bc-9302-4f28-a022-6b19935244ec
DTSTART:20260618T180000
DTEND:20260618T190000
DESCRIPTION:<html><head><meta http-equiv="Content-Type" content="text/html\
 ; charset=utf-8"></head><body><p>Individuals who wish to appear before the
  Board should consult Board policy 1.404 Appeals to and Appearances Before
  the Board.<a href="https://bedfordcountyschoolstn.sites.thrillshare.com/d
 ocuments/26253258">See link to board policy</a>.</p></body></html>
LOCATION:Board of Education Central Office\n500 Madison St.\nShelbyville\, 
 TN  37160
SUMMARY:Board of Education Regular Monthly Meeting (Events)
END:VEVENT
BEGIN:VEVENT
DTSTAMP:20260421T163246Z
UID:beffc8ef-f156-46dc-861b-ebd5f8fe5cc2
DTSTART:20260721T080000
DTEND:20260721T120000
DESCRIPTION:
LOCATION:All Schools Across the County
SUMMARY:New Student Registration
END:VEVENT
BEGIN:VEVENT
DTSTAMP:20260421T163246Z
UID:7d836371-2f41-414c-8014-e3488469573f
DTSTART:20260721T080000
DTEND:20260721T120000
DESCRIPTION:
LOCATION:All Schools Across the County
SUMMARY:New Student Registration
END:VEVENT
BEGIN:VEVENT
DTSTAMP:20260421T163246Z
UID:a2b69397-97c6-4ecb-9963-acc49c2e9e37
DTSTART;VALUE=DATE:20260803
DTEND;VALUE=DATE:20260804
DESCRIPTION:
LOCATION:
SUMMARY:Welcome Back to School! Abbreviated Day
END:VEVENT
END:VCALENDAR
